Report for Catalyst-Controller-FormBuilder-0.06

Back
From: metabase:user:320bfe00-2aae-11df-837a-5e0a49663a4f
Subject: PASS Catalyst-Controller-FormBuilder-0.06 v5.8.7 GNU/Linux
Date: 2011-01-26T15:41:08Z

This distribution has been tested as part of the CPAN Testers
project, supporting the Perl programming language.  See
http://wiki.cpantesters.org/ for more information or email
questions to cpan-testers-discuss@perl.org


--
Dear Matt S Trout,

This is a computer-generated report for Catalyst-Controller-FormBuilder-0.06
on perl 5.8.7, created by CPAN-Reporter-1.1901.

Thank you for uploading your work to CPAN.  Congratulations!
All tests were successful.

Sections of this report:

    * Tester comments
    * Program output
    * Prerequisites
    * Environment and other context

------------------------------
TESTER COMMENTS
------------------------------

Additional comments from tester:

this report is from an automated smoke testing program
and was not reviewed by a human for accuracy

------------------------------
PROGRAM OUTPUT
------------------------------

Output from '/usr/bin/make test':

PERL_DL_NONLAZY=1 /usr/local/perl-5.8.7-threaded/bin/perl "-MExtUtils::Command::MM" "-e" "test_harness(0, 'inc', 'blib/lib', 'blib/arch')" t/00-load.t t/01-basic.t t/02-edit.t t/03-attr_param.t
Subroutine Moose::Exporter::_flag_as_reexport redefined at /usr/local/perl-5.8.7-threaded/lib/5.8.7/x86_64-linux-thread-multi-ld/XSLoader.pm line 31.
Subroutine Moose::Exporter::_export_is_flagged redefined at /usr/local/perl-5.8.7-threaded/lib/5.8.7/x86_64-linux-thread-multi-ld/XSLoader.pm line 31.
Subroutine Class::MOP::get_code_info redefined at /usr/local/perl-5.8.7-threaded/lib/5.8.7/x86_64-linux-thread-multi-ld/XSLoader.pm line 31.
Subroutine Class::MOP::is_class_loaded redefined at /usr/local/perl-5.8.7-threaded/lib/5.8.7/x86_64-linux-thread-multi-ld/XSLoader.pm line 31.
Subroutine Class::MOP::Mixin::HasAttributes::attribute_metaclass redefined at /usr/local/perl-5.8.7-threaded/lib/5.8.7/x86_64-linux-thread-multi-ld/XSLoader.pm line 31.
Subroutine Class::MOP::Mixin::HasAttributes::_attribute_map redefined at /usr/local/perl-5.8.7-threaded/lib/5.8.7/x86_64-linux-thread-multi-ld/XSLoader.pm line 31.
Subroutine Class::MOP::Mixin::HasMethods::_method_map redefined at /usr/local/perl-5.8.7-threaded/lib/5.8.7/x86_64-linux-thread-multi-ld/XSLoader.pm line 31.
Subroutine Class::MOP::Mixin::HasMethods::method_metaclass redefined at /usr/local/perl-5.8.7-threaded/lib/5.8.7/x86_64-linux-thread-multi-ld/XSLoader.pm line 31.
Subroutine Class::MOP::Mixin::HasMethods::wrapped_method_metaclass redefined at /usr/local/perl-5.8.7-threaded/lib/5.8.7/x86_64-linux-thread-multi-ld/XSLoader.pm line 31.
Subroutine Class::MOP::Package::name redefined at /usr/local/perl-5.8.7-threaded/lib/5.8.7/x86_64-linux-thread-multi-ld/XSLoader.pm line 31.
Subroutine Class::MOP::Mixin::AttributeCore::name redefined at /usr/local/perl-5.8.7-threaded/lib/5.8.7/x86_64-linux-thread-multi-ld/XSLoader.pm line 31.
Subroutine Class::MOP::Mixin::AttributeCore::accessor redefined at /usr/local/perl-5.8.7-threaded/lib/5.8.7/x86_64-linux-thread-multi-ld/XSLoader.pm line 31.
Subroutine Class::MOP::Mixin::AttributeCore::reader redefined at /usr/local/perl-5.8.7-threaded/lib/5.8.7/x86_64-linux-thread-multi-ld/XSLoader.pm line 31.
Subroutine Class::MOP::Mixin::AttributeCore::writer redefined at /usr/local/perl-5.8.7-threaded/lib/5.8.7/x86_64-linux-thread-multi-ld/XSLoader.pm line 31.
Subroutine Class::MOP::Mixin::AttributeCore::predicate redefined at /usr/local/perl-5.8.7-threaded/lib/5.8.7/x86_64-linux-thread-multi-ld/XSLoader.pm line 31.
Subroutine Class::MOP::Mixin::AttributeCore::clearer redefined at /usr/local/perl-5.8.7-threaded/lib/5.8.7/x86_64-linux-thread-multi-ld/XSLoader.pm line 31.
Subroutine Class::MOP::Mixin::AttributeCore::builder redefined at /usr/local/perl-5.8.7-threaded/lib/5.8.7/x86_64-linux-thread-multi-ld/XSLoader.pm line 31.
Subroutine Class::MOP::Mixin::AttributeCore::init_arg redefined at /usr/local/perl-5.8.7-threaded/lib/5.8.7/x86_64-linux-thread-multi-ld/XSLoader.pm line 31.
Subroutine Class::MOP::Mixin::AttributeCore::initializer redefined at /usr/local/perl-5.8.7-threaded/lib/5.8.7/x86_64-linux-thread-multi-ld/XSLoader.pm line 31.
Subroutine Class::MOP::Mixin::AttributeCore::definition_context redefined at /usr/local/perl-5.8.7-threaded/lib/5.8.7/x86_64-linux-thread-multi-ld/XSLoader.pm line 31.
Subroutine Class::MOP::Mixin::AttributeCore::insertion_order redefined at /usr/local/perl-5.8.7-threaded/lib/5.8.7/x86_64-linux-thread-multi-ld/XSLoader.pm line 31.
Subroutine Class::MOP::Method::name redefined at /usr/local/perl-5.8.7-threaded/lib/5.8.7/x86_64-linux-thread-multi-ld/XSLoader.pm line 31.
Subroutine Class::MOP::Method::package_name redefined at /usr/local/perl-5.8.7-threaded/lib/5.8.7/x86_64-linux-thread-multi-ld/XSLoader.pm line 31.
Subroutine Class::MOP::Method::body redefined at /usr/local/perl-5.8.7-threaded/lib/5.8.7/x86_64-linux-thread-multi-ld/XSLoader.pm line 31.
Subroutine Class::MOP::Method::Inlined::_expected_method_class redefined at /usr/local/perl-5.8.7-threaded/lib/5.8.7/x86_64-linux-thread-multi-ld/XSLoader.pm line 31.
Subroutine Class::MOP::Method::Generated::is_inline redefined at /usr/local/perl-5.8.7-threaded/lib/5.8.7/x86_64-linux-thread-multi-ld/XSLoader.pm line 31.
Subroutine Class::MOP::Method::Generated::definition_context redefined at /usr/local/perl-5.8.7-threaded/lib/5.8.7/x86_64-linux-thread-multi-ld/XSLoader.pm line 31.
Subroutine Class::MOP::Class::instance_metaclass redefined at /usr/local/perl-5.8.7-threaded/lib/5.8.7/x86_64-linux-thread-multi-ld/XSLoader.pm line 31.
Subroutine Class::MOP::Class::immutable_trait redefined at /usr/local/perl-5.8.7-threaded/lib/5.8.7/x86_64-linux-thread-multi-ld/XSLoader.pm line 31.
Subroutine Class::MOP::Class::constructor_class redefined at /usr/local/perl-5.8.7-threaded/lib/5.8.7/x86_64-linux-thread-multi-ld/XSLoader.pm line 31.
Subroutine Class::MOP::Class::constructor_name redefined at /usr/local/perl-5.8.7-threaded/lib/5.8.7/x86_64-linux-thread-multi-ld/XSLoader.pm line 31.
Subroutine Class::MOP::Class::destructor_class redefined at /usr/local/perl-5.8.7-threaded/lib/5.8.7/x86_64-linux-thread-multi-ld/XSLoader.pm line 31.
Subroutine Class::MOP::Attribute::associated_class redefined at /usr/local/perl-5.8.7-threaded/lib/5.8.7/x86_64-linux-thread-multi-ld/XSLoader.pm line 31.
Subroutine Class::MOP::Attribute::associated_methods redefined at /usr/local/perl-5.8.7-threaded/lib/5.8.7/x86_64-linux-thread-multi-ld/XSLoader.pm line 31.
Subroutine Class::MOP::Instance::associated_metaclass redefined at /usr/local/perl-5.8.7-threaded/lib/5.8.7/x86_64-linux-thread-multi-ld/XSLoader.pm line 31.
# Testing Catalyst::Controller::FormBuilder 0.06
t/00-load.t ........ ok
Subroutine Moose::Exporter::_flag_as_reexport redefined at /usr/local/perl-5.8.7-threaded/lib/5.8.7/x86_64-linux-thread-multi-ld/XSLoader.pm line 31.
Subroutine Moose::Exporter::_export_is_flagged redefined at /usr/local/perl-5.8.7-threaded/lib/5.8.7/x86_64-linux-thread-multi-ld/XSLoader.pm line 31.
Subroutine Class::MOP::get_code_info redefined at /usr/local/perl-5.8.7-threaded/lib/5.8.7/x86_64-linux-thread-multi-ld/XSLoader.pm line 31.
Subroutine Class::MOP::is_class_loaded redefined at /usr/local/perl-5.8.7-threaded/lib/5.8.7/x86_64-linux-thread-multi-ld/XSLoader.pm line 31.
Subroutine Class::MOP::Mixin::HasAttributes::attribute_metaclass redefined at /usr/local/perl-5.8.7-threaded/lib/5.8.7/x86_64-linux-thread-multi-ld/XSLoader.pm line 31.
Subroutine Class::MOP::Mixin::HasAttributes::_attribute_map redefined at /usr/local/perl-5.8.7-threaded/lib/5.8.7/x86_64-linux-thread-multi-ld/XSLoader.pm line 31.
Subroutine Class::MOP::Mixin::HasMethods::_method_map redefined at /usr/local/perl-5.8.7-threaded/lib/5.8.7/x86_64-linux-thread-multi-ld/XSLoader.pm line 31.
Subroutine Class::MOP::Mixin::HasMethods::method_metaclass redefined at /usr/local/perl-5.8.7-threaded/lib/5.8.7/x86_64-linux-thread-multi-ld/XSLoader.pm line 31.
Subroutine Class::MOP::Mixin::HasMethods::wrapped_method_metaclass redefined at /usr/local/perl-5.8.7-threaded/lib/5.8.7/x86_64-linux-thread-multi-ld/XSLoader.pm line 31.
Subroutine Class::MOP::Package::name redefined at /usr/local/perl-5.8.7-threaded/lib/5.8.7/x86_64-linux-thread-multi-ld/XSLoader.pm line 31.
Subroutine Class::MOP::Mixin::AttributeCore::name redefined at /usr/local/perl-5.8.7-threaded/lib/5.8.7/x86_64-linux-thread-multi-ld/XSLoader.pm line 31.
Subroutine Class::MOP::Mixin::AttributeCore::accessor redefined at /usr/local/perl-5.8.7-threaded/lib/5.8.7/x86_64-linux-thread-multi-ld/XSLoader.pm line 31.
Subroutine Class::MOP::Mixin::AttributeCore::reader redefined at /usr/local/perl-5.8.7-threaded/lib/5.8.7/x86_64-linux-thread-multi-ld/XSLoader.pm line 31.
Subroutine Class::MOP::Mixin::AttributeCore::writer redefined at /usr/local/perl-5.8.7-threaded/lib/5.8.7/x86_64-linux-thread-multi-ld/XSLoader.pm line 31.
Subroutine Class::MOP::Mixin::AttributeCore::predicate redefined at /usr/local/perl-5.8.7-threaded/lib/5.8.7/x86_64-linux-thread-multi-ld/XSLoader.pm line 31.
Subroutine Class::MOP::Mixin::AttributeCore::clearer redefined at /usr/local/perl-5.8.7-threaded/lib/5.8.7/x86_64-linux-thread-multi-ld/XSLoader.pm line 31.
Subroutine Class::MOP::Mixin::AttributeCore::builder redefined at /usr/local/perl-5.8.7-threaded/lib/5.8.7/x86_64-linux-thread-multi-ld/XSLoader.pm line 31.
Subroutine Class::MOP::Mixin::AttributeCore::init_arg redefined at /usr/local/perl-5.8.7-threaded/lib/5.8.7/x86_64-linux-thread-multi-ld/XSLoader.pm line 31.
Subroutine Class::MOP::Mixin::AttributeCore::initializer redefined at /usr/local/perl-5.8.7-threaded/lib/5.8.7/x86_64-linux-thread-multi-ld/XSLoader.pm line 31.
Subroutine Class::MOP::Mixin::AttributeCore::definition_context redefined at /usr/local/perl-5.8.7-threaded/lib/5.8.7/x86_64-linux-thread-multi-ld/XSLoader.pm line 31.
Subroutine Class::MOP::Mixin::AttributeCore::insertion_order redefined at /usr/local/perl-5.8.7-threaded/lib/5.8.7/x86_64-linux-thread-multi-ld/XSLoader.pm line 31.
Subroutine Class::MOP::Method::name redefined at /usr/local/perl-5.8.7-threaded/lib/5.8.7/x86_64-linux-thread-multi-ld/XSLoader.pm line 31.
Subroutine Class::MOP::Method::package_name redefined at /usr/local/perl-5.8.7-threaded/lib/5.8.7/x86_64-linux-thread-multi-ld/XSLoader.pm line 31.
Subroutine Class::MOP::Method::body redefined at /usr/local/perl-5.8.7-threaded/lib/5.8.7/x86_64-linux-thread-multi-ld/XSLoader.pm line 31.
Subroutine Class::MOP::Method::Inlined::_expected_method_class redefined at /usr/local/perl-5.8.7-threaded/lib/5.8.7/x86_64-linux-thread-multi-ld/XSLoader.pm line 31.
Subroutine Class::MOP::Method::Generated::is_inline redefined at /usr/local/perl-5.8.7-threaded/lib/5.8.7/x86_64-linux-thread-multi-ld/XSLoader.pm line 31.
Subroutine Class::MOP::Method::Generated::definition_context redefined at /usr/local/perl-5.8.7-threaded/lib/5.8.7/x86_64-linux-thread-multi-ld/XSLoader.pm line 31.
Subroutine Class::MOP::Class::instance_metaclass redefined at /usr/local/perl-5.8.7-threaded/lib/5.8.7/x86_64-linux-thread-multi-ld/XSLoader.pm line 31.
Subroutine Class::MOP::Class::immutable_trait redefined at /usr/local/perl-5.8.7-threaded/lib/5.8.7/x86_64-linux-thread-multi-ld/XSLoader.pm line 31.
Subroutine Class::MOP::Class::constructor_class redefined at /usr/local/perl-5.8.7-threaded/lib/5.8.7/x86_64-linux-thread-multi-ld/XSLoader.pm line 31.
Subroutine Class::MOP::Class::constructor_name redefined at /usr/local/perl-5.8.7-threaded/lib/5.8.7/x86_64-linux-thread-multi-ld/XSLoader.pm line 31.
Subroutine Class::MOP::Class::destructor_class redefined at /usr/local/perl-5.8.7-threaded/lib/5.8.7/x86_64-linux-thread-multi-ld/XSLoader.pm line 31.
Subroutine Class::MOP::Attribute::associated_class redefined at /usr/local/perl-5.8.7-threaded/lib/5.8.7/x86_64-linux-thread-multi-ld/XSLoader.pm line 31.
Subroutine Class::MOP::Attribute::associated_methods redefined at /usr/local/perl-5.8.7-threaded/lib/5.8.7/x86_64-linux-thread-multi-ld/XSLoader.pm line 31.
Subroutine Class::MOP::Instance::associated_metaclass redefined at /usr/local/perl-5.8.7-threaded/lib/5.8.7/x86_64-linux-thread-multi-ld/XSLoader.pm line 31.
Use of uninitialized value in concatenation (.) or string at /usr/local/perl-5.8.7-threaded/lib/site_perl/5.8.7/Catalyst/Action.pm line 38.
Use of uninitialized value in concatenation (.) or string at /usr/local/perl-5.8.7-threaded/lib/site_perl/5.8.7/Catalyst/Action.pm line 38.
Use of uninitialized value in concatenation (.) or string at /usr/local/perl-5.8.7-threaded/lib/site_perl/5.8.7/Catalyst/Action.pm line 38.
Use of uninitialized value in concatenation (.) or string at /usr/local/perl-5.8.7-threaded/lib/site_perl/5.8.7/Catalyst/Action.pm line 38.
Use of uninitialized value in concatenation (.) or string at /usr/local/perl-5.8.7-threaded/lib/site_perl/5.8.7/Catalyst/Action.pm line 38.
Use of uninitialized value in concatenation (.) or string at /usr/local/perl-5.8.7-threaded/lib/site_perl/5.8.7/Catalyst/Action.pm line 38.
Use of uninitialized value in concatenation (.) or string at /usr/local/perl-5.8.7-threaded/lib/site_perl/5.8.7/Catalyst/Action.pm line 38.
Use of uninitialized value in concatenation (.) or string at /usr/local/perl-5.8.7-threaded/lib/site_perl/5.8.7/Catalyst/Action.pm line 38.
Use of uninitialized value in concatenation (.) or string at /usr/local/perl-5.8.7-threaded/lib/site_perl/5.8.7/Catalyst/Action.pm line 38.
Use of uninitialized value in concatenation (.) or string at /usr/local/perl-5.8.7-threaded/lib/site_perl/5.8.7/Catalyst/Action.pm line 38.
Use of uninitialized value in concatenation (.) or string at /usr/local/perl-5.8.7-threaded/lib/site_perl/5.8.7/Catalyst/Action.pm line 38.
Use of uninitialized value in concatenation (.) or string at /usr/local/perl-5.8.7-threaded/lib/site_perl/5.8.7/Catalyst/Action.pm line 38.
Use of uninitialized value in concatenation (.) or string at /usr/local/perl-5.8.7-threaded/lib/site_perl/5.8.7/Catalyst/Action.pm line 38.
Use of uninitialized value in concatenation (.) or string at /usr/local/perl-5.8.7-threaded/lib/site_perl/5.8.7/Catalyst/Action.pm line 38.
Use of uninitialized value in concatenation (.) or string at /usr/local/perl-5.8.7-threaded/lib/site_perl/5.8.7/Catalyst/Action.pm line 38.
Use of uninitialized value in concatenation (.) or string at /usr/local/perl-5.8.7-threaded/lib/site_perl/5.8.7/Catalyst/Action.pm line 38.
Use of uninitialized value in concatenation (.) or string at /usr/local/perl-5.8.7-threaded/lib/site_perl/5.8.7/Catalyst/Action.pm line 38.
Use of uninitialized value in concatenation (.) or string at /usr/local/perl-5.8.7-threaded/lib/site_perl/5.8.7/Catalyst/Action.pm line 38.
Use of uninitialized value in concatenation (.) or string at /usr/local/perl-5.8.7-threaded/lib/site_perl/5.8.7/Catalyst/Action.pm line 38.
Use of uninitialized value in subroutine entry at /usr/local/perl-5.8.7-threaded/lib/site_perl/5.8.7/Catalyst/Request.pm line 123.
Use of uninitialized value in gethostbyaddr at /usr/local/perl-5.8.7-threaded/lib/site_perl/5.8.7/Catalyst/Request.pm line 123.
Use of uninitialized value in concatenation (.) or string at /usr/local/perl-5.8.7-threaded/lib/site_perl/5.8.7/Catalyst/Action.pm line 38.
t/01-basic.t ....... ok
Subroutine Moose::Exporter::_flag_as_reexport redefined at /usr/local/perl-5.8.7-threaded/lib/5.8.7/x86_64-linux-thread-multi-ld/XSLoader.pm line 31.
Subroutine Moose::Exporter::_export_is_flagged redefined at /usr/local/perl-5.8.7-threaded/lib/5.8.7/x86_64-linux-thread-multi-ld/XSLoader.pm line 31.
Subroutine Class::MOP::get_code_info redefined at /usr/local/perl-5.8.7-threaded/lib/5.8.7/x86_64-linux-thread-multi-ld/XSLoader.pm line 31.
Subroutine Class::MOP::is_class_loaded redefined at /usr/local/perl-5.8.7-threaded/lib/5.8.7/x86_64-linux-thread-multi-ld/XSLoader.pm line 31.
Subroutine Class::MOP::Mixin::HasAttributes::attribute_metaclass redefined at /usr/local/perl-5.8.7-threaded/lib/5.8.7/x86_64-linux-thread-multi-ld/XSLoader.pm line 31.
Subroutine Class::MOP::Mixin::HasAttributes::_attribute_map redefined at /usr/local/perl-5.8.7-threaded/lib/5.8.7/x86_64-linux-thread-multi-ld/XSLoader.pm line 31.
Subroutine Class::MOP::Mixin::HasMethods::_method_map redefined at /usr/local/perl-5.8.7-threaded/lib/5.8.7/x86_64-linux-thread-multi-ld/XSLoader.pm line 31.
Subroutine Class::MOP::Mixin::HasMethods::method_metaclass redefined at /usr/local/perl-5.8.7-threaded/lib/5.8.7/x86_64-linux-thread-multi-ld/XSLoader.pm line 31.
Subroutine Class::MOP::Mixin::HasMethods::wrapped_method_metaclass redefined at /usr/local/perl-5.8.7-threaded/lib/5.8.7/x86_64-linux-thread-multi-ld/XSLoader.pm line 31.
Subroutine Class::MOP::Package::name redefined at /usr/local/perl-5.8.7-threaded/lib/5.8.7/x86_64-linux-thread-multi-ld/XSLoader.pm line 31.
Subroutine Class::MOP::Mixin::AttributeCore::name redefined at /usr/local/perl-5.8.7-threaded/lib/5.8.7/x86_64-linux-thread-multi-ld/XSLoader.pm line 31.
Subroutine Class::MOP::Mixin::AttributeCore::accessor redefined at /usr/local/perl-5.8.7-threaded/lib/5.8.7/x86_64-linux-thread-multi-ld/XSLoader.pm line 31.
Subroutine Class::MOP::Mixin::AttributeCore::reader redefined at /usr/local/perl-5.8.7-threaded/lib/5.8.7/x86_64-linux-thread-multi-ld/XSLoader.pm line 31.
Subroutine Class::MOP::Mixin::AttributeCore::writer redefined at /usr/local/perl-5.8.7-threaded/lib/5.8.7/x86_64-linux-thread-multi-ld/XSLoader.pm line 31.
Subroutine Class::MOP::Mixin::AttributeCore::predicate redefined at /usr/local/perl-5.8.7-threaded/lib/5.8.7/x86_64-linux-thread-multi-ld/XSLoader.pm line 31.
Subroutine Class::MOP::Mixin::AttributeCore::clearer redefined at /usr/local/perl-5.8.7-threaded/lib/5.8.7/x86_64-linux-thread-multi-ld/XSLoader.pm line 31.
Subroutine Class::MOP::Mixin::AttributeCore::builder redefined at /usr/local/perl-5.8.7-threaded/lib/5.8.7/x86_64-linux-thread-multi-ld/XSLoader.pm line 31.
Subroutine Class::MOP::Mixin::AttributeCore::init_arg redefined at /usr/local/perl-5.8.7-threaded/lib/5.8.7/x86_64-linux-thread-multi-ld/XSLoader.pm line 31.
Subroutine Class::MOP::Mixin::AttributeCore::initializer redefined at /usr/local/perl-5.8.7-threaded/lib/5.8.7/x86_64-linux-thread-multi-ld/XSLoader.pm line 31.
Subroutine Class::MOP::Mixin::AttributeCore::definition_context redefined at /usr/local/perl-5.8.7-threaded/lib/5.8.7/x86_64-linux-thread-multi-ld/XSLoader.pm line 31.
Subroutine Class::MOP::Mixin::AttributeCore::insertion_order redefined at /usr/local/perl-5.8.7-threaded/lib/5.8.7/x86_64-linux-thread-multi-ld/XSLoader.pm line 31.
Subroutine Class::MOP::Method::name redefined at /usr/local/perl-5.8.7-threaded/lib/5.8.7/x86_64-linux-thread-multi-ld/XSLoader.pm line 31.
Subroutine Class::MOP::Method::package_name redefined at /usr/local/perl-5.8.7-threaded/lib/5.8.7/x86_64-linux-thread-multi-ld/XSLoader.pm line 31.
Subroutine Class::MOP::Method::body redefined at /usr/local/perl-5.8.7-threaded/lib/5.8.7/x86_64-linux-thread-multi-ld/XSLoader.pm line 31.
Subroutine Class::MOP::Method::Inlined::_expected_method_class redefined at /usr/local/perl-5.8.7-threaded/lib/5.8.7/x86_64-linux-thread-multi-ld/XSLoader.pm line 31.
Subroutine Class::MOP::Method::Generated::is_inline redefined at /usr/local/perl-5.8.7-threaded/lib/5.8.7/x86_64-linux-thread-multi-ld/XSLoader.pm line 31.
Subroutine Class::MOP::Method::Generated::definition_context redefined at /usr/local/perl-5.8.7-threaded/lib/5.8.7/x86_64-linux-thread-multi-ld/XSLoader.pm line 31.
Subroutine Class::MOP::Class::instance_metaclass redefined at /usr/local/perl-5.8.7-threaded/lib/5.8.7/x86_64-linux-thread-multi-ld/XSLoader.pm line 31.
Subroutine Class::MOP::Class::immutable_trait redefined at /usr/local/perl-5.8.7-threaded/lib/5.8.7/x86_64-linux-thread-multi-ld/XSLoader.pm line 31.
Subroutine Class::MOP::Class::constructor_class redefined at /usr/local/perl-5.8.7-threaded/lib/5.8.7/x86_64-linux-thread-multi-ld/XSLoader.pm line 31.
Subroutine Class::MOP::Class::constructor_name redefined at /usr/local/perl-5.8.7-threaded/lib/5.8.7/x86_64-linux-thread-multi-ld/XSLoader.pm line 31.
Subroutine Class::MOP::Class::destructor_class redefined at /usr/local/perl-5.8.7-threaded/lib/5.8.7/x86_64-linux-thread-multi-ld/XSLoader.pm line 31.
Subroutine Class::MOP::Attribute::associated_class redefined at /usr/local/perl-5.8.7-threaded/lib/5.8.7/x86_64-linux-thread-multi-ld/XSLoader.pm line 31.
Subroutine Class::MOP::Attribute::associated_methods redefined at /usr/local/perl-5.8.7-threaded/lib/5.8.7/x86_64-linux-thread-multi-ld/XSLoader.pm line 31.
Subroutine Class::MOP::Instance::associated_metaclass redefined at /usr/local/perl-5.8.7-threaded/lib/5.8.7/x86_64-linux-thread-multi-ld/XSLoader.pm line 31.
Use of uninitialized value in concatenation (.) or string at /usr/local/perl-5.8.7-threaded/lib/site_perl/5.8.7/Catalyst/Action.pm line 38.
Use of uninitialized value in concatenation (.) or string at /usr/local/perl-5.8.7-threaded/lib/site_perl/5.8.7/Catalyst/Action.pm line 38.
Use of uninitialized value in concatenation (.) or string at /usr/local/perl-5.8.7-threaded/lib/site_perl/5.8.7/Catalyst/Action.pm line 38.
Use of uninitialized value in concatenation (.) or string at /usr/local/perl-5.8.7-threaded/lib/site_perl/5.8.7/Catalyst/Action.pm line 38.
Use of uninitialized value in concatenation (.) or string at /usr/local/perl-5.8.7-threaded/lib/site_perl/5.8.7/Catalyst/Action.pm line 38.
Use of uninitialized value in concatenation (.) or string at /usr/local/perl-5.8.7-threaded/lib/site_perl/5.8.7/Catalyst/Action.pm line 38.
Use of uninitialized value in concatenation (.) or string at /usr/local/perl-5.8.7-threaded/lib/site_perl/5.8.7/Catalyst/Action.pm line 38.
Use of uninitialized value in concatenation (.) or string at /usr/local/perl-5.8.7-threaded/lib/site_perl/5.8.7/Catalyst/Action.pm line 38.
Use of uninitialized value in concatenation (.) or string at /usr/local/perl-5.8.7-threaded/lib/site_perl/5.8.7/Catalyst/Action.pm line 38.
Use of uninitialized value in concatenation (.) or string at /usr/local/perl-5.8.7-threaded/lib/site_perl/5.8.7/Catalyst/Action.pm line 38.
Use of uninitialized value in concatenation (.) or string at /usr/local/perl-5.8.7-threaded/lib/site_perl/5.8.7/Catalyst/Action.pm line 38.
Use of uninitialized value in concatenation (.) or string at /usr/local/perl-5.8.7-threaded/lib/site_perl/5.8.7/Catalyst/Action.pm line 38.
Use of uninitialized value in concatenation (.) or string at /usr/local/perl-5.8.7-threaded/lib/site_perl/5.8.7/Catalyst/Action.pm line 38.
Use of uninitialized value in concatenation (.) or string at /usr/local/perl-5.8.7-threaded/lib/site_perl/5.8.7/Catalyst/Action.pm line 38.
Use of uninitialized value in concatenation (.) or string at /usr/local/perl-5.8.7-threaded/lib/site_perl/5.8.7/Catalyst/Action.pm line 38.
Use of uninitialized value in concatenation (.) or string at /usr/local/perl-5.8.7-threaded/lib/site_perl/5.8.7/Catalyst/Action.pm line 38.
Use of uninitialized value in concatenation (.) or string at /usr/local/perl-5.8.7-threaded/lib/site_perl/5.8.7/Catalyst/Action.pm line 38.
Use of uninitialized value in concatenation (.) or string at /usr/local/perl-5.8.7-threaded/lib/site_perl/5.8.7/Catalyst/Action.pm line 38.
Use of uninitialized value in concatenation (.) or string at /usr/local/perl-5.8.7-threaded/lib/site_perl/5.8.7/Catalyst/Action.pm line 38.
Use of uninitialized value in subroutine entry at /usr/local/perl-5.8.7-threaded/lib/site_perl/5.8.7/Catalyst/Request.pm line 123.
Use of uninitialized value in gethostbyaddr at /usr/local/perl-5.8.7-threaded/lib/site_perl/5.8.7/Catalyst/Request.pm line 123.
Use of uninitialized value in concatenation (.) or string at /usr/local/perl-5.8.7-threaded/lib/site_perl/5.8.7/Catalyst/Action.pm line 38.
Use of uninitialized value in subroutine entry at /usr/local/perl-5.8.7-threaded/lib/site_perl/5.8.7/Catalyst/Request.pm line 123.
Use of uninitialized value in gethostbyaddr at /usr/local/perl-5.8.7-threaded/lib/site_perl/5.8.7/Catalyst/Request.pm line 123.
Use of uninitialized value in concatenation (.) or string at /usr/local/perl-5.8.7-threaded/lib/site_perl/5.8.7/Catalyst/Action.pm line 38.
Use of uninitialized value in subroutine entry at /usr/local/perl-5.8.7-threaded/lib/site_perl/5.8.7/Catalyst/Request.pm line 123.
Use of uninitialized value in gethostbyaddr at /usr/local/perl-5.8.7-threaded/lib/site_perl/5.8.7/Catalyst/Request.pm line 123.
t/02-edit.t ........ ok
Subroutine Moose::Exporter::_flag_as_reexport redefined at /usr/local/perl-5.8.7-threaded/lib/5.8.7/x86_64-linux-thread-multi-ld/XSLoader.pm line 31.
Subroutine Moose::Exporter::_export_is_flagged redefined at /usr/local/perl-5.8.7-threaded/lib/5.8.7/x86_64-linux-thread-multi-ld/XSLoader.pm line 31.
Subroutine Class::MOP::get_code_info redefined at /usr/local/perl-5.8.7-threaded/lib/5.8.7/x86_64-linux-thread-multi-ld/XSLoader.pm line 31.
Subroutine Class::MOP::is_class_loaded redefined at /usr/local/perl-5.8.7-threaded/lib/5.8.7/x86_64-linux-thread-multi-ld/XSLoader.pm line 31.
Subroutine Class::MOP::Mixin::HasAttributes::attribute_metaclass redefined at /usr/local/perl-5.8.7-threaded/lib/5.8.7/x86_64-linux-thread-multi-ld/XSLoader.pm line 31.
Subroutine Class::MOP::Mixin::HasAttributes::_attribute_map redefined at /usr/local/perl-5.8.7-threaded/lib/5.8.7/x86_64-linux-thread-multi-ld/XSLoader.pm line 31.
Subroutine Class::MOP::Mixin::HasMethods::_method_map redefined at /usr/local/perl-5.8.7-threaded/lib/5.8.7/x86_64-linux-thread-multi-ld/XSLoader.pm line 31.
Subroutine Class::MOP::Mixin::HasMethods::method_metaclass redefined at /usr/local/perl-5.8.7-threaded/lib/5.8.7/x86_64-linux-thread-multi-ld/XSLoader.pm line 31.
Subroutine Class::MOP::Mixin::HasMethods::wrapped_method_metaclass redefined at /usr/local/perl-5.8.7-threaded/lib/5.8.7/x86_64-linux-thread-multi-ld/XSLoader.pm line 31.
Subroutine Class::MOP::Package::name redefined at /usr/local/perl-5.8.7-threaded/lib/5.8.7/x86_64-linux-thread-multi-ld/XSLoader.pm line 31.
Subroutine Class::MOP::Mixin::AttributeCore::name redefined at /usr/local/perl-5.8.7-threaded/lib/5.8.7/x86_64-linux-thread-multi-ld/XSLoader.pm line 31.
Subroutine Class::MOP::Mixin::AttributeCore::accessor redefined at /usr/local/perl-5.8.7-threaded/lib/5.8.7/x86_64-linux-thread-multi-ld/XSLoader.pm line 31.
Subroutine Class::MOP::Mixin::AttributeCore::reader redefined at /usr/local/perl-5.8.7-threaded/lib/5.8.7/x86_64-linux-thread-multi-ld/XSLoader.pm line 31.
Subroutine Class::MOP::Mixin::AttributeCore::writer redefined at /usr/local/perl-5.8.7-threaded/lib/5.8.7/x86_64-linux-thread-multi-ld/XSLoader.pm line 31.
Subroutine Class::MOP::Mixin::AttributeCore::predicate redefined at /usr/local/perl-5.8.7-threaded/lib/5.8.7/x86_64-linux-thread-multi-ld/XSLoader.pm line 31.
Subroutine Class::MOP::Mixin::AttributeCore::clearer redefined at /usr/local/perl-5.8.7-threaded/lib/5.8.7/x86_64-linux-thread-multi-ld/XSLoader.pm line 31.
Subroutine Class::MOP::Mixin::AttributeCore::builder redefined at /usr/local/perl-5.8.7-threaded/lib/5.8.7/x86_64-linux-thread-multi-ld/XSLoader.pm line 31.
Subroutine Class::MOP::Mixin::AttributeCore::init_arg redefined at /usr/local/perl-5.8.7-threaded/lib/5.8.7/x86_64-linux-thread-multi-ld/XSLoader.pm line 31.
Subroutine Class::MOP::Mixin::AttributeCore::initializer redefined at /usr/local/perl-5.8.7-threaded/lib/5.8.7/x86_64-linux-thread-multi-ld/XSLoader.pm line 31.
Subroutine Class::MOP::Mixin::AttributeCore::definition_context redefined at /usr/local/perl-5.8.7-threaded/lib/5.8.7/x86_64-linux-thread-multi-ld/XSLoader.pm line 31.
Subroutine Class::MOP::Mixin::AttributeCore::insertion_order redefined at /usr/local/perl-5.8.7-threaded/lib/5.8.7/x86_64-linux-thread-multi-ld/XSLoader.pm line 31.
Subroutine Class::MOP::Method::name redefined at /usr/local/perl-5.8.7-threaded/lib/5.8.7/x86_64-linux-thread-multi-ld/XSLoader.pm line 31.
Subroutine Class::MOP::Method::package_name redefined at /usr/local/perl-5.8.7-threaded/lib/5.8.7/x86_64-linux-thread-multi-ld/XSLoader.pm line 31.
Subroutine Class::MOP::Method::body redefined at /usr/local/perl-5.8.7-threaded/lib/5.8.7/x86_64-linux-thread-multi-ld/XSLoader.pm line 31.
Subroutine Class::MOP::Method::Inlined::_expected_method_class redefined at /usr/local/perl-5.8.7-threaded/lib/5.8.7/x86_64-linux-thread-multi-ld/XSLoader.pm line 31.
Subroutine Class::MOP::Method::Generated::is_inline redefined at /usr/local/perl-5.8.7-threaded/lib/5.8.7/x86_64-linux-thread-multi-ld/XSLoader.pm line 31.
Subroutine Class::MOP::Method::Generated::definition_context redefined at /usr/local/perl-5.8.7-threaded/lib/5.8.7/x86_64-linux-thread-multi-ld/XSLoader.pm line 31.
Subroutine Class::MOP::Class::instance_metaclass redefined at /usr/local/perl-5.8.7-threaded/lib/5.8.7/x86_64-linux-thread-multi-ld/XSLoader.pm line 31.
Subroutine Class::MOP::Class::immutable_trait redefined at /usr/local/perl-5.8.7-threaded/lib/5.8.7/x86_64-linux-thread-multi-ld/XSLoader.pm line 31.
Subroutine Class::MOP::Class::constructor_class redefined at /usr/local/perl-5.8.7-threaded/lib/5.8.7/x86_64-linux-thread-multi-ld/XSLoader.pm line 31.
Subroutine Class::MOP::Class::constructor_name redefined at /usr/local/perl-5.8.7-threaded/lib/5.8.7/x86_64-linux-thread-multi-ld/XSLoader.pm line 31.
Subroutine Class::MOP::Class::destructor_class redefined at /usr/local/perl-5.8.7-threaded/lib/5.8.7/x86_64-linux-thread-multi-ld/XSLoader.pm line 31.
Subroutine Class::MOP::Attribute::associated_class redefined at /usr/local/perl-5.8.7-threaded/lib/5.8.7/x86_64-linux-thread-multi-ld/XSLoader.pm line 31.
Subroutine Class::MOP::Attribute::associated_methods redefined at /usr/local/perl-5.8.7-threaded/lib/5.8.7/x86_64-linux-thread-multi-ld/XSLoader.pm line 31.
Subroutine Class::MOP::Instance::associated_metaclass redefined at /usr/local/perl-5.8.7-threaded/lib/5.8.7/x86_64-linux-thread-multi-ld/XSLoader.pm line 31.
Use of uninitialized value in concatenation (.) or string at /usr/local/perl-5.8.7-threaded/lib/site_perl/5.8.7/Catalyst/Action.pm line 38.
Use of uninitialized value in concatenation (.) or string at /usr/local/perl-5.8.7-threaded/lib/site_perl/5.8.7/Catalyst/Action.pm line 38.
Use of uninitialized value in concatenation (.) or string at /usr/local/perl-5.8.7-threaded/lib/site_perl/5.8.7/Catalyst/Action.pm line 38.
Use of uninitialized value in concatenation (.) or string at /usr/local/perl-5.8.7-threaded/lib/site_perl/5.8.7/Catalyst/Action.pm line 38.
Use of uninitialized value in concatenation (.) or string at /usr/local/perl-5.8.7-threaded/lib/site_perl/5.8.7/Catalyst/Action.pm line 38.
Use of uninitialized value in concatenation (.) or string at /usr/local/perl-5.8.7-threaded/lib/site_perl/5.8.7/Catalyst/Action.pm line 38.
Use of uninitialized value in concatenation (.) or string at /usr/local/perl-5.8.7-threaded/lib/site_perl/5.8.7/Catalyst/Action.pm line 38.
Use of uninitialized value in concatenation (.) or string at /usr/local/perl-5.8.7-threaded/lib/site_perl/5.8.7/Catalyst/Action.pm line 38.
Use of uninitialized value in concatenation (.) or string at /usr/local/perl-5.8.7-threaded/lib/site_perl/5.8.7/Catalyst/Action.pm line 38.
Use of uninitialized value in concatenation (.) or string at /usr/local/perl-5.8.7-threaded/lib/site_perl/5.8.7/Catalyst/Action.pm line 38.
Use of uninitialized value in concatenation (.) or string at /usr/local/perl-5.8.7-threaded/lib/site_perl/5.8.7/Catalyst/Action.pm line 38.
Use of uninitialized value in concatenation (.) or string at /usr/local/perl-5.8.7-threaded/lib/site_perl/5.8.7/Catalyst/Action.pm line 38.
Use of uninitialized value in concatenation (.) or string at /usr/local/perl-5.8.7-threaded/lib/site_perl/5.8.7/Catalyst/Action.pm line 38.
Use of uninitialized value in concatenation (.) or string at /usr/local/perl-5.8.7-threaded/lib/site_perl/5.8.7/Catalyst/Action.pm line 38.
Use of uninitialized value in concatenation (.) or string at /usr/local/perl-5.8.7-threaded/lib/site_perl/5.8.7/Catalyst/Action.pm line 38.
Use of uninitialized value in concatenation (.) or string at /usr/local/perl-5.8.7-threaded/lib/site_perl/5.8.7/Catalyst/Action.pm line 38.
Use of uninitialized value in concatenation (.) or string at /usr/local/perl-5.8.7-threaded/lib/site_perl/5.8.7/Catalyst/Action.pm line 38.
Use of uninitialized value in concatenation (.) or string at /usr/local/perl-5.8.7-threaded/lib/site_perl/5.8.7/Catalyst/Action.pm line 38.
Use of uninitialized value in concatenation (.) or string at /usr/local/perl-5.8.7-threaded/lib/site_perl/5.8.7/Catalyst/Action.pm line 38.
Use of uninitialized value in subroutine entry at /usr/local/perl-5.8.7-threaded/lib/site_perl/5.8.7/Catalyst/Request.pm line 123.
Use of uninitialized value in gethostbyaddr at /usr/local/perl-5.8.7-threaded/lib/site_perl/5.8.7/Catalyst/Request.pm line 123.
Use of uninitialized value in concatenation (.) or string at /usr/local/perl-5.8.7-threaded/lib/site_perl/5.8.7/Catalyst/Action.pm line 38.
t/03-attr_param.t .. ok
All tests successful.
Files=4, Tests=16,  8 wallclock secs ( 0.06 usr  0.00 sys +  5.44 cusr  0.37 csys =  5.87 CPU)
Result: PASS

------------------------------
PREREQUISITES
------------------------------

Prerequisite modules loaded:

requires:

    Module                         Need Have   
    ------------------------------ ---- -------
    Catalyst::Runtime              5.7  5.80029
    CGI::FormBuilder               3.02 3.0501 
    Class::Data::Inheritable       0.04 0.08   
    Class::Inspector               1.13 1.24   
    MRO::Compat                    0.09 0.11   
    Scalar::Util                   1.19 1.23_03
    Test::WWW::Mechanize::Catalyst 0.37 0.52   
    Tie::IxHash                    1.21 1.22   

build_requires:

    Module                         Need Have   
    ------------------------------ ---- -------
    ExtUtils::MakeMaker            6.42 6.57_06

configure_requires:

    Module                         Need Have   
    ------------------------------ ---- -------
    ExtUtils::MakeMaker            6.42 6.57_06


------------------------------
ENVIRONMENT AND OTHER CONTEXT
------------------------------

Environment variables:

    AUTOMATED_TESTING = 1
    LANG = en_US.UTF-8
    PATH = /home/sand/bin:/usr/local/bin:/usr/bin:/bin:/usr/bin/X11:/usr/games:/usr/local/perl/bin:/usr/X11/bin:/sbin:/usr/sbin
    PERL5LIB = 
    PERL5OPT = 
    PERL5_CPANPLUS_IS_RUNNING = 19956
    PERL5_CPAN_IS_RUNNING = 19956
    PERL_MM_USE_DEFAULT = 1
    SHELL = /usr/bin/zsh
    TERM = screen

Perl special variables (and OS-specific diagnostics, for MSWin32):

    $^X = /usr/local/perl-5.8.7-threaded/bin/perl
    $UID/$EUID = 1001 / 1001
    $GID = 1001 1001
    $EGID = 1001 1001

Perl module toolchain versions installed:

    Module              Have    
    ------------------- --------
    CPAN                1.94_64 
    Cwd                 3.33    
    ExtUtils::CBuilder  0.280202
    ExtUtils::Command   1.16    
    ExtUtils::Install   1.52_03 
    ExtUtils::MakeMaker 6.57_06 
    ExtUtils::Manifest  1.58    
    ExtUtils::ParseXS   2.2206  
    File::Spec          3.33    
    Module::Build       0.3622  
    Module::Signature   0.66    
    Test::Harness       3.22    
    Test::More          2.00_05 
    YAML                0.72    
    YAML::Syck          1.17    
    version             0.88    


--

Summary of my perl5 (revision 5 version 8 subversion 7) configuration:
  Platform:
    osname=linux, osvers=2.6.26-1-amd64, archname=x86_64-linux-thread-multi-ld
    uname='linux k81 2.6.26-1-amd64 #1 smp mon dec 15 17:25:36 utc 2008 x86_64 gnulinux '
    config_args='-Dprefix=/usr/local/perl-5.8.7-threaded -Uversiononly -Dusedevel -Ui_db -Duselongdouble -des -Dusethreads'
    hint=recommended, useposix=true, d_sigaction=define
    usethreads=define use5005threads=undef useithreads=define usemultiplicity=define
    useperlio=define d_sfio=undef uselargefiles=define usesocks=undef
    use64bitint=define use64bitall=define uselongdouble=define
    usemymalloc=n, bincompat5005=undef
  Compiler:
    cc='cc', ccflags ='-D_REENTRANT -D_GNU_SOURCE -DTHREADS_HAVE_PIDS -fno-strict-aliasing -pipe -I/usr/local/include -D_LARGEFILE_SOURCE -D_FILE_OFFSET_BITS=64',
    optimize='-O2',
    cppflags='-D_REENTRANT -D_GNU_SOURCE -DTHREADS_HAVE_PIDS -fno-strict-aliasing -pipe -I/usr/local/include'
    ccversion='', gccversion='4.3.2', gccosandvers=''
    intsize=4, longsize=8, ptrsize=8, doublesize=8, byteorder=12345678
    d_longlong=define, longlongsize=8, d_longdbl=define, longdblsize=16
    ivtype='long', ivsize=8, nvtype='long double', nvsize=16, Off_t='off_t', lseeksize=8
    alignbytes=16, prototype=define
  Linker and Libraries:
    ld='cc', ldflags =' -L/usr/local/lib'
    libpth=/usr/local/lib /lib /usr/lib
    libs=-lnsl -ldb -ldl -lm -lcrypt -lutil -lpthread -lc
    perllibs=-lnsl -ldl -lm -lcrypt -lutil -lpthread -lc
    libc=/lib/libc-2.7.so, so=so, useshrplib=false, libperl=libperl.a
    gnulibc_version='2.7'
  Dynamic Linking:
    dlsrc=dl_dlopen.xs, dlext=so, d_dlsymun=undef, ccdlflags='-Wl,-E'
    cccdlflags='-fpic', lddlflags='-shared -L/usr/local/lib'


Characteristics of this binary (from libperl): 
  Compile-time options: MULTIPLICITY USE_ITHREADS USE_64_BIT_INT
                        USE_64_BIT_ALL USE_LONG_DOUBLE USE_LARGE_FILES
                        PERL_IMPLICIT_CONTEXT
  Built under linux
  Compiled at Feb 20 2009 04:23:53
  %ENV:
    PERL5LIB=""
    PERL5OPT=""
    PERL5_CPANPLUS_IS_RUNNING="19956"
    PERL5_CPAN_IS_RUNNING="19956"
    PERL_MM_USE_DEFAULT="1"
  @INC:
    /usr/local/perl-5.8.7-threaded/lib/5.8.7/x86_64-linux-thread-multi-ld
    /usr/local/perl-5.8.7-threaded/lib/5.8.7
    /usr/local/perl-5.8.7-threaded/lib/site_perl/5.8.7/x86_64-linux-thread-multi-ld
    /usr/local/perl-5.8.7-threaded/lib/site_perl/5.8.7
    /usr/local/perl-5.8.7-threaded/lib/site_perl
    .