Back
From: metabase:user:dc1c8589-6bf4-1014-abca-562cf06b08ef
Subject: PASS Test-Script-1.23 v5.24.1 Mac OS X
Date: 2017-07-27T01:41:22Z
This distribution has been tested as part of the CPAN Testers
project, supporting the Perl programming language. See
http://wiki.cpantesters.org/ for more information or email
questions to cpan-testers-discuss@perl.org
--
Dear Graham Ollis,
This is a computer-generated report for Test-Script-1.23
on perl 5.24.1, created by CPAN-Reporter-1.2018.
Thank you for uploading your work to CPAN. Congratulations!
All tests were successful.
Sections of this report:
* Tester comments
* Program output
* Prerequisites
* Environment and other context
------------------------------
TESTER COMMENTS
------------------------------
Additional comments from tester:
none provided
------------------------------
PROGRAM OUTPUT
------------------------------
Output from '/usr/bin/make test':
PERL_DL_NONLAZY=1 "/Users/chadwick/CASE_SENSITIVE_FS/perl5/perlbrew/perls/perl-5.24/bin/perl" "-MExtUtils::Command::MM" "-MTest::Harness" "-e" "undef *Test::Harness::Switches; test_harness(0, 'blib/lib', 'blib/arch')" t/*.t
#
#
#
# HARNESS_ACTIVE=1
# HARNESS_VERSION=3.39
# LANG=ko_KR.UTF-8
# PERL5LIB=/Users/chadwick/.cpan/build/Test-Script-1.23-0/blib/lib:/Users/chadwick/.cpan/build/Test-Script-1.23-0/blib/arch:
# PERL5OPT=
# PERL5_CPANPLUS_IS_RUNNING=26843
# PERL5_CPAN_IS_RUNNING=26843
# PERLBREW_BASHRC_VERSION=0.80
# PERLBREW_HOME=/Users/chadwick/.perlbrew
# PERLBREW_MANPATH=/Users/chadwick/perl5/perlbrew/perls/perl-5.24/man
# PERLBREW_PATH=/Users/chadwick/perl5/perlbrew/bin:/Users/chadwick/perl5/perlbrew/perls/perl-5.24/bin
# PERLBREW_PERL=perl-5.24
# PERLBREW_ROOT=/Users/chadwick/perl5/perlbrew
# PERLBREW_VERSION=0.80
# PERL_DL_NONLAZY=1
# PERL_MM_USE_DEFAULT=1
# PERL_USE_UNSAFE_INC=1
# SHELL=/usr/local/bin/bash
#
#
#
# PERL5LIB path
# /Users/chadwick/.cpan/build/Test-Script-1.23-0/blib/lib
# /Users/chadwick/.cpan/build/Test-Script-1.23-0/blib/arch
#
#
#
# perl 5.024001
# Capture::Tiny 0.46
# ExtUtils::MakeMaker 7.3
# File::Spec 3.6301
# IO::Handle 1.36
# Probe::Perl 0.03
# Test2::API 1.302086
# Test2::V0 0.000072
#
#
#
t/00_diag.t ....................... ok
t/01_use.t ........................ ok
t/bug_gh9.t ....................... ok
t/test_script__exports.t .......... ok
t/test_script__import.t ........... ok
t/test_script__script_compiles.t .. ok
t/test_script__script_runs.t ...... ok
t/test_script__script_stderr.t .... ok
t/test_script__script_stdout.t .... ok
All tests successful.
Files=9, Tests=51, 1 wallclock secs ( 0.03 usr 0.02 sys + 1.26 cusr 0.25 csys = 1.56 CPU)
Result: PASS
------------------------------
PREREQUISITES
------------------------------
Prerequisite modules loaded:
requires:
Module Need Have
------------------- -------- --------
Capture::Tiny 0 0.46
File::Spec 0.80 3.63_01
IO::Handle 0 1.36
perl 5.008001 5.024001
Probe::Perl 0.01 0.03
Test2::API 1.302015 1.302086
build_requires:
Module Need Have
------------------- -------- --------
ExtUtils::MakeMaker 0 7.30
Test2::V0 0.000060 0.000072
configure_requires:
Module Need Have
------------------- -------- --------
ExtUtils::MakeMaker 0 7.30
perl 5.008001 5.024001
------------------------------
ENVIRONMENT AND OTHER CONTEXT
------------------------------
Environment variables:
LANG = ko_KR.UTF-8
NONINTERACTIVE_TESTING = 1
PATH = /Users/chadwick/perl5/perlbrew/bin:/Users/chadwick/perl5/perlbrew/perls/perl-5.24/bin:/Users/chadwick/.anyenv/envs/pyenv/shims:/Users/chadwick/.anyenv/envs/pyenv/bin:/Users/chadwick/.anyenv/envs/ndenv/shims:/Users/chadwick/.anyenv/envs/ndenv/bin:/Users/chadwick/.anyenv/envs/jenv/shims:/Users/chadwick/.anyenv/envs/jenv/bin:/Users/chadwick/.anyenv/envs/goenv/shims:/Users/chadwick/.anyenv/envs/goenv/bin:/Users/chadwick/.anyenv/bin:/Users/chadwick/.rakudobrew/bin:/Users/chadwick/bin:/usr/local/bin:/usr/local/sbin:/usr/local/bin:/usr/bin:/bin:/usr/sbin:/sbin:/opt/X11/bin:/Library/TeX/texbin
PERL5LIB =
PERL5OPT =
PERL5_CPANPLUS_IS_RUNNING = 26843
PERL5_CPAN_IS_RUNNING = 26843
PERLBREW_BASHRC_VERSION = 0.80
PERLBREW_HOME = /Users/chadwick/.perlbrew
PERLBREW_MANPATH = /Users/chadwick/perl5/perlbrew/perls/perl-5.24/man
PERLBREW_PATH = /Users/chadwick/perl5/perlbrew/bin:/Users/chadwick/perl5/perlbrew/perls/perl-5.24/bin
PERLBREW_PERL = perl-5.24
PERLBREW_ROOT = /Users/chadwick/perl5/perlbrew
PERLBREW_VERSION = 0.80
PERL_MM_USE_DEFAULT = 1
SHELL = /usr/local/bin/bash
TERM = xterm-256color
TMPDIR = /var/folders/5v/bskbxfxj1dd1rvy3btm829v00000gn/T/
Perl special variables (and OS-specific diagnostics, for MSWin32):
$^X = /Users/chadwick/CASE_SENSITIVE_FS/perl5/perlbrew/perls/perl-5.24/bin/perl
$UID/$EUID = 501 / 501
$GID = 20 20 12 61 79 80 81 98 701 33 100 204 395 398 399
$EGID = 20 20 12 61 79 80 81 98 701 33 100 204 395 398 399
Perl module toolchain versions installed:
Module Have
------------------- --------
CPAN 2.16
CPAN::Meta 2.150010
Cwd 3.63_01
ExtUtils::CBuilder 0.280226
ExtUtils::Command 7.30
ExtUtils::Install 2.14
ExtUtils::MakeMaker 7.30
ExtUtils::Manifest 1.70
ExtUtils::ParseXS 3.31
File::Spec 3.63_01
JSON 2.94
JSON::PP 2.94
Module::Build 0.4224
Module::Signature n/a
Parse::CPAN::Meta 2.150010
Test::Harness 3.39
Test::More 1.302086
YAML 1.23
YAML::Syck 1.30
version 0.9918
--
Summary of my perl5 (revision 5 version 24 subversion 1) configuration:
Platform:
osname=darwin, osvers=16.3.0, archname=darwin-thread-multi-2level
uname='darwin chadwick.local 16.3.0 darwin kernel version 16.3.0: thu nov 17 20:23:58 pst 2016; root:xnu-3789.31.2~1release_x86_64 x86_64 '
config_args='-de -Dprefix=/Users/chadwick/perl5/perlbrew/perls/perl-5.24 -Dman1dir=none -Dman3dir=none -Dusethreads -Aeval:scriptdir=/Users/chadwick/perl5/perlbrew/perls/perl-5.24/bin'
hint=recommended, useposix=true, d_sigaction=define
useithreads=define, usemultiplicity=define
use64bitint=define, use64bitall=define, uselongdouble=undef
usemymalloc=n, bincompat5005=undef
Compiler:
cc='cc', ccflags ='-fno-common -DPERL_DARWIN -fno-strict-aliasing -pipe -fstack-protector-strong -I/usr/local/include',
optimize='-O3',
cppflags='-fno-common -DPERL_DARWIN -fno-strict-aliasing -pipe -fstack-protector-strong -I/usr/local/include'
ccversion='', gccversion='4.2.1 Compatible Apple LLVM 8.0.0 (clang-800.0.42.1)', gccosandvers=''
intsize=4, longsize=8, ptrsize=8, doublesize=8, byteorder=12345678, doublekind=3
d_longlong=define, longlongsize=8, d_longdbl=define, longdblsize=16, longdblkind=3
ivtype='long', ivsize=8, nvtype='double', nvsize=8, Off_t='off_t', lseeksize=8
alignbytes=8, prototype=define
Linker and Libraries:
ld='env MACOSX_DEPLOYMENT_TARGET=10.3 cc', ldflags =' -fstack-protector-strong -L/usr/local/lib'
libpth=/usr/local/lib /Applications/Xcode.app/Contents/Developer/Toolchains/XcodeDefault.xctoolchain/usr/bin/../lib/clang/8.0.0/lib /Applications/Xcode.app/Contents/Developer/Toolchains/XcodeDefault.xctoolchain/usr/lib /usr/lib
libs=-lpthread -lgdbm -ldbm -ldb -ldl -lm -lutil -lc
perllibs=-lpthread -ldl -lm -lutil -lc
libc=, so=dylib, useshrplib=false, libperl=libperl.a
gnulibc_version=''
Dynamic Linking:
dlsrc=dl_dlopen.xs, dlext=bundle, d_dlsymun=undef, ccdlflags=' '
cccdlflags=' ', lddlflags=' -bundle -undefined dynamic_lookup -L/usr/local/lib -fstack-protector-strong'
Characteristics of this binary (from libperl):
Compile-time options: HAS_TIMES MULTIPLICITY PERLIO_LAYERS
PERL_COPY_ON_WRITE PERL_DONT_CREATE_GVSV
PERL_HASH_FUNC_ONE_AT_A_TIME_HARD
PERL_IMPLICIT_CONTEXT PERL_MALLOC_WRAP
PERL_PRESERVE_IVUV USE_64_BIT_ALL USE_64_BIT_INT
USE_ITHREADS USE_LARGE_FILES USE_LOCALE
USE_LOCALE_COLLATE USE_LOCALE_CTYPE
USE_LOCALE_NUMERIC USE_LOCALE_TIME USE_PERLIO
USE_PERL_ATOF USE_REENTRANT_API
Locally applied patches:
Devel::PatchPerl 1.34
Built under darwin
Compiled at Jan 18 2017 10:30:03
%ENV:
PERL5LIB=""
PERL5OPT=""
PERL5_CPANPLUS_IS_RUNNING="26843"
PERL5_CPAN_IS_RUNNING="26843"
PERLBREW_BASHRC_VERSION="0.80"
PERLBREW_HOME="/Users/chadwick/.perlbrew"
PERLBREW_MANPATH="/Users/chadwick/perl5/perlbrew/perls/perl-5.24/man"
PERLBREW_PATH="/Users/chadwick/perl5/perlbrew/bin:/Users/chadwick/perl5/perlbrew/perls/perl-5.24/bin"
PERLBREW_PERL="perl-5.24"
PERLBREW_ROOT="/Users/chadwick/perl5/perlbrew"
PERLBREW_VERSION="0.80"
PERL_MM_USE_DEFAULT="1"
@INC:
/Users/chadwick/perl5/perlbrew/perls/perl-5.24/lib/site_perl/5.24.1/darwin-thread-multi-2level
/Users/chadwick/perl5/perlbrew/perls/perl-5.24/lib/site_perl/5.24.1
/Users/chadwick/perl5/perlbrew/perls/perl-5.24/lib/5.24.1/darwin-thread-multi-2level
/Users/chadwick/perl5/perlbrew/perls/perl-5.24/lib/5.24.1
/Users/chadwick/perl5/perlbrew/perls/perl-5.24/lib/site_perl/5.24.0/darwin-thread-multi-2level
/Users/chadwick/perl5/perlbrew/perls/perl-5.24/lib/site_perl/5.24.0
/Users/chadwick/perl5/perlbrew/perls/perl-5.24/lib/site_perl
.