Report for POE-Component-Server-SimpleHTTP-2.14

Back
From: metabase:user:314402c4-2aae-11df-837a-5e0a49663a4f
Subject: PASS POE-Component-Server-SimpleHTTP-2.14 v5.15.9 FreeBSD
Date: 2012-10-19T04:08:53Z

This distribution has been tested as part of the CPAN Testers
project, supporting the Perl programming language.  See
http://wiki.cpantesters.org/ for more information or email
questions to cpan-testers-discuss@perl.org


--
Dear Chris Williams,

This is a computer-generated report for POE-Component-Server-SimpleHTTP-2.14
on perl 5.15.9, created by CPAN-Reporter-1.2005.

Thank you for uploading your work to CPAN.  Congratulations!
All tests were successful.

Sections of this report:

    * Tester comments
    * Program output
    * Prerequisites
    * Environment and other context

------------------------------
TESTER COMMENTS
------------------------------

Additional comments from tester:

none provided

------------------------------
PROGRAM OUTPUT
------------------------------

Output from '/usr/bin/make test':

PERL_DL_NONLAZY=1 /usr/perl5.15.9/bin/perl5.15.9 "-MExtUtils::Command::MM" "-e" "test_harness(0, 'inc', 'blib/lib', 'blib/arch')" t/*.t
# Testing POE::Component::Server::SimpleHTTP-2.14, POE-1.352, Perl 5.015009, /usr/perl5.15.9/bin/perl5.15.9
t/01_load.t ........... ok
# GET http://pocosimpletest.com:55302/ HTTP/1.1
# Host: 127.0.0.1:55302
# 
# HTTP/1.1 200 (OK)
# Date: Fri, 19 Oct 2012 04:08:10 GMT
# Content-Length: 3
# Content-Type: text/plain
# 
# Moo
t/02_simple.t ......... ok
# HTTP/1.1 404 (Not Found)
# Date: Fri, 19 Oct 2012 04:08:11 GMT
# Content-Length: 13
# Content-Type: text/plain
# 
# 404 Not Found
t/03_bad_handler.t .... ok
# GEt http://pocosimpletest.com:25863/ HTTP/1.1
# Host: 127.0.0.1:25863
# 
# HTTP/1.1 200 (OK)
# Date: Fri, 19 Oct 2012 04:08:12 GMT
# Content-Length: 3
# Content-Type: text/plain
# 
# Moo
t/03_bad_request.t .... ok
# 200 (OK)
# Date: Fri, 19 Oct 2012 04:08:13 GMT
# Content-Length: 11
# Content-Type: text/plain
# X-HTTP-Version: 1.1
# 
# this is top
# 200 (OK)
# Date: Fri, 19 Oct 2012 04:08:13 GMT
# Content-Length: 12
# Content-Type: text/plain
# X-HTTP-Version: 1.1
# 
# this is honk
# 200 (OK)
# Date: Fri, 19 Oct 2012 04:08:13 GMT
# Content-Length: 123
# Content-Type: text/html
# X-HTTP-Version: 1.1
# 
# <html>
# <head><title>YEAH!</title></head>
# <body><p>This, my friend, is the page you've been looking for.</p></body>
# </html>
# 404 (Not Found)
# Date: Fri, 19 Oct 2012 04:08:13 GMT
# Content-Length: 13
# Content-Type: text/plain
# X-HTTP-Version: 1.1
# 
# 404 Not Found
t/04_run_close.t ...... ok
Use of uninitialized value in lc at /var/tmp/CPAN-build/POE-Component-Server-SimpleHTTP-2.14-9t9QDa/blib/lib/POE/Component/Server/SimpleHTTP.pm line 802.
Use of uninitialized value in lc at /var/tmp/CPAN-build/POE-Component-Server-SimpleHTTP-2.14-9t9QDa/blib/lib/POE/Component/Server/SimpleHTTP.pm line 804.
# 200 (OK)
# Date: Fri, 19 Oct 2012 04:08:14 GMT
# Content-Length: 11
# Content-Type: text/plain
# X-HTTP-Version: 1.1
# 
# this is top
Use of uninitialized value in lc at /var/tmp/CPAN-build/POE-Component-Server-SimpleHTTP-2.14-9t9QDa/blib/lib/POE/Component/Server/SimpleHTTP.pm line 802.
Use of uninitialized value in lc at /var/tmp/CPAN-build/POE-Component-Server-SimpleHTTP-2.14-9t9QDa/blib/lib/POE/Component/Server/SimpleHTTP.pm line 804.
# 200 (OK)
# Date: Fri, 19 Oct 2012 04:08:14 GMT
# Content-Length: 12
# Content-Type: text/plain
# X-HTTP-Version: 1.1
# 
# this is honk
Use of uninitialized value in lc at /var/tmp/CPAN-build/POE-Component-Server-SimpleHTTP-2.14-9t9QDa/blib/lib/POE/Component/Server/SimpleHTTP.pm line 802.
Use of uninitialized value in lc at /var/tmp/CPAN-build/POE-Component-Server-SimpleHTTP-2.14-9t9QDa/blib/lib/POE/Component/Server/SimpleHTTP.pm line 804.
# 200 (OK)
# Date: Fri, 19 Oct 2012 04:08:14 GMT
# Content-Length: 123
# Content-Type: text/html
# X-HTTP-Version: 1.1
# 
# <html>
# <head><title>YEAH!</title></head>
# <body><p>This, my friend, is the page you've been looking for.</p></body>
# </html>
# 404 (Not Found)
# Date: Fri, 19 Oct 2012 04:08:14 GMT
# Content-Length: 13
# Content-Type: text/plain
# X-HTTP-Version: 1.1
# 
# 404 Not Found
t/04_run_keepalive.t .. ok
# POST http://pocosimpletest.com:62815/ HTTP/1.1
# Host: 127.0.0.1:62815
# Content-Length: 40
# 
# brother !~we need to get off this island
# 200 (OK)
# Date: Fri, 19 Oct 2012 04:08:15 GMT
# Content-Length: 40
# Content-Type: text/plain
# X-HTTP-Version: 1.1
# 
# we need to get off this island brother !
t/05_post.t ........... ok
# Test a stream of 3 helloworlds ..
t/06_stream.t ......... ok
t/99_pod.t ............ ok
t/99_pod_coverage.t ... skipped: Test::Pod::Coverage 1.00 required for testing POD coverage
All tests successful.
Files=10, Tests=55,  9 wallclock secs ( 0.05 usr  0.02 sys +  7.52 cusr  0.59 csys =  8.19 CPU)
Result: PASS

------------------------------
PREREQUISITES
------------------------------

Prerequisite modules loaded:

requires:

    Module                    Need   Have    
    ------------------------- ------ --------
    Carp                      0      1.25    
    HTTP::Date                0      6.01    
    HTTP::Request             0      6.00    
    HTTP::Response            0      6.04    
    Moose                     0.81   2.0604  
    MooseX::AttributeHelpers  0      0.23    
    MooseX::POE               0.205  0.215   
    perl                      5.006  5.015009
    POE                       1.0000 1.352   
    Socket                    0      2.001   
    Storable                  0      2.34    
    Sys::Hostname             0      1.16    

build_requires:

    Module                    Need   Have    
    ------------------------- ------ --------
    ExtUtils::MakeMaker       6.6302 6.63_02 
    POE::Filter::HTTP::Parser 1.06   1.06    
    Test::More                0.47   0.98    
    Test::POE::Client::TCP    0.1    1.10    

configure_requires:

    Module                    Need   Have    
    ------------------------- ------ --------
    ExtUtils::MakeMaker       6.62   6.63_02 


------------------------------
ENVIRONMENT AND OTHER CONTEXT
------------------------------

Environment variables:

    DBIC_NO_WARN_BAD_PERL = 1
    PATH = /usr/local/bin:/usr/X11R6/bin:/usr/X11/bin:/usr/perl5.8.0/bin:/usr/bin:/bin:/usr/local/sbin:/usr/sbin:/sbin:/usr/local/pilot/bin:/home/cpansand/bin/freebsd8.0:/home/cpansand/bin/sh:/home/cpansand/bin:/usr/X386/bin:/usr/games:/home/cpansand/devel:/usr/home/e/eserte/work/srezic-misc/scripts
    PERL5LIB = 
    PERL5OPT = 
    PERL5_CPANPLUS_IS_RUNNING = 6902
    PERL5_CPAN_IS_RUNNING = 6902
    PERL5_CPAN_IS_RUNNING_IN_RECURSION = 48155,6902
    PERL_BATCH = yes
    PERL_CPAN_REPORTER_CONFIG = /var/tmp/cpansmoker-1023/Xs650PRhzL_config.ini
    PERL_EXTUTILS_AUTOINSTALL = --defaultdeps
    PERL_HTML_DISPLAY_CLASS = HTML::Display::Mozilla
    SHELL = /usr/local/bin/zsh
    TERM = screen
    TMPDIR = /var/tmp/cpansmoker-1023

Perl special variables (and OS-specific diagnostics, for MSWin32):

    $^X = /usr/perl5.15.9/bin/perl5.15.9
    $UID/$EUID = 1023 / 1023
    $GID = 1023 1023
    $EGID = 1023 1023

Perl module toolchain versions installed:

    Module              Have    
    ------------------- --------
    CPAN                1.9800  
    CPAN::Meta          2.120630
    Cwd                 3.39_02 
    ExtUtils::CBuilder  0.280206
    ExtUtils::Command   1.17    
    ExtUtils::Install   1.58    
    ExtUtils::MakeMaker 6.63_02 
    ExtUtils::Manifest  1.61    
    ExtUtils::ParseXS   3.16    
    File::Spec          3.39_02 
    JSON                2.53    
    JSON::PP            2.27200 
    Module::Build       0.4003  
    Module::Signature   0.68    
    Parse::CPAN::Meta   1.4404  
    Test::Harness       3.23    
    Test::More          0.98    
    YAML                0.84    
    YAML::Syck          1.20    
    version             0.97    


--

Summary of my perl5 (revision 5 version 15 subversion 9) configuration:
   
  Platform:
    osname=freebsd, osvers=8.0-release-p4, archname=i386-freebsd
    uname='freebsd biokovo.herceg.de 8.0-release-p4 freebsd 8.0-release-p4 #0: mon jul 12 20:22:27 utc 2010 root@i386-builder.daemonology.net:usrobjusrsrcsysgeneric i386 '
    config_args='-Dprefix=/usr/perl5.15.9 -Dusemymalloc=n -D cc=ccache cc -D usedevel=define -Dgccansipedantic -Duse64bit -de -D hintfile=myfreebsd'
    hint=recommended, useposix=true, d_sigaction=define
    useithreads=undef, usemultiplicity=undef
    useperlio=define, d_sfio=undef, uselargefiles=define, usesocks=undef
    use64bitint=undef, use64bitall=undef, uselongdouble=undef
    usemymalloc=n, bincompat5005=undef
  Compiler:
    cc='ccache cc', ccflags ='-DHAS_FPSETMASK -DHAS_FLOATINGPOINT_H -fno-strict-aliasing -pipe -fstack-protector -I/usr/local/include',
    optimize='-O2 -mtune=athlon64 -pipe',
    cppflags='-DHAS_FPSETMASK -DHAS_FLOATINGPOINT_H -fno-strict-aliasing -pipe -fstack-protector -I/usr/local/include'
    ccversion='', gccversion='4.2.1 20070719  [FreeBSD]', gccosandvers=''
    intsize=4, longsize=4, ptrsize=4, doublesize=8, byteorder=1234
    d_longlong=define, longlongsize=8, d_longdbl=define, longdblsize=12
    ivtype='long', ivsize=4, nvtype='double', nvsize=8, Off_t='off_t', lseeksize=8
    alignbytes=4, prototype=define
  Linker and Libraries:
    ld='ccache cc', ldflags ='-Wl,-E  -fstack-protector -L/usr/local/lib'
    libpth=/usr/lib /usr/local/lib
    libs=-lgdbm -lm -lcrypt -lutil -lc
    perllibs=-lm -lcrypt -lutil -lc
    libc=, so=so, useshrplib=false, libperl=libperl.a
    gnulibc_version=''
  Dynamic Linking:
    dlsrc=dl_dlopen.xs, dlext=so, d_dlsymun=undef, ccdlflags=' '
    cccdlflags='-DPIC -fPIC', lddlflags='-shared  -L/usr/local/lib -fstack-protector'


Characteristics of this binary (from libperl): 
  Compile-time options: HAS_TIMES PERLIO_LAYERS PERL_DONT_CREATE_GVSV
                        PERL_MALLOC_WRAP PERL_PRESERVE_IVUV PERL_USE_DEVEL
                        USE_LARGE_FILES USE_LOCALE USE_LOCALE_COLLATE
                        USE_LOCALE_CTYPE USE_LOCALE_NUMERIC USE_PERLIO
                        USE_PERL_ATOF
  Built under freebsd
  Compiled at Mar 21 2012 07:28:15
  %ENV:
    PERL5LIB=""
    PERL5OPT=""
    PERL5_CPANPLUS_IS_RUNNING="6902"
    PERL5_CPAN_IS_RUNNING="6902"
    PERL5_CPAN_IS_RUNNING_IN_RECURSION="48155,6902"
    PERL_BATCH="yes"
    PERL_CPAN_REPORTER_CONFIG="/var/tmp/cpansmoker-1023/Xs650PRhzL_config.ini"
    PERL_EXTUTILS_AUTOINSTALL="--defaultdeps"
    PERL_HTML_DISPLAY_CLASS="HTML::Display::Mozilla"
  @INC:
    /usr/perl5.15.9/lib/site_perl/5.15.9/i386-freebsd
    /usr/perl5.15.9/lib/site_perl/5.15.9
    /usr/perl5.15.9/lib/5.15.9/i386-freebsd
    /usr/perl5.15.9/lib/5.15.9
    .