Back
From: metabase:user:00e8548a-0e72-11e3-8ee3-df0a9c418065
Subject: PASS Dancer-Plugin-REST-0.11 v5.14.4 Windows (Cygwin)
Date: 2014-04-02T20:12:48Z
This distribution has been tested as part of the CPAN Testers
project, supporting the Perl programming language. See
http://wiki.cpantesters.org/ for more information or email
questions to cpan-testers-discuss@perl.org
--
Dear Yanick Champoux,
This is a computer-generated report for Dancer-Plugin-REST-0.11
on perl 5.14.4, created by CPAN-Reporter-1.2010.
Thank you for uploading your work to CPAN. Congratulations!
All tests were successful.
Sections of this report:
* Tester comments
* Program output
* Prerequisites
* Environment and other context
------------------------------
TESTER COMMENTS
------------------------------
Additional comments from tester:
this report is from an automated smoke testing program
and was not reviewed by a human for accuracy
------------------------------
PROGRAM OUTPUT
------------------------------
Output from './Build test':
t/00-compile.t ........................ ok
#
#
# Generated by Dist::Zilla::Plugin::ReportVersions::Tiny v1.10
# perl: 5.014004 (wanted 5.006) on cygwin from /usr/bin/perl
#
# Carp => 1.32 (want any version)
# Dancer => 1.3118 (want 1.3111)
# Dancer::ModuleLoader => <undef> (want any version)
# Dancer::Plugin => <undef> (want any version)
# Dancer::Test => <undef> (want any version)
# File::Spec => 3.40 (want any version)
# HTTP::Headers => 6.05 (want any version)
# IO::Handle => 1.31 (want any version)
# IPC::Open3 => 1.0901 (want any version)
# Module::Build => 0.4007 (want 0.3601)
# Test::More => 1.001002 (want 0.88)
# strict => 1.04 (want any version)
# warnings => 1.12 (want any version)
#
# Thanks for using my code. I hope it works for you.
# If not, please try and include this output in the bug report.
# That will help me reproduce the issue and solve your problem.
#
t/000-report-versions-tiny.t .......... ok
t/01_base.t ........................... ok
t/02_prepare_serializer_for_format.t .. ok
t/03_resource.t ....................... ok
t/04_helpers.t ........................ ok
t/04_plugin_settings.t ................ ok
t/05_serializer_and_resource.t ........ ok
t/default-serializer.t ................ ok
t/two-posts.t ......................... ok
All tests successful.
Files=10, Tests=50, 3 wallclock secs ( 0.02 usr 0.06 sys + 1.56 cusr 1.24 csys = 2.87 CPU)
Result: PASS
------------------------------
PREREQUISITES
------------------------------
Prerequisite modules loaded:
requires:
Module Need Have
-------------------- ------ --------
Carp 0 1.32
Dancer 1.3111 1.3118
Dancer::Plugin 0 0
strict 0 1.04
warnings 0 1.12
build_requires:
Module Need Have
-------------------- ------ --------
Dancer::ModuleLoader 0 0
Dancer::Test 0 0
File::Spec 0 3.40
HTTP::Headers 0 6.05
IO::Handle 0 1.31
IPC::Open3 0 1.0901
Module::Build 0.3601 0.4007
perl 5.006 5.014004
Test::More 0.88 1.001002
configure_requires:
Module Need Have
-------------------- ------ --------
Module::Build 0.3601 0.4007
------------------------------
ENVIRONMENT AND OTHER CONTEXT
------------------------------
Environment variables:
AUTOMATED_TESTING = 1
COMSPEC = C:\Windows\system32\cmd.exe
LANG = en_US.UTF-8
NUMBER_OF_PROCESSORS = 4
PATH = /home/ryanw/perl5/perlbrew/bin:/usr/local/bin:/usr/bin:/cygdrive/c/Program Files/Common Files/Microsoft Shared/Windows Live:/cygdrive/c/Program Files (x86)/Common Files/Microsoft Shared/Windows Live:/cygdrive/c/Program Files (x86)/AMD APP/bin/x86_64:/cygdrive/c/Program Files (x86)/AMD APP/bin/x86:/cygdrive/c/Windows/system32:/cygdrive/c/Windows:/cygdrive/c/Windows/System32/Wbem:/cygdrive/c/Windows/System32/WindowsPowerShell/v1.0:/cygdrive/c/Program Files (x86)/ATI Technologies/ATI.ACE/Core-Static:/cygdrive/c/Program Files (x86)/Security Innovation/SI TSS/bin:/cygdrive/c/Program Files (x86)/Windows Live/Shared:/cygdrive/c/Program Files (x86)/WinMerge:/usr/lib/lapack
PERL5LIB =
PERL5OPT =
PERL5_CPANPLUS_IS_RUNNING = 7388
PERL5_CPAN_IS_RUNNING = 7388
PERL5_CPAN_IS_RUNNING_IN_RECURSION = 9772,7388
PERLBREW_BASHRC_VERSION = 0.66
PERLBREW_HOME = /home/ryanw/.perlbrew
PERLBREW_ROOT = /home/ryanw/perl5/perlbrew
PERL_CR_SMOKER_CURRENT = Dancer-Plugin-REST-0.11
PERL_EXTUTILS_AUTOINSTALL = --defaultdeps
PERL_MM_USE_DEFAULT = 1
PROCESSOR_IDENTIFIER = Intel64 Family 6 Model 58 Stepping 9, GenuineIntel
SHELL = /bin/bash
TEMP = /tmp
TERM = xterm
Perl special variables (and OS-specific diagnostics, for MSWin32):
$^X = /usr/bin/perl
$UID/$EUID = 2855161 / 2855161
$GID = 10513 0 544 545 10513
$EGID = 10513 0 544 545 10513
Perl module toolchain versions installed:
Module Have
------------------- --------
CPAN 2.00
CPAN::Meta 2.132661
Cwd 3.40
ExtUtils::CBuilder 0.280212
ExtUtils::Command 1.18
ExtUtils::Install 1.56
ExtUtils::MakeMaker 6.82
ExtUtils::Manifest 1.63
ExtUtils::ParseXS 3.22
File::Spec 3.40
JSON 2.59
JSON::PP 2.27203
Module::Build 0.4007
Module::Signature n/a
Parse::CPAN::Meta 1.4409
Test::Harness 3.29
Test::More 1.001002
YAML 0.84
YAML::Syck 1.27
version 0.9904
--
Summary of my perl5 (revision 5 version 14 subversion 4) configuration:
Platform:
osname=cygwin, osvers=1.7.18(0.26353), archname=cygwin-thread-multi
uname='cygwin_nt-6.1 yaakov04 1.7.18(0.26353) 2013-03-07 19:25 x86_64 cygwin '
config_args='-d -e -Dprefix=/usr -Dmksymlinks -Dusethreads -Darchname=x86_64-cygwin-threads -Dlibperl=cygperl5_14.dll -Dcc=gcc -Dld=g++'
hint=recommended, useposix=true, d_sigaction=define
useithreads=define, usemultiplicity=define
useperlio=define, d_sfio=undef, uselargefiles=define, usesocks=undef
use64bitint=define, use64bitall=define, uselongdouble=undef
usemymalloc=n, bincompat5005=undef
Compiler:
cc='gcc', ccflags ='-DPERL_USE_SAFE_PUTENV -U__STRICT_ANSI__ -fno-strict-aliasing -pipe -fstack-protector',
optimize='-O3',
cppflags='-DPERL_USE_SAFE_PUTENV -U__STRICT_ANSI__ -fno-strict-aliasing -pipe -fstack-protector'
ccversion='', gccversion='4.8.0 20130307 (experimental)', gccosandvers=''
intsize=4, longsize=8, ptrsize=8, doublesize=8, byteorder=12345678
d_longlong=define, longlongsize=8, d_longdbl=define, longdblsize=16
ivtype='long', ivsize=8, nvtype='double', nvsize=8, Off_t='off_t', lseeksize=8
alignbytes=8, prototype=define
Linker and Libraries:
ld='g++', ldflags =' -Wl,--enable-auto-import -Wl,--export-all-symbols -Wl,--enable-auto-image-base -fstack-protector'
libpth=/usr/lib /lib
libs=-lgdbm -ldb -ldl -lcrypt -lgdbm_compat
perllibs=-ldl -lcrypt
libc=/usr/lib/libc.a, so=dll, useshrplib=true, libperl=cygperl5_14.dll
gnulibc_version=''
Dynamic Linking:
dlsrc=dl_dlopen.xs, dlext=dll, d_dlsymun=undef, ccdlflags=' '
cccdlflags=' ', lddlflags=' --shared -Wl,--enable-auto-import -Wl,--export-all-symbols -Wl,--enable-auto-image-base -fstack-protector'
Characteristics of this binary (from libperl):
Compile-time options: MULTIPLICITY PERL_DONT_CREATE_GVSV
PERL_IMPLICIT_CONTEXT PERL_PRESERVE_IVUV
PERL_USE_SAFE_PUTENV USE_64_BIT_ALL USE_64_BIT_INT
USE_ITHREADS USE_LARGE_FILES USE_PERLIO USE_PERL_ATOF
USE_REENTRANT_API
Locally applied patches:
Bug#55162 File::Spec::case_tolerant performance
CYG07 $vendorarch/auto/.rebase
CYG15 static Win32CORE
CYG17 cyg-1.7 paths-utf8
0c612ce82 Fix building static extensions on cygwin, -UUSEIMPORTLIB
1bac5ecc1 Fix 64-bit threading sv.c: S_anonymise_cv_maybe
Cygwin::sync_winenv added
Built under cygwin
Compiled at Mar 11 2013 18:25:23
%ENV:
PERL5LIB=""
PERL5OPT=""
PERL5_CPANPLUS_IS_RUNNING="7388"
PERL5_CPAN_IS_RUNNING="7388"
PERL5_CPAN_IS_RUNNING_IN_RECURSION="9772,7388"
PERLBREW_BASHRC_VERSION="0.66"
PERLBREW_HOME="/home/ryanw/.perlbrew"
PERLBREW_ROOT="/home/ryanw/perl5/perlbrew"
PERL_CR_SMOKER_CURRENT="Dancer-Plugin-REST-0.11"
PERL_EXTUTILS_AUTOINSTALL="--defaultdeps"
PERL_MM_USE_DEFAULT="1"
@INC:
/usr/lib/perl5/site_perl/5.14/x86_64-cygwin-threads
/usr/lib/perl5/site_perl/5.14
/usr/lib/perl5/vendor_perl/5.14/x86_64-cygwin-threads
/usr/lib/perl5/vendor_perl/5.14
/usr/lib/perl5/5.14/x86_64-cygwin-threads
/usr/lib/perl5/5.14
.