Data-Util v0.67 Perl 5 v5.38.0 x86_64-linux

Status
Pass
From
Slaven Rezić
Dist
Data-Util v0.67
Platform
Perl 5 v5.38.0 x86_64-linux
Date
2023-07-16 16:34:55
ID
b24e7142-23f6-11ee-8dc2-dbef6d8775ea
This distribution has been tested as part of the CPAN Testers
project, supporting the Perl programming language.  See
http://wiki.cpantesters.org/ for more information or email
questions to cpan-testers-discuss@perl.org


--
Dear Shohei Yoshida,

This is a computer-generated report for Data-Util-0.67
on perl 5.38.0, created by CPAN-Reporter-1.2019.

Thank you for uploading your work to CPAN.  Congratulations!
All tests were successful.

Sections of this report:

    * Tester comments
    * Program output
    * Prerequisites
    * Environment and other context

------------------------------
TESTER COMMENTS
------------------------------

Additional comments from tester:

none provided

------------------------------
PROGRAM OUTPUT
------------------------------

Output from './Build test':

# Testing Data::Util 0.67 (XS)
t/00_load.t .................. ok
# Testing XS
t/01_refs.t .................. ok
t/02_inst.t .................. ok
t/03_gen.t ................... ok
t/04_overloaded.t ............ ok
t/05_get_stash.t ............. ok
t/06_subroutine.t ............ ok
t/08_mgvars.t ................ ok
Can't locate package A for @Bar::ISA during global destruction.
t/09_paranoia.t .............. ok
t/10_neat.t .................. ok
t/11_fail_handler.t .......... ok
t/12_in_attr_handler.t ....... skipped: This test is for old perls
t/13_optlist.t ............... ok
t/14_uninst_subr.t ........... ok
t/15_curry.t ................. ok
t/16_modify.t ................ ok
t/17_nsclean.t ............... ok
t/18_is_value.t .............. ok
t/19_multiple_modifiers.t .... ok
t/20_lexical_sub.t ........... ok
t/21_get_code_ref.t .......... ok
t/22_install2.t .............. ok
t/23_largeargs.t ............. ok
t/24_eval_in_modifiers.t ..... ok
t/pp00_load.t ................ ok
# Testing PurePerl
t/pp01_refs.t ................ ok
t/pp02_inst.t ................ ok
t/pp03_gen.t ................. ok
t/pp04_overloaded.t .......... ok
t/pp05_get_stash.t ........... ok
t/pp06_subroutine.t .......... ok
t/pp08_mgvars.t .............. ok
t/pp10_neat.t ................ ok
t/pp11_fail_handler.t ........ ok
t/pp12_in_attr_handler.t ..... skipped: This test is for old perls
t/pp13_optlist.t ............. ok
t/pp14_uninst_subr.t ......... ok
t/pp15_curry.t ............... ok
t/pp16_modify.t .............. ok
t/pp17_nsclean.t ............. ok
t/pp18_is_value.t ............ ok
t/pp19_multiple_modifiers.t .. ok
t/pp20_lexical_sub.t ......... ok
t/pp21_get_code_ref.t ........ ok
t/pp22_install2.t ............ ok
t/pp23_largeargs.t ........... ok
t/pp24_eval_in_modifiers.t ... ok
All tests successful.
Files=47, Tests=1141,  3 wallclock secs ( 0.18 usr  0.10 sys +  2.24 cusr  0.38 csys =  2.90 CPU)
Result: PASS

------------------------------
PREREQUISITES
------------------------------

Prerequisite modules loaded:

requires:

    Module                        Need   Have    
    ----------------------------- ------ --------
    perl                          5.010  5.038000
    XSLoader                      0.02   0.32    

build_requires:

    Module                        Need   Have    
    ----------------------------- ------ --------
    Devel::PPPort                 3.19   3.71    
    ExtUtils::CBuilder            0      0.280238
    ExtUtils::MakeMaker           6.59   7.70    
    ExtUtils::ParseXS             3.18   3.51    
    Hash::Util::FieldHash::Compat 0      0.11    
    Scope::Guard                  0      0.21    
    Test::Exception               0.27   0.43    
    Test::More                    0.62   1.302195

configure_requires:

    Module                        Need   Have    
    ----------------------------- ------ --------
    Module::Build                 0.4005 0.4234  
    Module::Build::XSUtil         0.03   0.19    


------------------------------
ENVIRONMENT AND OTHER CONTEXT
------------------------------

Environment variables:

    LANG = en_US.UTF-8
    PATH = /usr/local/bin:/usr/bin:/bin:/usr/local/sbin:/usr/sbin:/sbin:/home/cpansand/bin/linux-gnu:/home/cpansand/bin/sh:/home/cpansand/bin:/usr/games:/home/cpansand/devel:/home/eserte/src/srezic-misc/scripts
    PERL5LIB = 
    PERL5OPT = 
    PERL5_CPANPLUS_IS_RUNNING = 1178452
    PERL5_CPAN_IS_RUNNING = 1178452
    PERL5_CPAN_IS_RUNNING_IN_RECURSION = 1178349,1178452
    PERLDOC = -MPod::Perldoc::ToTextOverstrike
    PERL_BATCH = yes
    PERL_CANARY_STABILITY_NOPROMPT = 1
    PERL_CPAN_REPORTER_CONFIG = /var/tmp/cpansmoker-1023/2023071614/cpanreporter_000_config.ini
    PERL_EXTUTILS_AUTOINSTALL = --defaultdeps
    PERL_USE_UNSAFE_INC = 1
    SHELL = /usr/bin/zsh
    TERM = screen
    TMPDIR = /var/tmp/cpansmoker-1023/2023071614

Perl special variables (and OS-specific diagnostics, for MSWin32):

    $^X = /opt/perl-5.38.0/bin/perl
    $UID/$EUID = 1023 / 1023
    $GID = 1023 1023
    $EGID = 1023 1023

Perl module toolchain versions installed:

    Module              Have    
    ------------------- --------
    CPAN                2.36    
    CPAN::Meta          2.150010
    Cwd                 3.89    
    ExtUtils::CBuilder  0.280238
    ExtUtils::Command   7.70    
    ExtUtils::Install   2.22    
    ExtUtils::MakeMaker 7.70    
    ExtUtils::Manifest  1.73    
    ExtUtils::ParseXS   3.51    
    File::Spec          3.88    
    JSON                4.10    
    JSON::PP            4.16    
    Module::Build       0.4234  
    Module::Signature   n/a     
    Parse::CPAN::Meta   2.150010
    Test2               1.302195
    Test::Harness       3.44    
    Test::More          1.302195
    YAML                1.30    
    YAML::Syck          1.34    
    version             0.9929  


--

Summary of my perl5 (revision 5 version 38 subversion 0) configuration:
   
  Platform:
    osname=linux
    osvers=5.15.0-76-generic
    archname=x86_64-linux
    uname='linux cloud14.bbbike.org 5.15.0-76-generic #83-ubuntu smp thu jun 15 19:16:32 utc 2023 x86_64 x86_64 x86_64 gnulinux '
    config_args='-ds -e -Dprefix=/opt/perl-5.38.0 -Dcf_email=srezic@cpan.org'
    hint=recommended
    useposix=true
    d_sigaction=define
    useithreads=undef
    usemultiplicity=undef
    use64bitint=define
    use64bitall=define
    uselongdouble=undef
    usemymalloc=n
    default_inc_excludes_dot=define
  Compiler:
    cc='cc'
    ccflags ='-fwrapv -fno-strict-aliasing -pipe -fstack-protector-strong -I/usr/local/include -D_LARGEFILE_SOURCE -D_FILE_OFFSET_BITS=64'
    optimize='-O2'
    cppflags='-fwrapv -fno-strict-aliasing -pipe -fstack-protector-strong -I/usr/local/include'
    ccversion=''
    gccversion='11.3.0'
    gccosandvers=''
    intsize=4
    longsize=8
    ptrsize=8
    doublesize=8
    byteorder=12345678
    doublekind=3
    d_longlong=define
    longlongsize=8
    d_longdbl=define
    longdblsize=16
    longdblkind=3
    ivtype='long'
    ivsize=8
    nvtype='double'
    nvsize=8
    Off_t='off_t'
    lseeksize=8
    alignbytes=8
    prototype=define
  Linker and Libraries:
    ld='cc'
    ldflags =' -fstack-protector-strong -L/usr/local/lib'
    libpth=/usr/local/lib /usr/lib/x86_64-linux-gnu /usr/lib /usr/lib64
    libs=-lpthread -lgdbm -ldb -ldl -lm -lcrypt -lutil -lc
    perllibs=-lpthread -ldl -lm -lcrypt -lutil -lc
    libc=/lib/x86_64-linux-gnu/libc.so.6
    so=so
    useshrplib=false
    libperl=libperl.a
    gnulibc_version='2.35'
  Dynamic Linking:
    dlsrc=dl_dlopen.xs
    dlext=so
    d_dlsymun=undef
    ccdlflags='-Wl,-E'
    cccdlflags='-fPIC'
    lddlflags='-shared -O2 -L/usr/local/lib -fstack-protector-strong'


Characteristics of this binary (from libperl): 
  Compile-time options:
    HAS_LONG_DOUBLE
    HAS_STRTOLD
    HAS_TIMES
    PERLIO_LAYERS
    PERL_COPY_ON_WRITE
    PERL_DONT_CREATE_GVSV
    PERL_HASH_FUNC_SIPHASH13
    PERL_HASH_USE_SBOX32
    PERL_MALLOC_WRAP
    PERL_OP_PARENT
    PERL_PRESERVE_IVUV
    PERL_USE_SAFE_PUTENV
    USE_64_BIT_ALL
    USE_64_BIT_INT
    USE_LARGE_FILES
    USE_LOCALE
    USE_LOCALE_COLLATE
    USE_LOCALE_CTYPE
    USE_LOCALE_NUMERIC
    USE_LOCALE_TIME
    USE_PERLIO
    USE_PERL_ATOF
  Built under linux
  Compiled at Jul  8 2023 12:27:40
  %ENV:
    PERL5LIB=""
    PERL5OPT=""
    PERL5_CPANPLUS_IS_RUNNING="1178452"
    PERL5_CPAN_IS_RUNNING="1178452"
    PERL5_CPAN_IS_RUNNING_IN_RECURSION="1178349,1178452"
    PERLDOC="-MPod::Perldoc::ToTextOverstrike"
    PERL_BATCH="yes"
    PERL_CANARY_STABILITY_NOPROMPT="1"
    PERL_CPAN_REPORTER_CONFIG="/var/tmp/cpansmoker-1023/2023071614/cpanreporter_000_config.ini"
    PERL_EXTUTILS_AUTOINSTALL="--defaultdeps"
    PERL_USE_UNSAFE_INC="1"
  @INC:
    /opt/perl-5.38.0/lib/site_perl/5.38.0/x86_64-linux
    /opt/perl-5.38.0/lib/site_perl/5.38.0
    /opt/perl-5.38.0/lib/5.38.0/x86_64-linux
    /opt/perl-5.38.0/lib/5.38.0
    .