Report for XML-ExtOn-0.16

Back
From: metabase:user:e3434da8-b236-11df-85ca-0247c6d74bde
Subject: PASS XML-ExtOn-0.16 v5.12.4 GNU/Linux
Date: 2011-06-21T22:56:27Z

This distribution has been tested as part of the CPAN Testers
project, supporting the Perl programming language.  See
http://wiki.cpantesters.org/ for more information or email
questions to cpan-testers-discuss@perl.org


--
Dear Zahatski Aliaksandr,

This is a computer-generated report for XML-ExtOn-0.16
on perl 5.12.4, created by CPAN-Reporter-1.1902.

Thank you for uploading your work to CPAN.  Congratulations!
All tests were successful.

Sections of this report:

    * Tester comments
    * Program output
    * Prerequisites
    * Environment and other context

------------------------------
TESTER COMMENTS
------------------------------

Additional comments from tester:

this report is from an automated smoke testing program
and was not reviewed by a human for accuracy

------------------------------
PROGRAM OUTPUT
------------------------------

Output from './Build test':

t/008_TieAttrs.t .......... ok
t/009_Attributes.t ........ ok
t/009_Context.t ........... ok
t/010_Element.t ........... ok
Use of uninitialized value $uri in concatenation (.) or string at /home/perl512/.cpan/build/XML-Filter-SAX1toSAX2-0.03-DpF501/blib/lib/XML/Filter/SAX1toSAX2.pm line 81.
Use of uninitialized value in substitution iterator at /home/perl512/.cpan/build/XML-SAX-Writer-0.53-1YvBN2/blib/lib/XML/SAX/Writer.pm line 152.
Use of uninitialized value in substitution iterator at /home/perl512/.cpan/build/XML-SAX-Writer-0.53-1YvBN2/blib/lib/XML/SAX/Writer.pm line 152.
Use of uninitialized value in substitution iterator at /home/perl512/.cpan/build/XML-SAX-Writer-0.53-1YvBN2/blib/lib/XML/SAX/Writer.pm line 152.
Use of uninitialized value in substitution iterator at /home/perl512/.cpan/build/XML-SAX-Writer-0.53-1YvBN2/blib/lib/XML/SAX/Writer.pm line 152.
Use of uninitialized value in substitution iterator at /home/perl512/.cpan/build/XML-SAX-Writer-0.53-1YvBN2/blib/lib/XML/SAX/Writer.pm line 152.
Use of uninitialized value in substitution iterator at /home/perl512/.cpan/build/XML-SAX-Writer-0.53-1YvBN2/blib/lib/XML/SAX/Writer.pm line 152.
Use of uninitialized value in substitution iterator at /home/perl512/.cpan/build/XML-SAX-Writer-0.53-1YvBN2/blib/lib/XML/SAX/Writer.pm line 152.
Use of uninitialized value in substitution iterator at /home/perl512/.cpan/build/XML-SAX-Writer-0.53-1YvBN2/blib/lib/XML/SAX/Writer.pm line 152.
Use of uninitialized value in substitution iterator at /home/perl512/.cpan/build/XML-SAX-Writer-0.53-1YvBN2/blib/lib/XML/SAX/Writer.pm line 152.
Use of uninitialized value in substitution iterator at /home/perl512/.cpan/build/XML-SAX-Writer-0.53-1YvBN2/blib/lib/XML/SAX/Writer.pm line 152.
Use of uninitialized value in substitution iterator at /home/perl512/.cpan/build/XML-SAX-Writer-0.53-1YvBN2/blib/lib/XML/SAX/Writer.pm line 152.
Use of uninitialized value in substitution iterator at /home/perl512/.cpan/build/XML-SAX-Writer-0.53-1YvBN2/blib/lib/XML/SAX/Writer.pm line 152.
Use of uninitialized value in substitution iterator at /home/perl512/.cpan/build/XML-SAX-Writer-0.53-1YvBN2/blib/lib/XML/SAX/Writer.pm line 152.
Use of uninitialized value in substitution iterator at /home/perl512/.cpan/build/XML-SAX-Writer-0.53-1YvBN2/blib/lib/XML/SAX/Writer.pm line 152.
Use of uninitialized value in substitution iterator at /home/perl512/.cpan/build/XML-SAX-Writer-0.53-1YvBN2/blib/lib/XML/SAX/Writer.pm line 152.
Use of uninitialized value in substitution iterator at /home/perl512/.cpan/build/XML-SAX-Writer-0.53-1YvBN2/blib/lib/XML/SAX/Writer.pm line 152.
Use of uninitialized value in substitution iterator at /home/perl512/.cpan/build/XML-SAX-Writer-0.53-1YvBN2/blib/lib/XML/SAX/Writer.pm line 152.
Use of uninitialized value in substitution iterator at /home/perl512/.cpan/build/XML-SAX-Writer-0.53-1YvBN2/blib/lib/XML/SAX/Writer.pm line 152.
Use of uninitialized value in substitution iterator at /home/perl512/.cpan/build/XML-SAX-Writer-0.53-1YvBN2/blib/lib/XML/SAX/Writer.pm line 152.
Use of uninitialized value in substitution iterator at /home/perl512/.cpan/build/XML-SAX-Writer-0.53-1YvBN2/blib/lib/XML/SAX/Writer.pm line 152.
Use of uninitialized value in substitution iterator at /home/perl512/.cpan/build/XML-SAX-Writer-0.53-1YvBN2/blib/lib/XML/SAX/Writer.pm line 152.
Use of uninitialized value in substitution iterator at /home/perl512/.cpan/build/XML-SAX-Writer-0.53-1YvBN2/blib/lib/XML/SAX/Writer.pm line 152.
Use of uninitialized value in substitution iterator at /home/perl512/.cpan/build/XML-SAX-Writer-0.53-1YvBN2/blib/lib/XML/SAX/Writer.pm line 152.
Use of uninitialized value in substitution iterator at /home/perl512/.cpan/build/XML-SAX-Writer-0.53-1YvBN2/blib/lib/XML/SAX/Writer.pm line 152.
Use of uninitialized value in substitution iterator at /home/perl512/.cpan/build/XML-SAX-Writer-0.53-1YvBN2/blib/lib/XML/SAX/Writer.pm line 152.
Use of uninitialized value in substitution iterator at /home/perl512/.cpan/build/XML-SAX-Writer-0.53-1YvBN2/blib/lib/XML/SAX/Writer.pm line 152.
Use of uninitialized value in substitution iterator at /home/perl512/.cpan/build/XML-SAX-Writer-0.53-1YvBN2/blib/lib/XML/SAX/Writer.pm line 152.
Use of uninitialized value in substitution iterator at /home/perl512/.cpan/build/XML-SAX-Writer-0.53-1YvBN2/blib/lib/XML/SAX/Writer.pm line 152.
Use of uninitialized value in substitution iterator at /home/perl512/.cpan/build/XML-SAX-Writer-0.53-1YvBN2/blib/lib/XML/SAX/Writer.pm line 152.
Use of uninitialized value in substitution iterator at /home/perl512/.cpan/build/XML-SAX-Writer-0.53-1YvBN2/blib/lib/XML/SAX/Writer.pm line 152.
Use of uninitialized value in substitution iterator at /home/perl512/.cpan/build/XML-SAX-Writer-0.53-1YvBN2/blib/lib/XML/SAX/Writer.pm line 152.
Use of uninitialized value in substitution iterator at /home/perl512/.cpan/build/XML-SAX-Writer-0.53-1YvBN2/blib/lib/XML/SAX/Writer.pm line 152.
Use of uninitialized value in substitution iterator at /home/perl512/.cpan/build/XML-SAX-Writer-0.53-1YvBN2/blib/lib/XML/SAX/Writer.pm line 152.
Use of uninitialized value in substitution iterator at /home/perl512/.cpan/build/XML-SAX-Writer-0.53-1YvBN2/blib/lib/XML/SAX/Writer.pm line 152.
Use of uninitialized value in substitution iterator at /home/perl512/.cpan/build/XML-SAX-Writer-0.53-1YvBN2/blib/lib/XML/SAX/Writer.pm line 152.
Use of uninitialized value in substitution iterator at /home/perl512/.cpan/build/XML-SAX-Writer-0.53-1YvBN2/blib/lib/XML/SAX/Writer.pm line 152.
Use of uninitialized value in substitution iterator at /home/perl512/.cpan/build/XML-SAX-Writer-0.53-1YvBN2/blib/lib/XML/SAX/Writer.pm line 152.
Use of uninitialized value in substitution iterator at /home/perl512/.cpan/build/XML-SAX-Writer-0.53-1YvBN2/blib/lib/XML/SAX/Writer.pm line 152.
Use of uninitialized value in substitution iterator at /home/perl512/.cpan/build/XML-SAX-Writer-0.53-1YvBN2/blib/lib/XML/SAX/Writer.pm line 152.
Use of uninitialized value in substitution iterator at /home/perl512/.cpan/build/XML-SAX-Writer-0.53-1YvBN2/blib/lib/XML/SAX/Writer.pm line 152.
Use of uninitialized value in substitution iterator at /home/perl512/.cpan/build/XML-SAX-Writer-0.53-1YvBN2/blib/lib/XML/SAX/Writer.pm line 152.
Use of uninitialized value in substitution iterator at /home/perl512/.cpan/build/XML-SAX-Writer-0.53-1YvBN2/blib/lib/XML/SAX/Writer.pm line 152.
Use of uninitialized value in substitution iterator at /home/perl512/.cpan/build/XML-SAX-Writer-0.53-1YvBN2/blib/lib/XML/SAX/Writer.pm line 152.
Use of uninitialized value in substitution iterator at /home/perl512/.cpan/build/XML-SAX-Writer-0.53-1YvBN2/blib/lib/XML/SAX/Writer.pm line 152.
Use of uninitialized value in substitution iterator at /home/perl512/.cpan/build/XML-SAX-Writer-0.53-1YvBN2/blib/lib/XML/SAX/Writer.pm line 152.
Use of uninitialized value in substitution iterator at /home/perl512/.cpan/build/XML-SAX-Writer-0.53-1YvBN2/blib/lib/XML/SAX/Writer.pm line 152.
Use of uninitialized value in substitution iterator at /home/perl512/.cpan/build/XML-SAX-Writer-0.53-1YvBN2/blib/lib/XML/SAX/Writer.pm line 152.
Use of uninitialized value in substitution iterator at /home/perl512/.cpan/build/XML-SAX-Writer-0.53-1YvBN2/blib/lib/XML/SAX/Writer.pm line 152.
Use of uninitialized value in substitution iterator at /home/perl512/.cpan/build/XML-SAX-Writer-0.53-1YvBN2/blib/lib/XML/SAX/Writer.pm line 152.
Use of uninitialized value in substitution iterator at /home/perl512/.cpan/build/XML-SAX-Writer-0.53-1YvBN2/blib/lib/XML/SAX/Writer.pm line 152.
Use of uninitialized value in substitution iterator at /home/perl512/.cpan/build/XML-SAX-Writer-0.53-1YvBN2/blib/lib/XML/SAX/Writer.pm line 152.
Use of uninitialized value in substitution iterator at /home/perl512/.cpan/build/XML-SAX-Writer-0.53-1YvBN2/blib/lib/XML/SAX/Writer.pm line 152.
Use of uninitialized value in substitution iterator at /home/perl512/.cpan/build/XML-SAX-Writer-0.53-1YvBN2/blib/lib/XML/SAX/Writer.pm line 152.
Use of uninitialized value in substitution iterator at /home/perl512/.cpan/build/XML-SAX-Writer-0.53-1YvBN2/blib/lib/XML/SAX/Writer.pm line 152.
Use of uninitialized value in substitution iterator at /home/perl512/.cpan/build/XML-SAX-Writer-0.53-1YvBN2/blib/lib/XML/SAX/Writer.pm line 152.
Use of uninitialized value $uri in concatenation (.) or string at /home/perl512/.cpan/build/XML-Filter-SAX1toSAX2-0.03-DpF501/blib/lib/XML/Filter/SAX1toSAX2.pm line 81.
Use of uninitialized value $uri in concatenation (.) or string at /home/perl512/.cpan/build/XML-Filter-SAX1toSAX2-0.03-DpF501/blib/lib/XML/Filter/SAX1toSAX2.pm line 81.
Use of uninitialized value in substitution iterator at /home/perl512/.cpan/build/XML-SAX-Writer-0.53-1YvBN2/blib/lib/XML/SAX/Writer.pm line 152.
Use of uninitialized value in substitution iterator at /home/perl512/.cpan/build/XML-SAX-Writer-0.53-1YvBN2/blib/lib/XML/SAX/Writer.pm line 152.
Use of uninitialized value in substitution iterator at /home/perl512/.cpan/build/XML-SAX-Writer-0.53-1YvBN2/blib/lib/XML/SAX/Writer.pm line 152.
Use of uninitialized value in substitution iterator at /home/perl512/.cpan/build/XML-SAX-Writer-0.53-1YvBN2/blib/lib/XML/SAX/Writer.pm line 152.
Use of uninitialized value in substitution iterator at /home/perl512/.cpan/build/XML-SAX-Writer-0.53-1YvBN2/blib/lib/XML/SAX/Writer.pm line 152.
Use of uninitialized value in substitution iterator at /home/perl512/.cpan/build/XML-SAX-Writer-0.53-1YvBN2/blib/lib/XML/SAX/Writer.pm line 152.
Use of uninitialized value in substitution iterator at /home/perl512/.cpan/build/XML-SAX-Writer-0.53-1YvBN2/blib/lib/XML/SAX/Writer.pm line 152.
Use of uninitialized value in substitution iterator at /home/perl512/.cpan/build/XML-SAX-Writer-0.53-1YvBN2/blib/lib/XML/SAX/Writer.pm line 152.
Use of uninitialized value in substitution iterator at /home/perl512/.cpan/build/XML-SAX-Writer-0.53-1YvBN2/blib/lib/XML/SAX/Writer.pm line 152.
Use of uninitialized value in substitution iterator at /home/perl512/.cpan/build/XML-SAX-Writer-0.53-1YvBN2/blib/lib/XML/SAX/Writer.pm line 152.
Use of uninitialized value $uri in concatenation (.) or string at /home/perl512/.cpan/build/XML-Filter-SAX1toSAX2-0.03-DpF501/blib/lib/XML/Filter/SAX1toSAX2.pm line 81.
Use of uninitialized value in substitution iterator at /home/perl512/.cpan/build/XML-SAX-Writer-0.53-1YvBN2/blib/lib/XML/SAX/Writer.pm line 152.
Use of uninitialized value in substitution iterator at /home/perl512/.cpan/build/XML-SAX-Writer-0.53-1YvBN2/blib/lib/XML/SAX/Writer.pm line 152.
Use of uninitialized value in substitution iterator at /home/perl512/.cpan/build/XML-SAX-Writer-0.53-1YvBN2/blib/lib/XML/SAX/Writer.pm line 152.
Use of uninitialized value in substitution iterator at /home/perl512/.cpan/build/XML-SAX-Writer-0.53-1YvBN2/blib/lib/XML/SAX/Writer.pm line 152.
Use of uninitialized value in substitution iterator at /home/perl512/.cpan/build/XML-SAX-Writer-0.53-1YvBN2/blib/lib/XML/SAX/Writer.pm line 152.
Use of uninitialized value in substitution iterator at /home/perl512/.cpan/build/XML-SAX-Writer-0.53-1YvBN2/blib/lib/XML/SAX/Writer.pm line 152.
Use of uninitialized value in substitution iterator at /home/perl512/.cpan/build/XML-SAX-Writer-0.53-1YvBN2/blib/lib/XML/SAX/Writer.pm line 152.
Use of uninitialized value in substitution iterator at /home/perl512/.cpan/build/XML-SAX-Writer-0.53-1YvBN2/blib/lib/XML/SAX/Writer.pm line 152.
Use of uninitialized value in substitution iterator at /home/perl512/.cpan/build/XML-SAX-Writer-0.53-1YvBN2/blib/lib/XML/SAX/Writer.pm line 152.
Use of uninitialized value in substitution iterator at /home/perl512/.cpan/build/XML-SAX-Writer-0.53-1YvBN2/blib/lib/XML/SAX/Writer.pm line 152.
Use of uninitialized value in substitution iterator at /home/perl512/.cpan/build/XML-SAX-Writer-0.53-1YvBN2/blib/lib/XML/SAX/Writer.pm line 152.
Use of uninitialized value in substitution iterator at /home/perl512/.cpan/build/XML-SAX-Writer-0.53-1YvBN2/blib/lib/XML/SAX/Writer.pm line 152.
Use of uninitialized value in substitution iterator at /home/perl512/.cpan/build/XML-SAX-Writer-0.53-1YvBN2/blib/lib/XML/SAX/Writer.pm line 152.
Use of uninitialized value in substitution iterator at /home/perl512/.cpan/build/XML-SAX-Writer-0.53-1YvBN2/blib/lib/XML/SAX/Writer.pm line 152.
Use of uninitialized value in substitution iterator at /home/perl512/.cpan/build/XML-SAX-Writer-0.53-1YvBN2/blib/lib/XML/SAX/Writer.pm line 152.
Use of uninitialized value in substitution iterator at /home/perl512/.cpan/build/XML-SAX-Writer-0.53-1YvBN2/blib/lib/XML/SAX/Writer.pm line 152.
Use of uninitialized value in substitution iterator at /home/perl512/.cpan/build/XML-SAX-Writer-0.53-1YvBN2/blib/lib/XML/SAX/Writer.pm line 152.
Use of uninitialized value in substitution iterator at /home/perl512/.cpan/build/XML-SAX-Writer-0.53-1YvBN2/blib/lib/XML/SAX/Writer.pm line 152.
Use of uninitialized value in substitution iterator at /home/perl512/.cpan/build/XML-SAX-Writer-0.53-1YvBN2/blib/lib/XML/SAX/Writer.pm line 152.
Use of uninitialized value in substitution iterator at /home/perl512/.cpan/build/XML-SAX-Writer-0.53-1YvBN2/blib/lib/XML/SAX/Writer.pm line 152.
Use of uninitialized value in substitution iterator at /home/perl512/.cpan/build/XML-SAX-Writer-0.53-1YvBN2/blib/lib/XML/SAX/Writer.pm line 152.
Use of uninitialized value in substitution iterator at /home/perl512/.cpan/build/XML-SAX-Writer-0.53-1YvBN2/blib/lib/XML/SAX/Writer.pm line 152.
Use of uninitialized value in substitution iterator at /home/perl512/.cpan/build/XML-SAX-Writer-0.53-1YvBN2/blib/lib/XML/SAX/Writer.pm line 152.
Use of uninitialized value in substitution iterator at /home/perl512/.cpan/build/XML-SAX-Writer-0.53-1YvBN2/blib/lib/XML/SAX/Writer.pm line 152.
Use of uninitialized value in substitution iterator at /home/perl512/.cpan/build/XML-SAX-Writer-0.53-1YvBN2/blib/lib/XML/SAX/Writer.pm line 152.
Use of uninitialized value in substitution iterator at /home/perl512/.cpan/build/XML-SAX-Writer-0.53-1YvBN2/blib/lib/XML/SAX/Writer.pm line 152.
Use of uninitialized value in substitution iterator at /home/perl512/.cpan/build/XML-SAX-Writer-0.53-1YvBN2/blib/lib/XML/SAX/Writer.pm line 152.
Use of uninitialized value in substitution iterator at /home/perl512/.cpan/build/XML-SAX-Writer-0.53-1YvBN2/blib/lib/XML/SAX/Writer.pm line 152.
Use of uninitialized value in substitution iterator at /home/perl512/.cpan/build/XML-SAX-Writer-0.53-1YvBN2/blib/lib/XML/SAX/Writer.pm line 152.
Use of uninitialized value in substitution iterator at /home/perl512/.cpan/build/XML-SAX-Writer-0.53-1YvBN2/blib/lib/XML/SAX/Writer.pm line 152.
Use of uninitialized value in substitution iterator at /home/perl512/.cpan/build/XML-SAX-Writer-0.53-1YvBN2/blib/lib/XML/SAX/Writer.pm line 152.
Use of uninitialized value in substitution iterator at /home/perl512/.cpan/build/XML-SAX-Writer-0.53-1YvBN2/blib/lib/XML/SAX/Writer.pm line 152.
Use of uninitialized value in substitution iterator at /home/perl512/.cpan/build/XML-SAX-Writer-0.53-1YvBN2/blib/lib/XML/SAX/Writer.pm line 152.
Use of uninitialized value in substitution iterator at /home/perl512/.cpan/build/XML-SAX-Writer-0.53-1YvBN2/blib/lib/XML/SAX/Writer.pm line 152.
Use of uninitialized value in substitution iterator at /home/perl512/.cpan/build/XML-SAX-Writer-0.53-1YvBN2/blib/lib/XML/SAX/Writer.pm line 152.
Use of uninitialized value in substitution iterator at /home/perl512/.cpan/build/XML-SAX-Writer-0.53-1YvBN2/blib/lib/XML/SAX/Writer.pm line 152.
Use of uninitialized value in substitution iterator at /home/perl512/.cpan/build/XML-SAX-Writer-0.53-1YvBN2/blib/lib/XML/SAX/Writer.pm line 152.
Use of uninitialized value in substitution iterator at /home/perl512/.cpan/build/XML-SAX-Writer-0.53-1YvBN2/blib/lib/XML/SAX/Writer.pm line 152.
Use of uninitialized value in substitution iterator at /home/perl512/.cpan/build/XML-SAX-Writer-0.53-1YvBN2/blib/lib/XML/SAX/Writer.pm line 152.
Use of uninitialized value in substitution iterator at /home/perl512/.cpan/build/XML-SAX-Writer-0.53-1YvBN2/blib/lib/XML/SAX/Writer.pm line 152.
Use of uninitialized value in substitution iterator at /home/perl512/.cpan/build/XML-SAX-Writer-0.53-1YvBN2/blib/lib/XML/SAX/Writer.pm line 152.
Use of uninitialized value in substitution iterator at /home/perl512/.cpan/build/XML-SAX-Writer-0.53-1YvBN2/blib/lib/XML/SAX/Writer.pm line 152.
Use of uninitialized value in substitution iterator at /home/perl512/.cpan/build/XML-SAX-Writer-0.53-1YvBN2/blib/lib/XML/SAX/Writer.pm line 152.
Use of uninitialized value in substitution iterator at /home/perl512/.cpan/build/XML-SAX-Writer-0.53-1YvBN2/blib/lib/XML/SAX/Writer.pm line 152.
Use of uninitialized value in substitution iterator at /home/perl512/.cpan/build/XML-SAX-Writer-0.53-1YvBN2/blib/lib/XML/SAX/Writer.pm line 152.
Use of uninitialized value in substitution iterator at /home/perl512/.cpan/build/XML-SAX-Writer-0.53-1YvBN2/blib/lib/XML/SAX/Writer.pm line 152.
Use of uninitialized value in substitution iterator at /home/perl512/.cpan/build/XML-SAX-Writer-0.53-1YvBN2/blib/lib/XML/SAX/Writer.pm line 152.
Use of uninitialized value in substitution iterator at /home/perl512/.cpan/build/XML-SAX-Writer-0.53-1YvBN2/blib/lib/XML/SAX/Writer.pm line 152.
Use of uninitialized value in substitution iterator at /home/perl512/.cpan/build/XML-SAX-Writer-0.53-1YvBN2/blib/lib/XML/SAX/Writer.pm line 152.
Use of uninitialized value in substitution iterator at /home/perl512/.cpan/build/XML-SAX-Writer-0.53-1YvBN2/blib/lib/XML/SAX/Writer.pm line 152.
Use of uninitialized value in substitution iterator at /home/perl512/.cpan/build/XML-SAX-Writer-0.53-1YvBN2/blib/lib/XML/SAX/Writer.pm line 152.
Use of uninitialized value in substitution iterator at /home/perl512/.cpan/build/XML-SAX-Writer-0.53-1YvBN2/blib/lib/XML/SAX/Writer.pm line 152.
Use of uninitialized value in substitution iterator at /home/perl512/.cpan/build/XML-SAX-Writer-0.53-1YvBN2/blib/lib/XML/SAX/Writer.pm line 152.
Use of uninitialized value in substitution iterator at /home/perl512/.cpan/build/XML-SAX-Writer-0.53-1YvBN2/blib/lib/XML/SAX/Writer.pm line 152.
Use of uninitialized value in substitution iterator at /home/perl512/.cpan/build/XML-SAX-Writer-0.53-1YvBN2/blib/lib/XML/SAX/Writer.pm line 152.
Use of uninitialized value in substitution iterator at /home/perl512/.cpan/build/XML-SAX-Writer-0.53-1YvBN2/blib/lib/XML/SAX/Writer.pm line 152.
Use of uninitialized value in substitution iterator at /home/perl512/.cpan/build/XML-SAX-Writer-0.53-1YvBN2/blib/lib/XML/SAX/Writer.pm line 152.
Use of uninitialized value in substitution iterator at /home/perl512/.cpan/build/XML-SAX-Writer-0.53-1YvBN2/blib/lib/XML/SAX/Writer.pm line 152.
Use of uninitialized value $uri in concatenation (.) or string at /home/perl512/.cpan/build/XML-Filter-SAX1toSAX2-0.03-DpF501/blib/lib/XML/Filter/SAX1toSAX2.pm line 81.
Use of uninitialized value in substitution iterator at /home/perl512/.cpan/build/XML-SAX-Writer-0.53-1YvBN2/blib/lib/XML/SAX/Writer.pm line 152.
Use of uninitialized value in substitution iterator at /home/perl512/.cpan/build/XML-SAX-Writer-0.53-1YvBN2/blib/lib/XML/SAX/Writer.pm line 152.
Use of uninitialized value in substitution iterator at /home/perl512/.cpan/build/XML-SAX-Writer-0.53-1YvBN2/blib/lib/XML/SAX/Writer.pm line 152.
Use of uninitialized value in substitution iterator at /home/perl512/.cpan/build/XML-SAX-Writer-0.53-1YvBN2/blib/lib/XML/SAX/Writer.pm line 152.
Use of uninitialized value in substitution iterator at /home/perl512/.cpan/build/XML-SAX-Writer-0.53-1YvBN2/blib/lib/XML/SAX/Writer.pm line 152.
Use of uninitialized value in substitution iterator at /home/perl512/.cpan/build/XML-SAX-Writer-0.53-1YvBN2/blib/lib/XML/SAX/Writer.pm line 152.
Use of uninitialized value in substitution iterator at /home/perl512/.cpan/build/XML-SAX-Writer-0.53-1YvBN2/blib/lib/XML/SAX/Writer.pm line 152.
Use of uninitialized value in substitution iterator at /home/perl512/.cpan/build/XML-SAX-Writer-0.53-1YvBN2/blib/lib/XML/SAX/Writer.pm line 152.
Use of uninitialized value in substitution iterator at /home/perl512/.cpan/build/XML-SAX-Writer-0.53-1YvBN2/blib/lib/XML/SAX/Writer.pm line 152.
Use of uninitialized value in substitution iterator at /home/perl512/.cpan/build/XML-SAX-Writer-0.53-1YvBN2/blib/lib/XML/SAX/Writer.pm line 152.
Use of uninitialized value in substitution iterator at /home/perl512/.cpan/build/XML-SAX-Writer-0.53-1YvBN2/blib/lib/XML/SAX/Writer.pm line 152.
Use of uninitialized value in substitution iterator at /home/perl512/.cpan/build/XML-SAX-Writer-0.53-1YvBN2/blib/lib/XML/SAX/Writer.pm line 152.
Use of uninitialized value in substitution iterator at /home/perl512/.cpan/build/XML-SAX-Writer-0.53-1YvBN2/blib/lib/XML/SAX/Writer.pm line 152.
Use of uninitialized value in substitution iterator at /home/perl512/.cpan/build/XML-SAX-Writer-0.53-1YvBN2/blib/lib/XML/SAX/Writer.pm line 152.
Use of uninitialized value in substitution iterator at /home/perl512/.cpan/build/XML-SAX-Writer-0.53-1YvBN2/blib/lib/XML/SAX/Writer.pm line 152.
Use of uninitialized value in substitution iterator at /home/perl512/.cpan/build/XML-SAX-Writer-0.53-1YvBN2/blib/lib/XML/SAX/Writer.pm line 152.
Use of uninitialized value in substitution iterator at /home/perl512/.cpan/build/XML-SAX-Writer-0.53-1YvBN2/blib/lib/XML/SAX/Writer.pm line 152.
Use of uninitialized value in substitution iterator at /home/perl512/.cpan/build/XML-SAX-Writer-0.53-1YvBN2/blib/lib/XML/SAX/Writer.pm line 152.
Use of uninitialized value in substitution iterator at /home/perl512/.cpan/build/XML-SAX-Writer-0.53-1YvBN2/blib/lib/XML/SAX/Writer.pm line 152.
Use of uninitialized value in substitution iterator at /home/perl512/.cpan/build/XML-SAX-Writer-0.53-1YvBN2/blib/lib/XML/SAX/Writer.pm line 152.
Use of uninitialized value in substitution iterator at /home/perl512/.cpan/build/XML-SAX-Writer-0.53-1YvBN2/blib/lib/XML/SAX/Writer.pm line 152.
Use of uninitialized value $uri in concatenation (.) or string at /home/perl512/.cpan/build/XML-Filter-SAX1toSAX2-0.03-DpF501/blib/lib/XML/Filter/SAX1toSAX2.pm line 81.
Use of uninitialized value $uri in concatenation (.) or string at /home/perl512/.cpan/build/XML-Filter-SAX1toSAX2-0.03-DpF501/blib/lib/XML/Filter/SAX1toSAX2.pm line 81.
Use of uninitialized value in substitution iterator at /home/perl512/.cpan/build/XML-SAX-Writer-0.53-1YvBN2/blib/lib/XML/SAX/Writer.pm line 152.
Use of uninitialized value in substitution iterator at /home/perl512/.cpan/build/XML-SAX-Writer-0.53-1YvBN2/blib/lib/XML/SAX/Writer.pm line 152.
Use of uninitialized value in substitution iterator at /home/perl512/.cpan/build/XML-SAX-Writer-0.53-1YvBN2/blib/lib/XML/SAX/Writer.pm line 152.
Use of uninitialized value in substitution iterator at /home/perl512/.cpan/build/XML-SAX-Writer-0.53-1YvBN2/blib/lib/XML/SAX/Writer.pm line 152.
Use of uninitialized value in substitution iterator at /home/perl512/.cpan/build/XML-SAX-Writer-0.53-1YvBN2/blib/lib/XML/SAX/Writer.pm line 152.
Use of uninitialized value in substitution iterator at /home/perl512/.cpan/build/XML-SAX-Writer-0.53-1YvBN2/blib/lib/XML/SAX/Writer.pm line 152.
Use of uninitialized value in substitution iterator at /home/perl512/.cpan/build/XML-SAX-Writer-0.53-1YvBN2/blib/lib/XML/SAX/Writer.pm line 152.
Use of uninitialized value in substitution iterator at /home/perl512/.cpan/build/XML-SAX-Writer-0.53-1YvBN2/blib/lib/XML/SAX/Writer.pm line 152.
Use of uninitialized value in substitution iterator at /home/perl512/.cpan/build/XML-SAX-Writer-0.53-1YvBN2/blib/lib/XML/SAX/Writer.pm line 152.
Use of uninitialized value in substitution iterator at /home/perl512/.cpan/build/XML-SAX-Writer-0.53-1YvBN2/blib/lib/XML/SAX/Writer.pm line 152.
Use of uninitialized value in substitution iterator at /home/perl512/.cpan/build/XML-SAX-Writer-0.53-1YvBN2/blib/lib/XML/SAX/Writer.pm line 152.
Use of uninitialized value in substitution iterator at /home/perl512/.cpan/build/XML-SAX-Writer-0.53-1YvBN2/blib/lib/XML/SAX/Writer.pm line 152.
Use of uninitialized value in substitution iterator at /home/perl512/.cpan/build/XML-SAX-Writer-0.53-1YvBN2/blib/lib/XML/SAX/Writer.pm line 152.
Use of uninitialized value in substitution iterator at /home/perl512/.cpan/build/XML-SAX-Writer-0.53-1YvBN2/blib/lib/XML/SAX/Writer.pm line 152.
Use of uninitialized value in substitution iterator at /home/perl512/.cpan/build/XML-SAX-Writer-0.53-1YvBN2/blib/lib/XML/SAX/Writer.pm line 152.
Use of uninitialized value in substitution iterator at /home/perl512/.cpan/build/XML-SAX-Writer-0.53-1YvBN2/blib/lib/XML/SAX/Writer.pm line 152.
Use of uninitialized value in substitution iterator at /home/perl512/.cpan/build/XML-SAX-Writer-0.53-1YvBN2/blib/lib/XML/SAX/Writer.pm line 152.
Use of uninitialized value in substitution iterator at /home/perl512/.cpan/build/XML-SAX-Writer-0.53-1YvBN2/blib/lib/XML/SAX/Writer.pm line 152.
Use of uninitialized value in substitution iterator at /home/perl512/.cpan/build/XML-SAX-Writer-0.53-1YvBN2/blib/lib/XML/SAX/Writer.pm line 152.
Use of uninitialized value in substitution iterator at /home/perl512/.cpan/build/XML-SAX-Writer-0.53-1YvBN2/blib/lib/XML/SAX/Writer.pm line 152.
Use of uninitialized value in substitution iterator at /home/perl512/.cpan/build/XML-SAX-Writer-0.53-1YvBN2/blib/lib/XML/SAX/Writer.pm line 152.
Use of uninitialized value in substitution iterator at /home/perl512/.cpan/build/XML-SAX-Writer-0.53-1YvBN2/blib/lib/XML/SAX/Writer.pm line 152.
Use of uninitialized value in substitution iterator at /home/perl512/.cpan/build/XML-SAX-Writer-0.53-1YvBN2/blib/lib/XML/SAX/Writer.pm line 152.
Use of uninitialized value in substitution iterator at /home/perl512/.cpan/build/XML-SAX-Writer-0.53-1YvBN2/blib/lib/XML/SAX/Writer.pm line 152.
Use of uninitialized value in substitution iterator at /home/perl512/.cpan/build/XML-SAX-Writer-0.53-1YvBN2/blib/lib/XML/SAX/Writer.pm line 152.
Use of uninitialized value in substitution iterator at /home/perl512/.cpan/build/XML-SAX-Writer-0.53-1YvBN2/blib/lib/XML/SAX/Writer.pm line 152.
Use of uninitialized value in substitution iterator at /home/perl512/.cpan/build/XML-SAX-Writer-0.53-1YvBN2/blib/lib/XML/SAX/Writer.pm line 152.
Use of uninitialized value in substitution iterator at /home/perl512/.cpan/build/XML-SAX-Writer-0.53-1YvBN2/blib/lib/XML/SAX/Writer.pm line 152.
Use of uninitialized value in substitution iterator at /home/perl512/.cpan/build/XML-SAX-Writer-0.53-1YvBN2/blib/lib/XML/SAX/Writer.pm line 152.
Use of uninitialized value in substitution iterator at /home/perl512/.cpan/build/XML-SAX-Writer-0.53-1YvBN2/blib/lib/XML/SAX/Writer.pm line 152.
Use of uninitialized value in substitution iterator at /home/perl512/.cpan/build/XML-SAX-Writer-0.53-1YvBN2/blib/lib/XML/SAX/Writer.pm line 152.
Use of uninitialized value in substitution iterator at /home/perl512/.cpan/build/XML-SAX-Writer-0.53-1YvBN2/blib/lib/XML/SAX/Writer.pm line 152.
Use of uninitialized value in substitution iterator at /home/perl512/.cpan/build/XML-SAX-Writer-0.53-1YvBN2/blib/lib/XML/SAX/Writer.pm line 152.
Use of uninitialized value in substitution iterator at /home/perl512/.cpan/build/XML-SAX-Writer-0.53-1YvBN2/blib/lib/XML/SAX/Writer.pm line 152.
Use of uninitialized value in substitution iterator at /home/perl512/.cpan/build/XML-SAX-Writer-0.53-1YvBN2/blib/lib/XML/SAX/Writer.pm line 152.
Use of uninitialized value in substitution iterator at /home/perl512/.cpan/build/XML-SAX-Writer-0.53-1YvBN2/blib/lib/XML/SAX/Writer.pm line 152.
Use of uninitialized value in substitution iterator at /home/perl512/.cpan/build/XML-SAX-Writer-0.53-1YvBN2/blib/lib/XML/SAX/Writer.pm line 152.
Use of uninitialized value in substitution iterator at /home/perl512/.cpan/build/XML-SAX-Writer-0.53-1YvBN2/blib/lib/XML/SAX/Writer.pm line 152.
Use of uninitialized value in substitution iterator at /home/perl512/.cpan/build/XML-SAX-Writer-0.53-1YvBN2/blib/lib/XML/SAX/Writer.pm line 152.
Use of uninitialized value in substitution iterator at /home/perl512/.cpan/build/XML-SAX-Writer-0.53-1YvBN2/blib/lib/XML/SAX/Writer.pm line 152.
Use of uninitialized value in substitution iterator at /home/perl512/.cpan/build/XML-SAX-Writer-0.53-1YvBN2/blib/lib/XML/SAX/Writer.pm line 152.
Use of uninitialized value in substitution iterator at /home/perl512/.cpan/build/XML-SAX-Writer-0.53-1YvBN2/blib/lib/XML/SAX/Writer.pm line 152.
Use of uninitialized value in substitution iterator at /home/perl512/.cpan/build/XML-SAX-Writer-0.53-1YvBN2/blib/lib/XML/SAX/Writer.pm line 152.
Use of uninitialized value in substitution iterator at /home/perl512/.cpan/build/XML-SAX-Writer-0.53-1YvBN2/blib/lib/XML/SAX/Writer.pm line 152.
Use of uninitialized value in substitution iterator at /home/perl512/.cpan/build/XML-SAX-Writer-0.53-1YvBN2/blib/lib/XML/SAX/Writer.pm line 152.
Use of uninitialized value in substitution iterator at /home/perl512/.cpan/build/XML-SAX-Writer-0.53-1YvBN2/blib/lib/XML/SAX/Writer.pm line 152.
Use of uninitialized value in substitution iterator at /home/perl512/.cpan/build/XML-SAX-Writer-0.53-1YvBN2/blib/lib/XML/SAX/Writer.pm line 152.
Use of uninitialized value in substitution iterator at /home/perl512/.cpan/build/XML-SAX-Writer-0.53-1YvBN2/blib/lib/XML/SAX/Writer.pm line 152.
Use of uninitialized value in substitution iterator at /home/perl512/.cpan/build/XML-SAX-Writer-0.53-1YvBN2/blib/lib/XML/SAX/Writer.pm line 152.
Use of uninitialized value in substitution iterator at /home/perl512/.cpan/build/XML-SAX-Writer-0.53-1YvBN2/blib/lib/XML/SAX/Writer.pm line 152.
Use of uninitialized value in substitution iterator at /home/perl512/.cpan/build/XML-SAX-Writer-0.53-1YvBN2/blib/lib/XML/SAX/Writer.pm line 152.
Use of uninitialized value in substitution iterator at /home/perl512/.cpan/build/XML-SAX-Writer-0.53-1YvBN2/blib/lib/XML/SAX/Writer.pm line 152.
Use of uninitialized value in substitution iterator at /home/perl512/.cpan/build/XML-SAX-Writer-0.53-1YvBN2/blib/lib/XML/SAX/Writer.pm line 152.
Use of uninitialized value in substitution iterator at /home/perl512/.cpan/build/XML-SAX-Writer-0.53-1YvBN2/blib/lib/XML/SAX/Writer.pm line 152.
Use of uninitialized value in substitution iterator at /home/perl512/.cpan/build/XML-SAX-Writer-0.53-1YvBN2/blib/lib/XML/SAX/Writer.pm line 152.
Use of uninitialized value in substitution iterator at /home/perl512/.cpan/build/XML-SAX-Writer-0.53-1YvBN2/blib/lib/XML/SAX/Writer.pm line 152.
Use of uninitialized value in substitution iterator at /home/perl512/.cpan/build/XML-SAX-Writer-0.53-1YvBN2/blib/lib/XML/SAX/Writer.pm line 152.
Use of uninitialized value in substitution iterator at /home/perl512/.cpan/build/XML-SAX-Writer-0.53-1YvBN2/blib/lib/XML/SAX/Writer.pm line 152.
Use of uninitialized value in substitution iterator at /home/perl512/.cpan/build/XML-SAX-Writer-0.53-1YvBN2/blib/lib/XML/SAX/Writer.pm line 152.
Use of uninitialized value in substitution iterator at /home/perl512/.cpan/build/XML-SAX-Writer-0.53-1YvBN2/blib/lib/XML/SAX/Writer.pm line 152.
Use of uninitialized value in substitution iterator at /home/perl512/.cpan/build/XML-SAX-Writer-0.53-1YvBN2/blib/lib/XML/SAX/Writer.pm line 152.
Use of uninitialized value in substitution iterator at /home/perl512/.cpan/build/XML-SAX-Writer-0.53-1YvBN2/blib/lib/XML/SAX/Writer.pm line 152.
Use of uninitialized value in substitution iterator at /home/perl512/.cpan/build/XML-SAX-Writer-0.53-1YvBN2/blib/lib/XML/SAX/Writer.pm line 152.
Use of uninitialized value in substitution iterator at /home/perl512/.cpan/build/XML-SAX-Writer-0.53-1YvBN2/blib/lib/XML/SAX/Writer.pm line 152.
Use of uninitialized value in substitution iterator at /home/perl512/.cpan/build/XML-SAX-Writer-0.53-1YvBN2/blib/lib/XML/SAX/Writer.pm line 152.
Use of uninitialized value in substitution iterator at /home/perl512/.cpan/build/XML-SAX-Writer-0.53-1YvBN2/blib/lib/XML/SAX/Writer.pm line 152.
Use of uninitialized value $uri in concatenation (.) or string at /home/perl512/.cpan/build/XML-Filter-SAX1toSAX2-0.03-DpF501/blib/lib/XML/Filter/SAX1toSAX2.pm line 81.
Use of uninitialized value $uri in concatenation (.) or string at /home/perl512/.cpan/build/XML-Filter-SAX1toSAX2-0.03-DpF501/blib/lib/XML/Filter/SAX1toSAX2.pm line 81.
Use of uninitialized value in substitution iterator at /home/perl512/.cpan/build/XML-SAX-Writer-0.53-1YvBN2/blib/lib/XML/SAX/Writer.pm line 152.
Use of uninitialized value in substitution iterator at /home/perl512/.cpan/build/XML-SAX-Writer-0.53-1YvBN2/blib/lib/XML/SAX/Writer.pm line 152.
Use of uninitialized value in substitution iterator at /home/perl512/.cpan/build/XML-SAX-Writer-0.53-1YvBN2/blib/lib/XML/SAX/Writer.pm line 152.
Use of uninitialized value in substitution iterator at /home/perl512/.cpan/build/XML-SAX-Writer-0.53-1YvBN2/blib/lib/XML/SAX/Writer.pm line 152.
Use of uninitialized value in substitution iterator at /home/perl512/.cpan/build/XML-SAX-Writer-0.53-1YvBN2/blib/lib/XML/SAX/Writer.pm line 152.
Use of uninitialized value in substitution iterator at /home/perl512/.cpan/build/XML-SAX-Writer-0.53-1YvBN2/blib/lib/XML/SAX/Writer.pm line 152.
Use of uninitialized value in substitution iterator at /home/perl512/.cpan/build/XML-SAX-Writer-0.53-1YvBN2/blib/lib/XML/SAX/Writer.pm line 152.
Use of uninitialized value in substitution iterator at /home/perl512/.cpan/build/XML-SAX-Writer-0.53-1YvBN2/blib/lib/XML/SAX/Writer.pm line 152.
Use of uninitialized value in substitution iterator at /home/perl512/.cpan/build/XML-SAX-Writer-0.53-1YvBN2/blib/lib/XML/SAX/Writer.pm line 152.
Use of uninitialized value in substitution iterator at /home/perl512/.cpan/build/XML-SAX-Writer-0.53-1YvBN2/blib/lib/XML/SAX/Writer.pm line 152.
Use of uninitialized value in substitution iterator at /home/perl512/.cpan/build/XML-SAX-Writer-0.53-1YvBN2/blib/lib/XML/SAX/Writer.pm line 152.
Use of uninitialized value in substitution iterator at /home/perl512/.cpan/build/XML-SAX-Writer-0.53-1YvBN2/blib/lib/XML/SAX/Writer.pm line 152.
Use of uninitialized value in substitution iterator at /home/perl512/.cpan/build/XML-SAX-Writer-0.53-1YvBN2/blib/lib/XML/SAX/Writer.pm line 152.
Use of uninitialized value in substitution iterator at /home/perl512/.cpan/build/XML-SAX-Writer-0.53-1YvBN2/blib/lib/XML/SAX/Writer.pm line 152.
Use of uninitialized value in substitution iterator at /home/perl512/.cpan/build/XML-SAX-Writer-0.53-1YvBN2/blib/lib/XML/SAX/Writer.pm line 152.
Use of uninitialized value in substitution iterator at /home/perl512/.cpan/build/XML-SAX-Writer-0.53-1YvBN2/blib/lib/XML/SAX/Writer.pm line 152.
Use of uninitialized value in substitution iterator at /home/perl512/.cpan/build/XML-SAX-Writer-0.53-1YvBN2/blib/lib/XML/SAX/Writer.pm line 152.
Use of uninitialized value in substitution iterator at /home/perl512/.cpan/build/XML-SAX-Writer-0.53-1YvBN2/blib/lib/XML/SAX/Writer.pm line 152.
Use of uninitialized value in substitution iterator at /home/perl512/.cpan/build/XML-SAX-Writer-0.53-1YvBN2/blib/lib/XML/SAX/Writer.pm line 152.
Use of uninitialized value in substitution iterator at /home/perl512/.cpan/build/XML-SAX-Writer-0.53-1YvBN2/blib/lib/XML/SAX/Writer.pm line 152.
Use of uninitialized value in substitution iterator at /home/perl512/.cpan/build/XML-SAX-Writer-0.53-1YvBN2/blib/lib/XML/SAX/Writer.pm line 152.
Use of uninitialized value in substitution iterator at /home/perl512/.cpan/build/XML-SAX-Writer-0.53-1YvBN2/blib/lib/XML/SAX/Writer.pm line 152.
Use of uninitialized value in substitution iterator at /home/perl512/.cpan/build/XML-SAX-Writer-0.53-1YvBN2/blib/lib/XML/SAX/Writer.pm line 152.
Use of uninitialized value in substitution iterator at /home/perl512/.cpan/build/XML-SAX-Writer-0.53-1YvBN2/blib/lib/XML/SAX/Writer.pm line 152.
Use of uninitialized value in substitution iterator at /home/perl512/.cpan/build/XML-SAX-Writer-0.53-1YvBN2/blib/lib/XML/SAX/Writer.pm line 152.
Use of uninitialized value in substitution iterator at /home/perl512/.cpan/build/XML-SAX-Writer-0.53-1YvBN2/blib/lib/XML/SAX/Writer.pm line 152.
Use of uninitialized value in substitution iterator at /home/perl512/.cpan/build/XML-SAX-Writer-0.53-1YvBN2/blib/lib/XML/SAX/Writer.pm line 152.
Use of uninitialized value in substitution iterator at /home/perl512/.cpan/build/XML-SAX-Writer-0.53-1YvBN2/blib/lib/XML/SAX/Writer.pm line 152.
Use of uninitialized value in substitution iterator at /home/perl512/.cpan/build/XML-SAX-Writer-0.53-1YvBN2/blib/lib/XML/SAX/Writer.pm line 152.
Use of uninitialized value in substitution iterator at /home/perl512/.cpan/build/XML-SAX-Writer-0.53-1YvBN2/blib/lib/XML/SAX/Writer.pm line 152.
Use of uninitialized value in substitution iterator at /home/perl512/.cpan/build/XML-SAX-Writer-0.53-1YvBN2/blib/lib/XML/SAX/Writer.pm line 152.
Use of uninitialized value in substitution iterator at /home/perl512/.cpan/build/XML-SAX-Writer-0.53-1YvBN2/blib/lib/XML/SAX/Writer.pm line 152.
Use of uninitialized value in substitution iterator at /home/perl512/.cpan/build/XML-SAX-Writer-0.53-1YvBN2/blib/lib/XML/SAX/Writer.pm line 152.
Use of uninitialized value in substitution iterator at /home/perl512/.cpan/build/XML-SAX-Writer-0.53-1YvBN2/blib/lib/XML/SAX/Writer.pm line 152.
Use of uninitialized value in substitution iterator at /home/perl512/.cpan/build/XML-SAX-Writer-0.53-1YvBN2/blib/lib/XML/SAX/Writer.pm line 152.
Use of uninitialized value in substitution iterator at /home/perl512/.cpan/build/XML-SAX-Writer-0.53-1YvBN2/blib/lib/XML/SAX/Writer.pm line 152.
Use of uninitialized value in substitution iterator at /home/perl512/.cpan/build/XML-SAX-Writer-0.53-1YvBN2/blib/lib/XML/SAX/Writer.pm line 152.
Use of uninitialized value in substitution iterator at /home/perl512/.cpan/build/XML-SAX-Writer-0.53-1YvBN2/blib/lib/XML/SAX/Writer.pm line 152.
Use of uninitialized value in substitution iterator at /home/perl512/.cpan/build/XML-SAX-Writer-0.53-1YvBN2/blib/lib/XML/SAX/Writer.pm line 152.
Use of uninitialized value in substitution iterator at /home/perl512/.cpan/build/XML-SAX-Writer-0.53-1YvBN2/blib/lib/XML/SAX/Writer.pm line 152.
Use of uninitialized value in substitution iterator at /home/perl512/.cpan/build/XML-SAX-Writer-0.53-1YvBN2/blib/lib/XML/SAX/Writer.pm line 152.
Use of uninitialized value in substitution iterator at /home/perl512/.cpan/build/XML-SAX-Writer-0.53-1YvBN2/blib/lib/XML/SAX/Writer.pm line 152.
Use of uninitialized value in substitution iterator at /home/perl512/.cpan/build/XML-SAX-Writer-0.53-1YvBN2/blib/lib/XML/SAX/Writer.pm line 152.
Use of uninitialized value $uri in concatenation (.) or string at /home/perl512/.cpan/build/XML-Filter-SAX1toSAX2-0.03-DpF501/blib/lib/XML/Filter/SAX1toSAX2.pm line 81.
Use of uninitialized value in substitution iterator at /home/perl512/.cpan/build/XML-SAX-Writer-0.53-1YvBN2/blib/lib/XML/SAX/Writer.pm line 152.
Use of uninitialized value in substitution iterator at /home/perl512/.cpan/build/XML-SAX-Writer-0.53-1YvBN2/blib/lib/XML/SAX/Writer.pm line 152.
Use of uninitialized value in substitution iterator at /home/perl512/.cpan/build/XML-SAX-Writer-0.53-1YvBN2/blib/lib/XML/SAX/Writer.pm line 152.
Use of uninitialized value in substitution iterator at /home/perl512/.cpan/build/XML-SAX-Writer-0.53-1YvBN2/blib/lib/XML/SAX/Writer.pm line 152.
Use of uninitialized value in substitution iterator at /home/perl512/.cpan/build/XML-SAX-Writer-0.53-1YvBN2/blib/lib/XML/SAX/Writer.pm line 152.
Use of uninitialized value in substitution iterator at /home/perl512/.cpan/build/XML-SAX-Writer-0.53-1YvBN2/blib/lib/XML/SAX/Writer.pm line 152.
Use of uninitialized value in substitution iterator at /home/perl512/.cpan/build/XML-SAX-Writer-0.53-1YvBN2/blib/lib/XML/SAX/Writer.pm line 152.
Use of uninitialized value in substitution iterator at /home/perl512/.cpan/build/XML-SAX-Writer-0.53-1YvBN2/blib/lib/XML/SAX/Writer.pm line 152.
Use of uninitialized value in substitution iterator at /home/perl512/.cpan/build/XML-SAX-Writer-0.53-1YvBN2/blib/lib/XML/SAX/Writer.pm line 152.
Use of uninitialized value in substitution iterator at /home/perl512/.cpan/build/XML-SAX-Writer-0.53-1YvBN2/blib/lib/XML/SAX/Writer.pm line 152.
Use of uninitialized value in substitution iterator at /home/perl512/.cpan/build/XML-SAX-Writer-0.53-1YvBN2/blib/lib/XML/SAX/Writer.pm line 152.
Use of uninitialized value in substitution iterator at /home/perl512/.cpan/build/XML-SAX-Writer-0.53-1YvBN2/blib/lib/XML/SAX/Writer.pm line 152.
Use of uninitialized value in substitution iterator at /home/perl512/.cpan/build/XML-SAX-Writer-0.53-1YvBN2/blib/lib/XML/SAX/Writer.pm line 152.
Use of uninitialized value in substitution iterator at /home/perl512/.cpan/build/XML-SAX-Writer-0.53-1YvBN2/blib/lib/XML/SAX/Writer.pm line 152.
Use of uninitialized value in substitution iterator at /home/perl512/.cpan/build/XML-SAX-Writer-0.53-1YvBN2/blib/lib/XML/SAX/Writer.pm line 152.
Use of uninitialized value in substitution iterator at /home/perl512/.cpan/build/XML-SAX-Writer-0.53-1YvBN2/blib/lib/XML/SAX/Writer.pm line 152.
Use of uninitialized value in substitution iterator at /home/perl512/.cpan/build/XML-SAX-Writer-0.53-1YvBN2/blib/lib/XML/SAX/Writer.pm line 152.
Use of uninitialized value in substitution iterator at /home/perl512/.cpan/build/XML-SAX-Writer-0.53-1YvBN2/blib/lib/XML/SAX/Writer.pm line 152.
Use of uninitialized value in substitution iterator at /home/perl512/.cpan/build/XML-SAX-Writer-0.53-1YvBN2/blib/lib/XML/SAX/Writer.pm line 152.
Use of uninitialized value in substitution iterator at /home/perl512/.cpan/build/XML-SAX-Writer-0.53-1YvBN2/blib/lib/XML/SAX/Writer.pm line 152.
Use of uninitialized value in substitution iterator at /home/perl512/.cpan/build/XML-SAX-Writer-0.53-1YvBN2/blib/lib/XML/SAX/Writer.pm line 152.
Use of uninitialized value in substitution iterator at /home/perl512/.cpan/build/XML-SAX-Writer-0.53-1YvBN2/blib/lib/XML/SAX/Writer.pm line 152.
Use of uninitialized value in substitution iterator at /home/perl512/.cpan/build/XML-SAX-Writer-0.53-1YvBN2/blib/lib/XML/SAX/Writer.pm line 152.
Use of uninitialized value in substitution iterator at /home/perl512/.cpan/build/XML-SAX-Writer-0.53-1YvBN2/blib/lib/XML/SAX/Writer.pm line 152.
Use of uninitialized value in substitution iterator at /home/perl512/.cpan/build/XML-SAX-Writer-0.53-1YvBN2/blib/lib/XML/SAX/Writer.pm line 152.
Use of uninitialized value in substitution iterator at /home/perl512/.cpan/build/XML-SAX-Writer-0.53-1YvBN2/blib/lib/XML/SAX/Writer.pm line 152.
Use of uninitialized value in substitution iterator at /home/perl512/.cpan/build/XML-SAX-Writer-0.53-1YvBN2/blib/lib/XML/SAX/Writer.pm line 152.
Use of uninitialized value in substitution iterator at /home/perl512/.cpan/build/XML-SAX-Writer-0.53-1YvBN2/blib/lib/XML/SAX/Writer.pm line 152.
Use of uninitialized value in substitution iterator at /home/perl512/.cpan/build/XML-SAX-Writer-0.53-1YvBN2/blib/lib/XML/SAX/Writer.pm line 152.
Use of uninitialized value in substitution iterator at /home/perl512/.cpan/build/XML-SAX-Writer-0.53-1YvBN2/blib/lib/XML/SAX/Writer.pm line 152.
Use of uninitialized value in substitution iterator at /home/perl512/.cpan/build/XML-SAX-Writer-0.53-1YvBN2/blib/lib/XML/SAX/Writer.pm line 152.
Use of uninitialized value in substitution iterator at /home/perl512/.cpan/build/XML-SAX-Writer-0.53-1YvBN2/blib/lib/XML/SAX/Writer.pm line 152.
t/050.t ................... ok
t/060_ExtOn_skip_root.t ... ok
Use of uninitialized value in substitution iterator at /home/perl512/.cpan/build/XML-SAX-Writer-0.53-1YvBN2/blib/lib/XML/SAX/Writer.pm line 152.
Use of uninitialized value in substitution iterator at /home/perl512/.cpan/build/XML-SAX-Writer-0.53-1YvBN2/blib/lib/XML/SAX/Writer.pm line 152.
Use of uninitialized value in substitution iterator at /home/perl512/.cpan/build/XML-SAX-Writer-0.53-1YvBN2/blib/lib/XML/SAX/Writer.pm line 152.
t/070_characters_cdata.t .. ok
Use of uninitialized value in substitution iterator at /home/perl512/.cpan/build/XML-SAX-Writer-0.53-1YvBN2/blib/lib/XML/SAX/Writer.pm line 152.
Use of uninitialized value in substitution iterator at /home/perl512/.cpan/build/XML-SAX-Writer-0.53-1YvBN2/blib/lib/XML/SAX/Writer.pm line 152.
Use of uninitialized value in substitution iterator at /home/perl512/.cpan/build/XML-SAX-Writer-0.53-1YvBN2/blib/lib/XML/SAX/Writer.pm line 152.
Use of uninitialized value in substitution iterator at /home/perl512/.cpan/build/XML-SAX-Writer-0.53-1YvBN2/blib/lib/XML/SAX/Writer.pm line 152.
Use of uninitialized value in substitution iterator at /home/perl512/.cpan/build/XML-SAX-Writer-0.53-1YvBN2/blib/lib/XML/SAX/Writer.pm line 152.
Use of uninitialized value in substitution iterator at /home/perl512/.cpan/build/XML-SAX-Writer-0.53-1YvBN2/blib/lib/XML/SAX/Writer.pm line 152.
Use of uninitialized value in substitution iterator at /home/perl512/.cpan/build/XML-SAX-Writer-0.53-1YvBN2/blib/lib/XML/SAX/Writer.pm line 152.
t/080_create_pipe.t ....... ok
t/081_split_pipe.t ........ ok
t/090_add_content.t ....... ok
t/093_wrap_around.t ....... ok
All tests successful.
Files=11, Tests=81,  1 wallclock secs ( 0.06 usr  0.03 sys +  0.85 cusr  0.25 csys =  1.19 CPU)
Result: PASS

------------------------------
PREREQUISITES
------------------------------

Prerequisite modules loaded:

requires:

    Module                  Need Have  
    ----------------------- ---- ------
    Tie::UnionHash          0    0.02  
    XML::Filter::SAX1toSAX2 0    0.03  
    XML::Flow               0.85 0.86  
    XML::Parser::PerlSAX    0    0.08  
    XML::SAX                0    0.96  
    XML::SAX::Writer        0    0.53  

configure_requires:

    Module                  Need Have  
    ----------------------- ---- ------
    Module::Build           0.36 0.3800


------------------------------
ENVIRONMENT AND OTHER CONTEXT
------------------------------

Environment variables:

    AUTOMATED_TESTING = 1
    LANG = en_US.UTF-8
    LC_COLLATE = C
    LC_MONETARY = nl_NL.utf8
    PATH = /home/tester/perl5/perlbrew/bin:/home/tester/perl5/perlbrew/perls/perl-5.12.3/bin:/usr/lib64/qt-3.3/bin:/usr/lib64/ccache:/usr/local/bin:/bin:/usr/bin:/usr/local/sbin:/usr/sbin:/sbin:/home/tester/bin:/home/tester/bin
    PATH_WITHOUT_PERLBREW = /usr/lib64/qt-3.3/bin:/usr/lib64/ccache:/usr/local/bin:/bin:/usr/bin:/usr/local/sbin:/usr/sbin:/sbin:/home/tester/bin
    PERL5LIB = /home/perl512/.cpan/build/XML-Flow-0.86-H3dJQT/blib/arch:/home/perl512/.cpan/build/XML-Flow-0.86-H3dJQT/blib/lib:/home/perl512/.cpan/build/XML-Writer-0.612-9EduS7/blib/arch:/home/perl512/.cpan/build/XML-Writer-0.612-9EduS7/blib/lib:/home/perl512/.cpan/build/libxml-perl-0.08-lVbqbc/blib/arch:/home/perl512/.cpan/build/libxml-perl-0.08-lVbqbc/blib/lib:/home/perl512/.cpan/build/Tie-UnionHash-0.02-qg30HO/blib/arch:/home/perl512/.cpan/build/Tie-UnionHash-0.02-qg30HO/blib/lib:/home/perl512/.cpan/build/XML-Filter-SAX1toSAX2-0.03-DpF501/blib/arch:/home/perl512/.cpan/build/XML-Filter-SAX1toSAX2-0.03-DpF501/blib/lib:/home/perl512/.cpan/build/XML-SAX-Writer-0.53-1YvBN2/blib/arch:/home/perl512/.cpan/build/XML-SAX-Writer-0.53-1YvBN2/blib/lib:/home/perl512/.cpan/build/XML-Filter-BufferText-1.01-gyjFSM/blib/arch:/home/perl512/.cpan/build/XML-Filter-BufferText-1.01-gyjFSM/blib/lib:/home/perl512/.cpan/build/XML-NamespaceSupport-1.11-8b_8jq/blib/arch:/home/perl512/.cpan/build/XML-NamespaceSupport-1.11-8b_8jq/blib/lib:/home/perl512/.cpan/build/XML-SAX-0.96-_oPOQm/blib/arch:/home/perl512/.cpan/build/XML-SAX-0.96-_oPOQm/blib/lib
    PERL5OPT = 
    PERL5_CPANPLUS_IS_RUNNING = 30731
    PERL5_CPAN_IS_RUNNING = 30731
    PERL5_CPAN_IS_RUNNING_IN_RECURSION = 29128,30731
    PERLBREW_PATH = /home/tester/perl5/perlbrew/bin:/home/tester/perl5/perlbrew/perls/perl-5.12.3/bin
    PERLBREW_PERL = perl-5.12.3
    PERLBREW_ROOT = /home/tester/perl5/perlbrew
    PERLBREW_VERSION = 0.15
    PERL_CR_SMOKER_CURRENT = Perl6-Pod-Lib-0.06
    PERL_EXTUTILS_AUTOINSTALL = --defaultdeps
    PERL_MM_USE_DEFAULT = 1
    SHELL = /bin/bash
    TERM = screen

Perl special variables (and OS-specific diagnostics, for MSWin32):

    $^X = /home/perl512/testing/perl5.12.4/bin/perl5.12.4
    $UID/$EUID = 505 / 505
    $GID = 505 501 505
    $EGID = 505 501 505

Perl module toolchain versions installed:

    Module              Have    
    ------------------- --------
    CPAN                1.94_56 
    Cwd                 3.31    
    ExtUtils::CBuilder  0.280202
    ExtUtils::Command   1.16    
    ExtUtils::Install   1.55    
    ExtUtils::MakeMaker 6.56    
    ExtUtils::Manifest  1.57    
    ExtUtils::ParseXS   2.21    
    File::Spec          3.31_01 
    Module::Build       0.3800  
    Module::Signature   n/a     
    Test::Harness       3.17    
    Test::More          0.98    
    YAML                n/a     
    YAML::Syck          1.17    
    version             0.91    


--

Summary of my perl5 (revision 5 version 12 subversion 4) configuration:
   
  Platform:
    osname=linux, osvers=2.6.35.11-83.fc14.x86_64, archname=x86_64-linux-thread-multi
    uname='linux firenze.fritz.box 2.6.35.11-83.fc14.x86_64 #1 smp mon feb 7 07:06:44 utc 2011 x86_64 x86_64 x86_64 gnulinux '
    config_args='-Dprefix=/home/perl512/testing/perl5.12.4 -Dusedevel -Dusethreads -des'
    hint=recommended, useposix=true, d_sigaction=define
    useithreads=define, usemultiplicity=define
    useperlio=define, d_sfio=undef, uselargefiles=define, usesocks=undef
    use64bitint=define, use64bitall=define, uselongdouble=undef
    usemymalloc=n, bincompat5005=undef
  Compiler:
    cc='cc', ccflags ='-D_REENTRANT -D_GNU_SOURCE -fno-strict-aliasing -pipe -fstack-protector -I/usr/local/include -D_LARGEFILE_SOURCE -D_FILE_OFFSET_BITS=64',
    optimize='-O2',
    cppflags='-D_REENTRANT -D_GNU_SOURCE -fno-strict-aliasing -pipe -fstack-protector -I/usr/local/include'
    ccversion='', gccversion='4.5.1 20100924 (Red Hat 4.5.1-4)', gccosandvers=''
    intsize=4, longsize=8, ptrsize=8, doublesize=8, byteorder=12345678
    d_longlong=define, longlongsize=8, d_longdbl=define, longdblsize=16
    ivtype='long', ivsize=8, nvtype='double', nvsize=8, Off_t='off_t', lseeksize=8
    alignbytes=8, prototype=define
  Linker and Libraries:
    ld='cc', ldflags =' -fstack-protector -L/usr/local/lib'
    libpth=/usr/local/lib /lib/../lib64 /usr/lib/../lib64 /lib /usr/lib /lib64 /usr/lib64 /usr/local/lib64
    libs=-lnsl -lgdbm -ldb -ldl -lm -lcrypt -lutil -lpthread -lc -lgdbm_compat
    perllibs=-lnsl -ldl -lm -lcrypt -lutil -lpthread -lc
    libc=, so=so, useshrplib=false, libperl=libperl.a
    gnulibc_version='2.13'
  Dynamic Linking:
    dlsrc=dl_dlopen.xs, dlext=so, d_dlsymun=undef, ccdlflags='-Wl,-E'
    cccdlflags='-fPIC', lddlflags='-shared -O2 -L/usr/local/lib -fstack-protector'


Characteristics of this binary (from libperl): 
  Compile-time options: MULTIPLICITY PERL_DONT_CREATE_GVSV
                        PERL_IMPLICIT_CONTEXT PERL_MALLOC_WRAP PERL_USE_DEVEL
                        USE_64_BIT_ALL USE_64_BIT_INT USE_ITHREADS
                        USE_LARGE_FILES USE_PERLIO USE_PERL_ATOF
                        USE_REENTRANT_API
  Built under linux
  Compiled at Jun 20 2011 20:29:40
  %ENV:
    PERL5LIB="/home/perl512/.cpan/build/XML-Flow-0.86-H3dJQT/blib/arch:/home/perl512/.cpan/build/XML-Flow-0.86-H3dJQT/blib/lib:/home/perl512/.cpan/build/XML-Writer-0.612-9EduS7/blib/arch:/home/perl512/.cpan/build/XML-Writer-0.612-9EduS7/blib/lib:/home/perl512/.cpan/build/libxml-perl-0.08-lVbqbc/blib/arch:/home/perl512/.cpan/build/libxml-perl-0.08-lVbqbc/blib/lib:/home/perl512/.cpan/build/Tie-UnionHash-0.02-qg30HO/blib/arch:/home/perl512/.cpan/build/Tie-UnionHash-0.02-qg30HO/blib/lib:/home/perl512/.cpan/build/XML-Filter-SAX1toSAX2-0.03-DpF501/blib/arch:/home/perl512/.cpan/build/XML-Filter-SAX1toSAX2-0.03-DpF501/blib/lib:/home/perl512/.cpan/build/XML-SAX-Writer-0.53-1YvBN2/blib/arch:/home/perl512/.cpan/build/XML-SAX-Writer-0.53-1YvBN2/blib/lib:/home/perl512/.cpan/build/XML-Filter-BufferText-1.01-gyjFSM/blib/arch:/home/perl512/.cpan/build/XML-Filter-BufferText-1.01-gyjFSM/blib/lib:/home/perl512/.cpan/build/XML-NamespaceSupport-1.11-8b_8jq/blib/arch:/home/perl512/.cpan/build/XML-NamespaceSupport-1.11-8b_8jq/blib/lib:/home/perl512/.cpan/build/XML-SAX-0.96-_oPOQm/blib/arch:/home/perl512/.cpan/build/XML-SAX-0.96-_oPOQm/blib/lib"
    PERL5OPT=""
    PERL5_CPANPLUS_IS_RUNNING="30731"
    PERL5_CPAN_IS_RUNNING="30731"
    PERL5_CPAN_IS_RUNNING_IN_RECURSION="29128,30731"
    PERLBREW_PATH="/home/tester/perl5/perlbrew/bin:/home/tester/perl5/perlbrew/perls/perl-5.12.3/bin"
    PERLBREW_PERL="perl-5.12.3"
    PERLBREW_ROOT="/home/tester/perl5/perlbrew"
    PERLBREW_VERSION="0.15"
    PERL_CR_SMOKER_CURRENT="Perl6-Pod-Lib-0.06"
    PERL_EXTUTILS_AUTOINSTALL="--defaultdeps"
    PERL_MM_USE_DEFAULT="1"
  @INC:
    /home/perl512/.cpan/build/XML-Flow-0.86-H3dJQT/blib/arch
    /home/perl512/.cpan/build/XML-Flow-0.86-H3dJQT/blib/lib
    /home/perl512/.cpan/build/XML-Writer-0.612-9EduS7/blib/arch
    /home/perl512/.cpan/build/XML-Writer-0.612-9EduS7/blib/lib
    /home/perl512/.cpan/build/libxml-perl-0.08-lVbqbc/blib/arch
    /home/perl512/.cpan/build/libxml-perl-0.08-lVbqbc/blib/lib
    /home/perl512/.cpan/build/Tie-UnionHash-0.02-qg30HO/blib/arch
    /home/perl512/.cpan/build/Tie-UnionHash-0.02-qg30HO/blib/lib
    /home/perl512/.cpan/build/XML-Filter-SAX1toSAX2-0.03-DpF501/blib/arch
    /home/perl512/.cpan/build/XML-Filter-SAX1toSAX2-0.03-DpF501/blib/lib
    /home/perl512/.cpan/build/XML-SAX-Writer-0.53-1YvBN2/blib/arch
    /home/perl512/.cpan/build/XML-SAX-Writer-0.53-1YvBN2/blib/lib
    /home/perl512/.cpan/build/XML-Filter-BufferText-1.01-gyjFSM/blib/arch
    /home/perl512/.cpan/build/XML-Filter-BufferText-1.01-gyjFSM/blib/lib
    /home/perl512/.cpan/build/XML-NamespaceSupport-1.11-8b_8jq/blib/arch
    /home/perl512/.cpan/build/XML-NamespaceSupport-1.11-8b_8jq/blib/lib
    /home/perl512/.cpan/build/XML-SAX-0.96-_oPOQm/blib/arch
    /home/perl512/.cpan/build/XML-SAX-0.96-_oPOQm/blib/lib
    /home/perl512/testing/perl5.12.4/lib/site_perl/5.12.4/x86_64-linux-thread-multi
    /home/perl512/testing/perl5.12.4/lib/site_perl/5.12.4
    /home/perl512/testing/perl5.12.4/lib/5.12.4/x86_64-linux-thread-multi
    /home/perl512/testing/perl5.12.4/lib/5.12.4
    .