Report for HTML-FormFu-2.01_02

Back
From: metabase:user:320bfe00-2aae-11df-837a-5e0a49663a4f
Subject: PASS HTML-FormFu-2.01_02 v5.14.4 GNU/Linux
Date: 2015-03-30T03:13:11Z

This distribution has been tested as part of the CPAN Testers
project, supporting the Perl programming language.  See
http://wiki.cpantesters.org/ for more information or email
questions to cpan-testers-discuss@perl.org


--
Dear Dean Hamstead,

This is a computer-generated report for HTML-FormFu-2.01_02
on perl 5.14.4, created by CPAN-Reporter-1.2013.

Thank you for uploading your work to CPAN.  Congratulations!
All tests were successful.

Sections of this report:

    * Tester comments
    * Program output
    * Prerequisites
    * Environment and other context

------------------------------
TESTER COMMENTS
------------------------------

Additional comments from tester:

this report is from an automated smoke testing program
and was not reviewed by a human for accuracy

------------------------------
PROGRAM OUTPUT
------------------------------

Output from '/usr/bin/make test':

Skip blib/lib/auto/share/dist/HTML-FormFu/templates/tt/xhtml/field_layout_javascript (unchanged)
Skip blib/lib/auto/share/dist/HTML-FormFu/templates/tt/xhtml/field_layout_contentbutton_field (unchanged)
Skip blib/lib/auto/share/dist/HTML-FormFu/templates/tt/xhtml/field_layout_errors (unchanged)
Skip blib/lib/auto/share/dist/HTML-FormFu/templates/tt/xhtml/form (unchanged)
Skip blib/lib/auto/share/dist/HTML-FormFu/templates/tt/xhtml/field_layout_textarea_field (unchanged)
Skip blib/lib/auto/share/dist/HTML-FormFu/templates/tt/xhtml/field_layout_label (unchanged)
Skip blib/lib/auto/share/dist/HTML-FormFu/templates/tt/xhtml/field_layout_field (unchanged)
Skip blib/lib/auto/share/dist/HTML-FormFu/templates/tt/xhtml/recaptcha (unchanged)
Skip blib/lib/auto/share/dist/HTML-FormFu/templates/tt/xhtml/non_block (unchanged)
Skip blib/lib/auto/share/dist/HTML-FormFu/templates/tt/xhtml/end_form (unchanged)
Skip blib/lib/auto/share/dist/HTML-FormFu/templates/tt/xhtml/field_layout_label_field (unchanged)
Skip blib/lib/auto/share/dist/HTML-FormFu/templates/tt/xhtml/field_layout_checkboxgroup_field (unchanged)
Skip blib/lib/auto/share/dist/HTML-FormFu/templates/tt/xhtml/field_layout_comment (unchanged)
Skip blib/lib/auto/share/dist/HTML-FormFu/templates/tt/xhtml/field_layout_label_text (unchanged)
Skip blib/lib/auto/share/dist/HTML-FormFu/templates/tt/xhtml/field_layout (unchanged)
Skip blib/lib/auto/share/dist/HTML-FormFu/templates/tt/xhtml/field_layout_multi_field (unchanged)
Skip blib/lib/auto/share/dist/HTML-FormFu/templates/tt/xhtml/repeatable (unchanged)
Skip blib/lib/auto/share/dist/HTML-FormFu/templates/tt/xhtml/start_form (unchanged)
Skip blib/lib/auto/share/dist/HTML-FormFu/templates/tt/xhtml/start_block (unchanged)
Skip blib/lib/auto/share/dist/HTML-FormFu/templates/tt/xhtml/field_layout_select_field (unchanged)
Skip blib/lib/auto/share/dist/HTML-FormFu/templates/tt/xhtml/end_block (unchanged)
Skip blib/lib/auto/share/dist/HTML-FormFu/templates/tt/xhtml/block (unchanged)
Skip blib/lib/auto/share/dist/HTML-FormFu/templates/tt/xhtml/field_layout_parser (unchanged)
Skip blib/lib/auto/share/dist/HTML-FormFu/templates/tt/xhtml/field_layout_block (unchanged)
Skip blib/lib/auto/share/dist/HTML-FormFu/templates/tt/xhtml/field (unchanged)
PERL_DL_NONLAZY=1 "/home/sand/src/perl/repoperls/installed-perls/perl/v5.14.4/127e/bin/perl" "-MExtUtils::Command::MM" "-MTest::Harness" "-e" "undef *Test::Harness::Switches; test_harness(0, 'blib/lib', 'blib/arch')" t/*.t
t/aggregate.t .................. ok
t/elements-file_post.t ......... ok
t/nested-elements-file_post.t .. ok
All tests successful.
Files=3, Tests=435, 17 wallclock secs ( 0.26 usr  0.07 sys +  8.10 cusr  0.64 csys =  9.07 CPU)
Result: PASS

------------------------------
PREREQUISITES
------------------------------

Prerequisite modules loaded:

requires:

    Module                     Need     Have      
    -------------------------- -------- ----------
    Carp                       0        1.36      
    Class::MOP::Method         0        2.1403    
    Clone                      0.31     0.38      
    Config::Any                0.18     0.24      
    Cwd                        0        3.47      
    Data::Visitor              0.26     0.30      
    Data::Visitor::Callback    0        0.30      
    DateTime                   0.54     1.18      
    DateTime::Format::Builder  0.7901   0.81      
    DateTime::Format::Natural  0        1.02      
    DateTime::Format::Strptime 1.2000   1.56      
    DateTime::Locale           0.45     0.45      
    Email::Valid               0        1.196     
    Encode                     0        2.72      
    Exporter                   5.57     5.70      
    Fatal                      0        2.26      
    File::Copy                 0        2.21      
    File::Find                 0        1.19      
    File::ShareDir             0        1.102     
    File::Spec                 0        3.47      
    File::Temp                 0        0.2304    
    Hash::Flatten              0        1.19      
    HTML::Scrubber             0        0.13      
    HTML::TokeParser::Simple   3.14     3.16      
    HTTP::Headers              1.64     6.05      
    IO::File                   0        1.15      
    List::MoreUtils            0        0.409_003 
    List::Util                 0        1.41      
    Locale::Maketext           0        1.26      
    Module::Pluggable          0        5.1       
    Moose                      1.00     2.1403    
    Moose::Role                0        2.1403    
    Moose::Util                0        2.1403    
    MooseX::Aliases            0        0.11      
    Number::Format             0        1.73      
    Path::Class::File          0        0.35      
    perl                       5.008001 5.014004  
    Readonly                   0        2.00      
    Regexp::Common             0        2013031301
    Scalar::Util               0        1.41      
    Storable                   0        2.51      
    Task::Weaken               0        1.04      
    YAML::XS                   0.32     0.59      

build_requires:

    Module                     Need     Have      
    -------------------------- -------- ----------
    CGI                        3.37     3.52      
    ExtUtils::MakeMaker        0        7.05_19   
    POSIX                      0        1.24      
    Test::Aggregate::Nested    0.371    0.372     
    Test::Exception            0        0.38      
    Test::More                 0.92     1.001014  

configure_requires:

    Module                     Need     Have      
    -------------------------- -------- ----------
    ExtUtils::MakeMaker        0        7.05_19   
    File::ShareDir::Install    0.06     0.10      


------------------------------
ENVIRONMENT AND OTHER CONTEXT
------------------------------

Environment variables:

    AUTOMATED_TESTING = 1
    LANG = en_US.UTF-8
    LANGUAGE = en_US:en
    PATH = /home/sand/bin:/usr/local/bin:/usr/bin:/bin:/usr/games:/usr/local/perl/bin:/usr/X11/bin:/sbin:/usr/sbin
    PERL5LIB = 
    PERL5OPT = 
    PERL5_CPANPLUS_IS_RUNNING = 3866
    PERL5_CPAN_IS_RUNNING = 3866
    PERL_MM_USE_DEFAULT = 1
    SHELL = /usr/bin/zsh
    TERM = screen

Perl special variables (and OS-specific diagnostics, for MSWin32):

    $^X = /home/sand/src/perl/repoperls/installed-perls/perl/v5.14.4/127e/bin/perl
    $UID/$EUID = 1005 / 1005
    $GID = 1005 1005
    $EGID = 1005 1005

Perl module toolchain versions installed:

    Module              Have    
    ------------------- --------
    CPAN                2.10    
    CPAN::Meta          2.150001
    Cwd                 3.47    
    ExtUtils::CBuilder  0.280220
    ExtUtils::Command   7.05_19 
    ExtUtils::Install   1.56    
    ExtUtils::MakeMaker 7.05_19 
    ExtUtils::Manifest  1.70    
    ExtUtils::ParseXS   3.24    
    File::Spec          3.47    
    JSON                2.90    
    JSON::PP            2.27203 
    Module::Build       0.4211  
    Module::Signature   0.73    
    Parse::CPAN::Meta   1.4414  
    Test::Harness       3.35    
    Test::More          1.001014
    YAML                1.14    
    YAML::Syck          1.29    
    version             0.9912  


--

Summary of my perl5 (revision 5 version 14 subversion 4) configuration:
  Commit id: 26c5c13a4ece9084f310610bb17fb2f24c72a73e
  Platform:
    osname=linux, osvers=3.16.0-4-amd64, archname=x86_64-linux-ld
    uname='linux k83 3.16.0-4-amd64 #1 smp debian 3.16.7-ckt7-1 (2015-03-01) x86_64 gnulinux '
    config_args='-Dprefix=/home/sand/src/perl/repoperls/installed-perls/perl/v5.14.4/127e -Dmyhostname=k83 -Dinstallusrbinperl=n -Uversiononly -Dusedevel -des -Ui_db -Uuseithreads -Duselongdouble -DDEBUGGING=-g'
    hint=recommended, useposix=true, d_sigaction=define
    useithreads=undef, usemultiplicity=undef
    useperlio=define, d_sfio=undef, uselargefiles=define, usesocks=undef
    use64bitint=define, use64bitall=define, uselongdouble=define
    usemymalloc=n, bincompat5005=undef
  Compiler:
    cc='cc', ccflags ='-fno-strict-aliasing -pipe -fstack-protector -I/usr/local/include -D_LARGEFILE_SOURCE -D_FILE_OFFSET_BITS=64',
    optimize='-O2 -g',
    cppflags='-fno-strict-aliasing -pipe -fstack-protector -I/usr/local/include'
    ccversion='', gccversion='4.9.2', gccosandvers=''
    intsize=4, longsize=8, ptrsize=8, doublesize=8, byteorder=12345678
    d_longlong=define, longlongsize=8, d_longdbl=define, longdblsize=16
    ivtype='long', ivsize=8, nvtype='long double', nvsize=16, Off_t='off_t', lseeksize=8
    alignbytes=16, prototype=define
  Linker and Libraries:
    ld='cc', ldflags =' -fstack-protector -L/usr/local/lib'
    libpth=/usr/local/lib /lib/x86_64-linux-gnu /lib/../lib /usr/lib/x86_64-linux-gnu /usr/lib/../lib /lib /usr/lib
    libs=-lnsl -lgdbm -ldb -ldl -lm -lcrypt -lutil -lc -lgdbm_compat
    perllibs=-lnsl -ldl -lm -lcrypt -lutil -lc
    libc=, so=so, useshrplib=false, libperl=libperl.a
    gnulibc_version='2.19'
  Dynamic Linking:
    dlsrc=dl_dlopen.xs, dlext=so, d_dlsymun=undef, ccdlflags='-Wl,-E'
    cccdlflags='-fPIC', lddlflags='-shared -O2 -g -L/usr/local/lib -fstack-protector'


Characteristics of this binary (from libperl): 
  Compile-time options: PERL_DONT_CREATE_GVSV PERL_MALLOC_WRAP
                        PERL_PRESERVE_IVUV PERL_USE_DEVEL USE_64_BIT_ALL
                        USE_64_BIT_INT USE_LARGE_FILES USE_LONG_DOUBLE
                        USE_PERLIO USE_PERL_ATOF
  Built under linux
  Compiled at Mar 15 2015 10:48:52
  %ENV:
    PERL5LIB=""
    PERL5OPT=""
    PERL5_CPANPLUS_IS_RUNNING="3866"
    PERL5_CPAN_IS_RUNNING="3866"
    PERL_MM_USE_DEFAULT="1"
  @INC:
    /home/sand/src/perl/repoperls/installed-perls/perl/v5.14.4/127e/lib/site_perl/5.14.4/x86_64-linux-ld
    /home/sand/src/perl/repoperls/installed-perls/perl/v5.14.4/127e/lib/site_perl/5.14.4
    /home/sand/src/perl/repoperls/installed-perls/perl/v5.14.4/127e/lib/5.14.4/x86_64-linux-ld
    /home/sand/src/perl/repoperls/installed-perls/perl/v5.14.4/127e/lib/5.14.4
    .