Report for HTML-Template-Parser-0.1011

Back
From: metabase:user:314402c4-2aae-11df-837a-5e0a49663a4f
Subject: PASS HTML-Template-Parser-0.1011 v5.19.11 GNU/Linux
Date: 2014-04-29T07:41:38Z

This distribution has been tested as part of the CPAN Testers
project, supporting the Perl programming language.  See
http://wiki.cpantesters.org/ for more information or email
questions to cpan-testers-discuss@perl.org


--
Dear Shigeki Morimoto,

This is a computer-generated report for HTML-Template-Parser-0.1011
on perl 5.19.11, created by CPAN-Reporter-1.2011.

Thank you for uploading your work to CPAN.  Congratulations!
All tests were successful.

Sections of this report:

    * Tester comments
    * Program output
    * Prerequisites
    * Environment and other context

------------------------------
TESTER COMMENTS
------------------------------

Additional comments from tester:

none provided

------------------------------
PROGRAM OUTPUT
------------------------------

Output from '/usr/bin/make test':

PERL_DL_NONLAZY=1 /bbbike/ctps/51911linux/install/perl-5.19.11/bin/perl "-MExtUtils::Command::MM" "-MTest::Harness" "-e" "undef *Test::Harness::Switches; test_harness(0, 'inc', 'blib/lib', 'blib/arch')" t/*.t t/010_expr_parser/*.t t/020_template_parser/*.t t/030_tree_writer/010_htp/*.t t/030_tree_writer/020_textxslate_metakolon/*.t t/900_bug/*.t
t/000_load.t .............................................................. ok
t/010_expr_parser/001_use.t ............................................... ok
t/010_expr_parser/002_error.t ............................................. ok
t/010_expr_parser/003_number.t ............................................ ok
t/010_expr_parser/004_string.t ............................................ ok
t/010_expr_parser/005_variable.t .......................................... ok
t/010_expr_parser/006_not.t ............................................... ok
t/010_expr_parser/007_match.t ............................................. ok
t/010_expr_parser/008_math.t .............................................. ok
t/010_expr_parser/009_compare.t ........................................... ok
t/010_expr_parser/010_andor.t ............................................. ok
t/010_expr_parser/011_complex.t ........................................... ok
t/020_template_parser/001_use.t ........................................... ok
t/020_template_parser/002_error.t ......................................... ok
t/020_template_parser/003_to_list.t ....................................... ok
t/020_template_parser/004_to_tree.t ....................................... ok
t/030_tree_writer/010_htp/001_use.t ....................................... ok
t/030_tree_writer/010_htp/002_write.t ..................................... ok
t/030_tree_writer/020_textxslate_metakolon/001_use.t ...................... ok
Use of uninitialized value in lc at /bbbike/cpanbuild/HTML-Template-Parser-0.1011-OKVrpM/blib/lib/HTML/Template/Parser/TreeWriter/TextXslate/Metakolon.pm line 58.
Use of uninitialized value in lc at /bbbike/cpanbuild/HTML-Template-Parser-0.1011-OKVrpM/blib/lib/HTML/Template/Parser/TreeWriter/TextXslate/Metakolon.pm line 58.
Use of uninitialized value in lc at /bbbike/cpanbuild/HTML-Template-Parser-0.1011-OKVrpM/blib/lib/HTML/Template/Parser/TreeWriter/TextXslate/Metakolon.pm line 58.
Use of uninitialized value in lc at /bbbike/cpanbuild/HTML-Template-Parser-0.1011-OKVrpM/blib/lib/HTML/Template/Parser/TreeWriter/TextXslate/Metakolon.pm line 58.
Use of uninitialized value in lc at /bbbike/cpanbuild/HTML-Template-Parser-0.1011-OKVrpM/blib/lib/HTML/Template/Parser/TreeWriter/TextXslate/Metakolon.pm line 58.
Use of uninitialized value in lc at /bbbike/cpanbuild/HTML-Template-Parser-0.1011-OKVrpM/blib/lib/HTML/Template/Parser/TreeWriter/TextXslate/Metakolon.pm line 58.
Use of uninitialized value in lc at /bbbike/cpanbuild/HTML-Template-Parser-0.1011-OKVrpM/blib/lib/HTML/Template/Parser/TreeWriter/TextXslate/Metakolon.pm line 58.
Use of uninitialized value in lc at /bbbike/cpanbuild/HTML-Template-Parser-0.1011-OKVrpM/blib/lib/HTML/Template/Parser/TreeWriter/TextXslate/Metakolon.pm line 58.
Use of uninitialized value in lc at /bbbike/cpanbuild/HTML-Template-Parser-0.1011-OKVrpM/blib/lib/HTML/Template/Parser/TreeWriter/TextXslate/Metakolon.pm line 58.
Use of uninitialized value in lc at /bbbike/cpanbuild/HTML-Template-Parser-0.1011-OKVrpM/blib/lib/HTML/Template/Parser/TreeWriter/TextXslate/Metakolon.pm line 58.
Use of uninitialized value in lc at /bbbike/cpanbuild/HTML-Template-Parser-0.1011-OKVrpM/blib/lib/HTML/Template/Parser/TreeWriter/TextXslate/Metakolon.pm line 58.
Use of uninitialized value in lc at /bbbike/cpanbuild/HTML-Template-Parser-0.1011-OKVrpM/blib/lib/HTML/Template/Parser/TreeWriter/TextXslate/Metakolon.pm line 58.
Use of uninitialized value in lc at /bbbike/cpanbuild/HTML-Template-Parser-0.1011-OKVrpM/blib/lib/HTML/Template/Parser/TreeWriter/TextXslate/Metakolon.pm line 58.
Use of uninitialized value in lc at /bbbike/cpanbuild/HTML-Template-Parser-0.1011-OKVrpM/blib/lib/HTML/Template/Parser/TreeWriter/TextXslate/Metakolon.pm line 58.
Use of uninitialized value in lc at /bbbike/cpanbuild/HTML-Template-Parser-0.1011-OKVrpM/blib/lib/HTML/Template/Parser/TreeWriter/TextXslate/Metakolon.pm line 58.
Use of uninitialized value in lc at /bbbike/cpanbuild/HTML-Template-Parser-0.1011-OKVrpM/blib/lib/HTML/Template/Parser/TreeWriter/TextXslate/Metakolon.pm line 58.
Use of uninitialized value in lc at /bbbike/cpanbuild/HTML-Template-Parser-0.1011-OKVrpM/blib/lib/HTML/Template/Parser/TreeWriter/TextXslate/Metakolon.pm line 58.
Use of uninitialized value in lc at /bbbike/cpanbuild/HTML-Template-Parser-0.1011-OKVrpM/blib/lib/HTML/Template/Parser/TreeWriter/TextXslate/Metakolon.pm line 58.
Use of uninitialized value in lc at /bbbike/cpanbuild/HTML-Template-Parser-0.1011-OKVrpM/blib/lib/HTML/Template/Parser/TreeWriter/TextXslate/Metakolon.pm line 58.
Use of uninitialized value in lc at /bbbike/cpanbuild/HTML-Template-Parser-0.1011-OKVrpM/blib/lib/HTML/Template/Parser/TreeWriter/TextXslate/Metakolon.pm line 58.
Use of uninitialized value in lc at /bbbike/cpanbuild/HTML-Template-Parser-0.1011-OKVrpM/blib/lib/HTML/Template/Parser/TreeWriter/TextXslate/Metakolon.pm line 58.
Use of uninitialized value in lc at /bbbike/cpanbuild/HTML-Template-Parser-0.1011-OKVrpM/blib/lib/HTML/Template/Parser/TreeWriter/TextXslate/Metakolon.pm line 58.
Use of uninitialized value in lc at /bbbike/cpanbuild/HTML-Template-Parser-0.1011-OKVrpM/blib/lib/HTML/Template/Parser/TreeWriter/TextXslate/Metakolon.pm line 58.
Use of uninitialized value in lc at /bbbike/cpanbuild/HTML-Template-Parser-0.1011-OKVrpM/blib/lib/HTML/Template/Parser/TreeWriter/TextXslate/Metakolon.pm line 58.
Use of uninitialized value in lc at /bbbike/cpanbuild/HTML-Template-Parser-0.1011-OKVrpM/blib/lib/HTML/Template/Parser/TreeWriter/TextXslate/Metakolon.pm line 58.
Use of uninitialized value in lc at /bbbike/cpanbuild/HTML-Template-Parser-0.1011-OKVrpM/blib/lib/HTML/Template/Parser/TreeWriter/TextXslate/Metakolon.pm line 58.
t/030_tree_writer/020_textxslate_metakolon/002_write.t .................... ok
t/030_tree_writer/020_textxslate_metakolon/003_replace_tempalte_suffix.t .. ok
t/030_tree_writer/020_textxslate_metakolon/004_wrap_include_target.t ...... ok
t/900_bug/001_not.t ....................................................... ok
t/900_bug/002_float.t ..................................................... ok
t/900_bug/003_name_and_expr.t ............................................. ok
All tests successful.
Files=25, Tests=238,  4 wallclock secs ( 0.09 usr  0.14 sys +  3.37 cusr  0.52 csys =  4.12 CPU)
Result: PASS

------------------------------
PREREQUISITES
------------------------------

Prerequisite modules loaded:

requires:

    Module                Need     Have    
    --------------------- -------- --------
    Class::Accessor::Fast 0        0.34    
    Parse::RecDescent     0        1.967009
    perl                  5.008001 5.019011
    YAML                  0        0.90    

build_requires:

    Module                Need     Have    
    --------------------- -------- --------
    ExtUtils::MakeMaker   6.59     6.96    

configure_requires:

    Module                Need     Have    
    --------------------- -------- --------
    ExtUtils::MakeMaker   6.59     6.96    


------------------------------
ENVIRONMENT AND OTHER CONTEXT
------------------------------

Environment variables:

    DBIC_NO_WARN_BAD_PERL = 1
    LANG = C
    PATH = /usr/local/bin:/usr/bin:/bin:/usr/local/sbin:/usr/sbin:/sbin:/home/eserte/bin/linux-gnu:/home/eserte/bin/sh:/home/eserte/bin:/usr/games:/home/eserte/devel:/home/eserte/src/cpan-testers-parallelsmoker/utils/synced
    PERL5LIB = 
    PERL5OPT = 
    PERL5_CPANPLUS_IS_RUNNING = 18483
    PERL5_CPAN_IS_RUNNING = 18483
    PERL5_CPAN_IS_RUNNING_IN_RECURSION = 8952,18483
    PERLDOC = -MPod::Perldoc::ToTextOverstrike
    PERL_BATCH = yes
    PERL_CPAN_REPORTER_CONFIG = /var/tmp/cpansmoker-1001/DApwKcjMCc_config.ini
    PERL_CPAN_REPORTER_DIR = /home/eserte/var/ctps/51911linux/config/perl-5.19.11/cpanreporter
    PERL_EXTUTILS_AUTOINSTALL = --defaultdeps
    PERL_HTML_DISPLAY_CLASS = HTML::Display::Mozilla
    PERL_PARALLEL_SMOKER = yes
    PERL_TEST_UNPATCHED = 1
    PERL_TEST_UNPATCHED = 1
    SHELL = /usr/bin/zsh
    TERM = xterm
    TMPDIR = /var/tmp/cpansmoker-1001

Perl special variables (and OS-specific diagnostics, for MSWin32):

    $^X = /bbbike/ctps/51911linux/install/perl-5.19.11/bin/perl
    $UID/$EUID = 1001 / 1001
    $GID = 1001 109 1001
    $EGID = 1001 109 1001

Perl module toolchain versions installed:

    Module              Have    
    ------------------- --------
    CPAN                2.05    
    CPAN::Meta          2.141170
    Cwd                 3.47    
    ExtUtils::CBuilder  0.280216
    ExtUtils::Command   1.18    
    ExtUtils::Install   1.67    
    ExtUtils::MakeMaker 6.96    
    ExtUtils::Manifest  1.63    
    ExtUtils::ParseXS   3.24    
    File::Spec          3.47    
    JSON                2.90    
    JSON::PP            2.27203 
    Module::Build       0.4205  
    Module::Signature   0.73    
    Parse::CPAN::Meta   1.4414  
    Test::Harness       3.30    
    Test::More          1.001003
    YAML                0.90    
    YAML::Syck          1.27    
    version             0.9908  


--

Summary of my perl5 (revision 5 version 19 subversion 11) configuration:
   
  Platform:
    osname=linux, osvers=2.6.32-5-xen-amd64, archname=x86_64-linux
    uname='linux eserte 2.6.32-5-xen-amd64 #1 smp mon sep 23 23:29:01 utc 2013 x86_64 gnulinux '
    config_args='-ds -e -Uversiononly -Dinstallusrbinperl=n -Dusedevel -Dprefix=/home/eserte/var/ctps/51911linux/install/perl-5.19.11'
    hint=recommended, useposix=true, d_sigaction=define
    useithreads=undef, usemultiplicity=undef
    use64bitint=define, use64bitall=define, uselongdouble=undef
    usemymalloc=n, bincompat5005=undef
  Compiler:
    cc='cc', ccflags ='-fwrapv -fno-strict-aliasing -pipe -fstack-protector -I/usr/local/include -D_LARGEFILE_SOURCE -D_FILE_OFFSET_BITS=64',
    optimize='-O2',
    cppflags='-fwrapv -fno-strict-aliasing -pipe -fstack-protector -I/usr/local/include'
    ccversion='', gccversion='4.4.5', gccosandvers=''
    intsize=4, longsize=8, ptrsize=8, doublesize=8, byteorder=12345678
    d_longlong=define, longlongsize=8, d_longdbl=define, longdblsize=16
    ivtype='long', ivsize=8, nvtype='double', nvsize=8, Off_t='off_t', lseeksize=8
    alignbytes=8, prototype=define
  Linker and Libraries:
    ld='cc', ldflags =' -fstack-protector -L/usr/local/lib'
    libpth=/usr/local/lib /usr/lib/gcc/x86_64-linux-gnu/4.4.5/include-fixed /usr/lib /lib/../lib /usr/lib/../lib /lib /lib64 /usr/lib64
    libs=-lnsl -ldb -ldl -lm -lcrypt -lutil -lc
    perllibs=-lnsl -ldl -lm -lcrypt -lutil -lc
    libc=libc-2.11.3.so, so=so, useshrplib=false, libperl=libperl.a
    gnulibc_version='2.11.3'
  Dynamic Linking:
    dlsrc=dl_dlopen.xs, dlext=so, d_dlsymun=undef, ccdlflags='-Wl,-E'
    cccdlflags='-fPIC', lddlflags='-shared -O2 -L/usr/local/lib -fstack-protector'


Characteristics of this binary (from libperl): 
  Compile-time options: HAS_TIMES PERLIO_LAYERS PERL_DONT_CREATE_GVSV
                        PERL_HASH_FUNC_ONE_AT_A_TIME_HARD PERL_MALLOC_WRAP
                        PERL_NEW_COPY_ON_WRITE PERL_PRESERVE_IVUV
                        PERL_USE_DEVEL USE_64_BIT_ALL USE_64_BIT_INT
                        USE_LARGE_FILES USE_LOCALE USE_LOCALE_COLLATE
                        USE_LOCALE_CTYPE USE_LOCALE_NUMERIC USE_PERLIO
                        USE_PERL_ATOF
  Built under linux
  Compiled at Apr 26 2014 15:05:12
  %ENV:
    PERL5LIB=""
    PERL5OPT=""
    PERL5_CPANPLUS_IS_RUNNING="18483"
    PERL5_CPAN_IS_RUNNING="18483"
    PERL5_CPAN_IS_RUNNING_IN_RECURSION="8952,18483"
    PERLDOC="-MPod::Perldoc::ToTextOverstrike"
    PERL_BATCH="yes"
    PERL_CPAN_REPORTER_CONFIG="/var/tmp/cpansmoker-1001/DApwKcjMCc_config.ini"
    PERL_CPAN_REPORTER_DIR="/home/eserte/var/ctps/51911linux/config/perl-5.19.11/cpanreporter"
    PERL_EXTUTILS_AUTOINSTALL="--defaultdeps"
    PERL_HTML_DISPLAY_CLASS="HTML::Display::Mozilla"
    PERL_PARALLEL_SMOKER="yes"
    PERL_TEST_UNPATCHED="1"
  @INC:
    /home/eserte/var/ctps/51911linux/install/perl-5.19.11/lib/site_perl/5.19.11/x86_64-linux
    /home/eserte/var/ctps/51911linux/install/perl-5.19.11/lib/site_perl/5.19.11
    /home/eserte/var/ctps/51911linux/install/perl-5.19.11/lib/5.19.11/x86_64-linux
    /home/eserte/var/ctps/51911linux/install/perl-5.19.11/lib/5.19.11
    .