SMS-Send-Mocean v0.03 Perl 5 v5.31.5 x86_64-linux-thread-multi
- Status
- Pass
- From
- Andreas J. König (ANDK)
- Dist
-
SMS-Send-Mocean v0.03
- Platform
- Perl 5 v5.31.5 x86_64-linux-thread-multi
- Date
- 2019-10-23 14:02:06
- ID
- b2b2ef4a-f59d-11e9-b66e-b8b0e83b1713
This distribution has been tested as part of the CPAN Testers
project, supporting the Perl programming language. See
http://wiki.cpantesters.org/ for more information or email
questions to cpan-testers-discuss@perl.org
--
Dear Kian Meng, Ang,
This is a computer-generated report for SMS-Send-Mocean-0.03
on perl 5.31.5, created by CPAN-Reporter-1.2018.
Thank you for uploading your work to CPAN. Congratulations!
All tests were successful.
Sections of this report:
* Tester comments
* Program output
* Prerequisites
* Environment and other context
------------------------------
TESTER COMMENTS
------------------------------
Additional comments from tester:
this report is from an automated smoke testing program
and was not reviewed by a human for accuracy
------------------------------
PROGRAM OUTPUT
------------------------------
Output from './Build test':
t/00-compile.t ............... ok
# Testing with Perl 5.031005, /tmp/basesmoker-reloperl-SEz7/bin/perl
# Carp::Always version is 0.16
# File::Spec version is 3.78
# HTTP::Request::Common version is 6.18
# IO::Handle version is 1.41
# IPC::Open3 version is 1.20
# JSON version is 4.02
# LWP::UserAgent version is 6.39
# Module::Build::Tiny version is 0.039
# Pod::Coverage::TrustPod version is 0.100005
# SMS::Send::Driver version is 0.06
# Test::CPAN::Meta version is 0.25
# Test::DistManifest version is 1.014
# Test::Exception version is 0.43
# Test::HasVersion version is 0.014
# Test::More version is 1.302168
# Test::Perl::Critic version is 1.04
# Test::UseAllModules version is 0.17
# Test::Warn version is 0.36
# URL::Encode version is 0.03
# XML::Hash::LX version is 0.0603
t/000-report-versions.t ...... ok
t/00_load.t .................. ok
t/01_instantiation.t ......... ok
t/02_required.t .............. ok
t/03_to_mocean_field_name.t .. ok
t/04_send_sms_success.t ...... skipped: $ENV for MOCEAN_XXX not set, skipping live tests
t/05_send_sms_errors.t ....... skipped: $ENV for MOCEAN_XXX not set, skipping live tests
t/author-critic.t ............ skipped: these tests are for testing by the author
t/author-eol.t ............... skipped: these tests are for testing by the author
t/author-minimum-version.t ... skipped: these tests are for testing by the author
t/author-pod-coverage.t ...... skipped: these tests are for testing by the author
t/author-pod-syntax.t ........ skipped: these tests are for testing by the author
t/release-distmeta.t ......... skipped: these tests are for release candidate testing
t/release-has-version.t ...... skipped: these tests are for release candidate testing
t/release-kwalitee.t ......... skipped: these tests are for release candidate testing
t/release-unused-vars.t ...... skipped: these tests are for release candidate testing
All tests successful.
Files=17, Tests=30, 2 wallclock secs ( 0.04 usr 0.12 sys + 1.39 cusr 0.35 csys = 1.90 CPU)
Result: PASS
------------------------------
PREREQUISITES
------------------------------
Prerequisite modules loaded:
requires:
Module Need Have
----------------------- -------- --------
Carp::Always 0 0.16
HTTP::Request::Common 0 6.18
JSON 0 4.02
LWP::UserAgent 0 6.39
perl 5.008005 5.031005
SMS::Send::Driver 0 0.06
URL::Encode 0 0.03
XML::Hash::LX 0 0.0603
build_requires:
Module Need Have
----------------------- -------- --------
File::Spec 0 3.78
IO::Handle 0 1.41
IPC::Open3 0 1.20
Pod::Coverage::TrustPod 0 0.100005
Test::CPAN::Meta 0 0.25
Test::DistManifest 0 1.014
Test::Exception 0 0.43
Test::HasVersion 0 0.014
Test::Kwalitee 0 1.28
Test::More 0 1.302168
Test::Perl::Critic 0 1.04
Test::Pod::Coverage 0 1.10
Test::UseAllModules 0 0.17
Test::Warn 0 0.36
configure_requires:
Module Need Have
----------------------- -------- --------
Module::Build::Tiny 0.034 0.039
------------------------------
ENVIRONMENT AND OTHER CONTEXT
------------------------------
Environment variables:
AUTOMATED_TESTING = 1
LANG = en_US.UTF-8
PATH = /home/sand/bin:/usr/local/bin:/usr/local/sbin:/usr/sbin:/usr/bin:/sbin:/bin:/usr/games:/usr/local/games:/usr/local/perl/bin:/usr/X11/bin
PERL = /tmp/basesmoker-reloperl-SEz7/bin/perl
PERL5LIB = /tmp/loop_over_bdir-23088-fcttiq/Serge-1.4-0/blib/arch:/tmp/loop_over_bdir-23088-fcttiq/Serge-1.4-0/blib/lib:/tmp/loop_over_bdir-23088-fcttiq/LiquidWeb-Storm-CLI-1.03-0/blib/arch:/tmp/loop_over_bdir-23088-fcttiq/LiquidWeb-Storm-CLI-1.03-0/blib/lib:/tmp/loop_over_bdir-23088-fcttiq/MP3-PodcastFetch-1.05-0/blib/arch:/tmp/loop_over_bdir-23088-fcttiq/MP3-PodcastFetch-1.05-0/blib/lib:/tmp/loop_over_bdir-23088-fcttiq/DBIx-Migration-Directories-0.12-0/blib/arch:/tmp/loop_over_bdir-23088-fcttiq/DBIx-Migration-Directories-0.12-0/blib/lib
PERL5OPT =
PERL5_CPANPLUS_IS_RUNNING = 23096
PERL5_CPAN_IS_RUNNING = 23096
PERL_CANARY_STABILITY_NOPROMPT = 1
PERL_MM_USE_DEFAULT = 1
PERL_USE_UNSAFE_INC = 1
SHELL = /usr/bin/zsh
TERM = screen
Perl special variables (and OS-specific diagnostics, for MSWin32):
$^X = /tmp/basesmoker-reloperl-SEz7/bin/perl
$UID/$EUID = 1005 / 1005
$GID = 1005 1005
$EGID = 1005 1005
Perl module toolchain versions installed:
Module Have
------------------- --------
CPAN 2.27
CPAN::Meta 2.150010
Cwd 3.78
ExtUtils::CBuilder 0.280233
ExtUtils::Command 7.38
ExtUtils::Install 2.14
ExtUtils::MakeMaker 7.38
ExtUtils::Manifest 1.72
ExtUtils::ParseXS 3.40
File::Spec 3.78
JSON 4.02
JSON::PP 4.04
Module::Build 0.4229
Module::Signature 0.83
Parse::CPAN::Meta 2.150010
Test::Harness 3.42
Test::More 1.302168
YAML 1.29
YAML::Syck 1.31
version 0.9924
--
Summary of my perl5 (revision 5 version 31 subversion 5) configuration:
Commit id: 855bce9a38fe83707e88a27f961aa4a070555df7
Platform:
osname=linux
osvers=4.15.0-65-generic
archname=x86_64-linux-thread-multi
uname='linux k93bionic 4.15.0-65-generic #74-ubuntu smp tue sep 17 17:06:04 utc 2019 x86_64 x86_64 x86_64 gnulinux '
config_args='-Dprefix=/home/sand/src/perl/repoperls/installed-perls/host/k93bionic/v5.31.5/7ee9 -Dmyhostname=k93bionic -Dinstallusrbinperl=n -Uversiononly -Dusedevel -des -Ui_db -Dlibswanted=cl pthread socket inet nsl gdbm dbm malloc dl ld sun m crypt sec util c cposix posix ucb BSD gdbm_compat -Duseithreads -Uuselongdouble -DEBUGGING=-g'
hint=recommended
useposix=true
d_sigaction=define
useithreads=define
usemultiplicity=define
use64bitint=define
use64bitall=define
uselongdouble=undef
usemymalloc=n
default_inc_excludes_dot=define
bincompat5005=undef
Compiler:
cc='cc'
ccflags ='-D_REENTRANT -D_GNU_SOURCE -fwrapv -fno-strict-aliasing -pipe -fstack-protector-strong -I/usr/local/include -D_LARGEFILE_SOURCE -D_FILE_OFFSET_BITS=64'
optimize='-O2 -g'
cppflags='-D_REENTRANT -D_GNU_SOURCE -fwrapv -fno-strict-aliasing -pipe -fstack-protector-strong -I/usr/local/include'
ccversion=''
gccversion='7.4.0'
gccosandvers=''
intsize=4
longsize=8
ptrsize=8
doublesize=8
byteorder=12345678
doublekind=3
d_longlong=define
longlongsize=8
d_longdbl=define
longdblsize=16
longdblkind=3
ivtype='long'
ivsize=8
nvtype='double'
nvsize=8
Off_t='off_t'
lseeksize=8
alignbytes=8
prototype=define
Linker and Libraries:
ld='cc'
ldflags =' -fstack-protector-strong -L/usr/local/lib'
libpth=/usr/local/lib /usr/lib/gcc/x86_64-linux-gnu/7/include-fixed /usr/include/x86_64-linux-gnu /usr/lib /lib/x86_64-linux-gnu /lib/../lib /usr/lib/x86_64-linux-gnu /usr/lib/../lib /lib
libs=-lpthread -lnsl -ldl -lm -lcrypt -lutil -lc
perllibs=-lpthread -lnsl -ldl -lm -lcrypt -lutil -lc
libc=libc-2.27.so
so=so
useshrplib=false
libperl=libperl.a
gnulibc_version='2.27'
Dynamic Linking:
dlsrc=dl_dlopen.xs
dlext=so
d_dlsymun=undef
ccdlflags='-Wl,-E'
cccdlflags='-fPIC'
lddlflags='-shared -O2 -g -L/usr/local/lib -fstack-protector-strong'
Characteristics of this binary (from libperl):
Compile-time options:
HAS_TIMES
MULTIPLICITY
PERLIO_LAYERS
PERL_COPY_ON_WRITE
PERL_DONT_CREATE_GVSV
PERL_IMPLICIT_CONTEXT
PERL_MALLOC_WRAP
PERL_OP_PARENT
PERL_PRESERVE_IVUV
PERL_USE_DEVEL
USE_64_BIT_ALL
USE_64_BIT_INT
USE_ITHREADS
USE_LARGE_FILES
USE_LOCALE
USE_LOCALE_COLLATE
USE_LOCALE_CTYPE
USE_LOCALE_NUMERIC
USE_LOCALE_TIME
USE_PERLIO
USE_PERL_ATOF
USE_REENTRANT_API
USE_THREAD_SAFE_LOCALE
Built under linux
Compiled at Oct 21 2019 04:39:29
%ENV:
PERL="/tmp/basesmoker-reloperl-SEz7/bin/perl"
PERL5LIB="/tmp/loop_over_bdir-23088-fcttiq/Serge-1.4-0/blib/arch:/tmp/loop_over_bdir-23088-fcttiq/Serge-1.4-0/blib/lib:/tmp/loop_over_bdir-23088-fcttiq/LiquidWeb-Storm-CLI-1.03-0/blib/arch:/tmp/loop_over_bdir-23088-fcttiq/LiquidWeb-Storm-CLI-1.03-0/blib/lib:/tmp/loop_over_bdir-23088-fcttiq/MP3-PodcastFetch-1.05-0/blib/arch:/tmp/loop_over_bdir-23088-fcttiq/MP3-PodcastFetch-1.05-0/blib/lib:/tmp/loop_over_bdir-23088-fcttiq/DBIx-Migration-Directories-0.12-0/blib/arch:/tmp/loop_over_bdir-23088-fcttiq/DBIx-Migration-Directories-0.12-0/blib/lib"
PERL5OPT=""
PERL5_CPANPLUS_IS_RUNNING="23096"
PERL5_CPAN_IS_RUNNING="23096"
PERL_CANARY_STABILITY_NOPROMPT="1"
PERL_MM_USE_DEFAULT="1"
PERL_USE_UNSAFE_INC="1"
@INC:
/tmp/loop_over_bdir-23088-fcttiq/Serge-1.4-0/blib/arch
/tmp/loop_over_bdir-23088-fcttiq/Serge-1.4-0/blib/lib
/tmp/loop_over_bdir-23088-fcttiq/LiquidWeb-Storm-CLI-1.03-0/blib/arch
/tmp/loop_over_bdir-23088-fcttiq/LiquidWeb-Storm-CLI-1.03-0/blib/lib
/tmp/loop_over_bdir-23088-fcttiq/MP3-PodcastFetch-1.05-0/blib/arch
/tmp/loop_over_bdir-23088-fcttiq/MP3-PodcastFetch-1.05-0/blib/lib
/tmp/loop_over_bdir-23088-fcttiq/DBIx-Migration-Directories-0.12-0/blib/arch
/tmp/loop_over_bdir-23088-fcttiq/DBIx-Migration-Directories-0.12-0/blib/lib
/home/sand/src/perl/repoperls/installed-perls/host/k93bionic/v5.31.5/7ee9/lib/site_perl/5.31.5/x86_64-linux-thread-multi
/home/sand/src/perl/repoperls/installed-perls/host/k93bionic/v5.31.5/7ee9/lib/site_perl/5.31.5
/home/sand/src/perl/repoperls/installed-perls/host/k93bionic/v5.31.5/7ee9/lib/5.31.5/x86_64-linux-thread-multi
/home/sand/src/perl/repoperls/installed-perls/host/k93bionic/v5.31.5/7ee9/lib/5.31.5
.