DateTime-Format-Strptime v1.79 Perl 5 v5.38.2 darwin-thread-multi-2level
- Status
- Pass
- From
- Abe Timmerman
- Dist
-
DateTime-Format-Strptime v1.79
- Platform
- Perl 5 v5.38.2 darwin-thread-multi-2level
- Date
- 2023-12-01 18:44:45
- ID
- b2bc5d34-9079-11ee-b14d-6ca631b2d3cc
This distribution has been tested as part of the CPAN Testers
project, supporting the Perl programming language. See
http://wiki.cpantesters.org/ for more information or email
questions to cpan-testers-discuss@perl.org
--
Dear Dave Rolsky,
This is a computer-generated report for DateTime-Format-Strptime-1.79
on perl 5.38.2, created by CPAN-Reporter-1.2019.
Thank you for uploading your work to CPAN. Congratulations!
All tests were successful.
Sections of this report:
* Tester comments
* Program output
* Prerequisites
* Environment and other context
------------------------------
TESTER COMMENTS
------------------------------
Additional comments from tester:
none provided
------------------------------
PROGRAM OUTPUT
------------------------------
Output from '/usr/bin/make test':
PERL_DL_NONLAZY=1 "/opt/homebrew/Cellar/perl/5.38.2/bin/perl" "-MExtUtils::Command::MM" "-MTest::Harness" "-e" "undef *Test::Harness::Switches; test_harness(0, 'blib/lib', 'blib/arch')" t/*.t
#
# Versions for all modules listed in MYMETA.json (including optional ones):
#
# === Configure Requires ===
#
# Module Want Have
# ------------------- ---- ----
# ExtUtils::MakeMaker any 7.70
#
# === Configure Suggests ===
#
# Module Want Have
# -------- ------- ----
# JSON::PP 2.27300 4.16
#
# === Build Requires ===
#
# Module Want Have
# ------------------- ---- ----
# ExtUtils::MakeMaker any 7.70
#
# === Test Requires ===
#
# Module Want Have
# ------------------- ---- --------
# ExtUtils::MakeMaker any 7.70
# File::Spec any 3.88
# FindBin any 1.53
# Test::Builder any 1.302194
# Test::Fatal any 0.017
# Test::More 0.96 1.302194
# Test::Warnings any 0.032
# lib any 0.65
# utf8 any 1.25
#
# === Test Recommends ===
#
# Module Want Have
# ---------- -------- --------
# CPAN::Meta 2.120900 2.150010
#
# === Runtime Requires ===
#
# Module Want Have
# -------------------------- ---- -----
# Carp any 1.54
# DateTime 1.00 1.65
# DateTime::Locale 1.30 1.40
# DateTime::Locale::Base any 1.40
# DateTime::Locale::FromData any 1.40
# DateTime::TimeZone 2.09 2.60
# Exporter any 5.77
# Params::ValidationCompiler any 0.31
# Specio 0.33 0.48
# Specio::Declare any 0.48
# Specio::Exporter any 0.48
# Specio::Library::Builtins any 0.48
# Specio::Library::String any 0.48
# Try::Tiny any 0.31
# constant any 1.33
# parent any 0.241
# strict any 1.12
# warnings any 1.65
#
t/00-report-prereqs.t .... ok
t/basic.t ................ ok
Subroutine olson_version redefined at /opt/homebrew/opt/perl/lib/perl5/site_perl/5.38/DateTime/TimeZone/america/new_york.pm line 2098, <DATA> line 1.
Subroutine has_dst_changes redefined at /opt/homebrew/opt/perl/lib/perl5/site_perl/5.38/DateTime/TimeZone/america/new_york.pm line 2100, <DATA> line 1.
Subroutine _max_year redefined at /opt/homebrew/opt/perl/lib/perl5/site_perl/5.38/DateTime/TimeZone/america/new_york.pm line 2102, <DATA> line 1.
Subroutine _new_instance redefined at /opt/homebrew/opt/perl/lib/perl5/site_perl/5.38/DateTime/TimeZone/america/new_york.pm line 2104, <DATA> line 1.
Subroutine _last_offset redefined at /opt/homebrew/opt/perl/lib/perl5/site_perl/5.38/DateTime/TimeZone/america/new_york.pm line 2108, <DATA> line 1.
Subroutine _last_observance redefined at /opt/homebrew/opt/perl/lib/perl5/site_perl/5.38/DateTime/TimeZone/america/new_york.pm line 2146, <DATA> line 1.
Subroutine _rules redefined at /opt/homebrew/opt/perl/lib/perl5/site_perl/5.38/DateTime/TimeZone/america/new_york.pm line 2173, <DATA> line 1.
Subroutine olson_version redefined at /opt/homebrew/opt/perl/lib/perl5/site_perl/5.38/DateTime/TimeZone/amERicA/new_YORK.pm line 2098, <DATA> line 1.
Subroutine has_dst_changes redefined at /opt/homebrew/opt/perl/lib/perl5/site_perl/5.38/DateTime/TimeZone/amERicA/new_YORK.pm line 2100, <DATA> line 1.
Subroutine _max_year redefined at /opt/homebrew/opt/perl/lib/perl5/site_perl/5.38/DateTime/TimeZone/amERicA/new_YORK.pm line 2102, <DATA> line 1.
Subroutine _new_instance redefined at /opt/homebrew/opt/perl/lib/perl5/site_perl/5.38/DateTime/TimeZone/amERicA/new_YORK.pm line 2104, <DATA> line 1.
Subroutine _last_offset redefined at /opt/homebrew/opt/perl/lib/perl5/site_perl/5.38/DateTime/TimeZone/amERicA/new_YORK.pm line 2108, <DATA> line 1.
Subroutine _last_observance redefined at /opt/homebrew/opt/perl/lib/perl5/site_perl/5.38/DateTime/TimeZone/amERicA/new_YORK.pm line 2146, <DATA> line 1.
Subroutine _rules redefined at /opt/homebrew/opt/perl/lib/perl5/site_perl/5.38/DateTime/TimeZone/amERicA/new_YORK.pm line 2173, <DATA> line 1.
t/edge.t ................. ok
t/errors.t ............... ok
t/format-datetime.t ...... ok
t/format-with-locale.t ... ok
t/generated-locale-de.t .. ok
t/generated-locale-en.t .. ok
t/generated-locale-ga.t .. ok
t/generated-locale-pt.t .. ok
t/generated-locale-zh.t .. ok
t/import.t ............... ok
t/zones.t ................ ok
All tests successful.
Files=13, Tests=143, 2 wallclock secs ( 0.04 usr 0.02 sys + 1.30 cusr 0.15 csys = 1.51 CPU)
Result: PASS
------------------------------
PREREQUISITES
------------------------------
Prerequisite modules loaded:
requires:
Module Need Have
-------------------------- -------- --------
Carp 0 1.54
constant 0 1.33
DateTime 1.00 1.65
DateTime::Locale 1.30 1.40
DateTime::Locale::Base 0 1.40
DateTime::Locale::FromData 0 1.40
DateTime::TimeZone 2.09 2.60
Exporter 0 5.77
Params::ValidationCompiler 0 0.31
parent 0 0.241
Specio 0.33 0.48
Specio::Declare 0 0.48
Specio::Exporter 0 0.48
Specio::Library::Builtins 0 0.48
Specio::Library::String 0 0.48
strict 0 1.12
Try::Tiny 0 0.31
warnings 0 1.65
build_requires:
Module Need Have
-------------------------- -------- --------
ExtUtils::MakeMaker 0 7.70
File::Spec 0 3.88
FindBin 0 1.53
lib 0 0.65
Test::Builder 0 1.302194
Test::Fatal 0 0.017
Test::More 0.96 1.302194
Test::Warnings 0 0.032
utf8 0 1.25
configure_requires:
Module Need Have
-------------------------- -------- --------
ExtUtils::MakeMaker 0 7.70
opt_build_requires:
Module Need Have
-------------------------- -------- --------
CPAN::Meta 2.120900 2.150010
------------------------------
ENVIRONMENT AND OTHER CONTEXT
------------------------------
Environment variables:
LC_ALL = en_US.UTF-8
NONINTERACTIVE_TESTING = 1
PATH = /opt/homebrew/opt/perl/bin:/opt/homebrew/bin:/opt/homebrew/sbin:/Users/abeltje/bin:/Users/abeltje/xsbin:/usr/local/bin:/usr/bin:/bin:/usr/local/sbin/:/usr/sbin:/sbin
PERL5LIB =
PERL5OPT =
PERL5_CPANPLUS_IS_RUNNING = 7204
PERL5_CPAN_IS_RUNNING = 7204
PERL_MM_USE_DEFAULT = 1
PERL_USE_UNSAFE_INC = 1
SHELL = /bin/bash
TERM = screen-256color
TMPDIR = /var/folders/mk/6yqfnld12zbgp3gq6j52f3z40000gn/T/
VERSIONER_PERL_VERSION = 5.30
Perl special variables (and OS-specific diagnostics, for MSWin32):
$^X = /opt/homebrew/Cellar/perl/5.38.2/bin/perl
$UID/$EUID = 501 / 501
$GID = 20 20 12 61 79 80 81 98 702 33 100 204 250 395 398 399 400
$EGID = 20 20 12 61 79 80 81 98 702 33 100 204 250 395 398 399 400
Perl module toolchain versions installed:
Module Have
------------------- --------
CPAN 2.36
CPAN::Meta 2.150010
Cwd 3.89
ExtUtils::CBuilder 0.280238
ExtUtils::Command 7.70
ExtUtils::Install 2.22
ExtUtils::MakeMaker 7.70
ExtUtils::Manifest 1.73
ExtUtils::ParseXS 3.51
File::Spec 3.88
JSON n/a
JSON::PP 4.16
Module::Build 0.4234
Module::Signature 0.88
Parse::CPAN::Meta 2.150010
Test2 1.302194
Test::Harness 3.44
Test::More 1.302194
YAML 1.30
YAML::Syck n/a
version 0.9929
--
Summary of my perl5 (revision 5 version 38 subversion 2) configuration:
Platform:
osname=darwin
osvers=23.0.0
archname=darwin-thread-multi-2level
uname='darwin sonoma-arm64.local 23.0.0 darwin kernel version 23.0.0: thu aug 17 21:24:15 pdt 2023; root:xnu-10002.1.11~3release_arm64_vmapple arm64 '
config_args='-des -Dinstallstyle=lib/perl5 -Dinstallprefix=/opt/homebrew/Cellar/perl/5.38.2 -Dprefix=/opt/homebrew/opt/perl -Dprivlib=/opt/homebrew/opt/perl/lib/perl5/5.38 -Dsitelib=/opt/homebrew/opt/perl/lib/perl5/site_perl/5.38 -Dotherlibdirs=/opt/homebrew/lib/perl5/site_perl/5.38 -Dperlpath=/opt/homebrew/opt/perl/bin/perl -Dstartperl=#!/opt/homebrew/opt/perl/bin/perl -Dman1dir=/opt/homebrew/opt/perl/share/man/man1 -Dman3dir=/opt/homebrew/opt/perl/share/man/man3 -Duseshrplib -Duselargefiles -Dusethreads'
hint=recommended
useposix=true
d_sigaction=define
useithreads=define
usemultiplicity=define
use64bitint=define
use64bitall=define
uselongdouble=undef
usemymalloc=n
default_inc_excludes_dot=define
Compiler:
cc='cc'
ccflags ='-fno-common -DPERL_DARWIN -mmacosx-version-min=14.0 -DNO_POSIX_2008_LOCALE -fno-strict-aliasing -pipe -fstack-protector-strong'
optimize='-O3'
cppflags='-fno-common -DPERL_DARWIN -mmacosx-version-min=14.0 -DNO_POSIX_2008_LOCALE -fno-strict-aliasing -pipe -fstack-protector-strong'
ccversion=''
gccversion='Apple LLVM 15.0.0 (clang-1500.0.40.1)'
gccosandvers=''
intsize=4
longsize=8
ptrsize=8
doublesize=8
byteorder=12345678
doublekind=3
d_longlong=define
longlongsize=8
d_longdbl=define
longdblsize=8
longdblkind=0
ivtype='long'
ivsize=8
nvtype='double'
nvsize=8
Off_t='off_t'
lseeksize=8
alignbytes=8
prototype=define
Linker and Libraries:
ld='cc'
ldflags =' -mmacosx-version-min=14.0 -fstack-protector-strong'
libpth=/opt/homebrew/Cellar/berkeley-db/18.1.40_2/lib /opt/homebrew/lib /Applications/Xcode.app/Contents/Developer/Toolchains/XcodeDefault.xctoolchain/usr/lib/clang/15.0.0/lib /Library/Developer/CommandLineTools/SDKs/MacOSX14.0.sdk/usr/lib /Applications/Xcode.app/Contents/Developer/Toolchains/XcodeDefault.xctoolchain/usr/lib /usr/lib
libs=-lgdbm -ldb
perllibs=
libc=
so=dylib
useshrplib=true
libperl=libperl.dylib
gnulibc_version=''
Dynamic Linking:
dlsrc=dl_dlopen.xs
dlext=bundle
d_dlsymun=undef
ccdlflags=' '
cccdlflags=' '
lddlflags=' -mmacosx-version-min=14.0 -bundle -undefined dynamic_lookup -fstack-protector-strong'
Characteristics of this binary (from libperl):
Compile-time options:
HAS_LONG_DOUBLE
HAS_STRTOLD
HAS_TIMES
MULTIPLICITY
PERLIO_LAYERS
PERL_COPY_ON_WRITE
PERL_DONT_CREATE_GVSV
PERL_HASH_FUNC_SIPHASH13
PERL_HASH_USE_SBOX32
PERL_MALLOC_WRAP
PERL_OP_PARENT
PERL_PRESERVE_IVUV
PERL_USE_SAFE_PUTENV
USE_64_BIT_ALL
USE_64_BIT_INT
USE_ITHREADS
USE_LARGE_FILES
USE_LOCALE
USE_LOCALE_COLLATE
USE_LOCALE_CTYPE
USE_LOCALE_NUMERIC
USE_LOCALE_TIME
USE_PERLIO
USE_PERL_ATOF
USE_REENTRANT_API
Built under darwin
Compiled at Nov 28 2023 14:04:47
%ENV:
PERL5LIB=""
PERL5OPT=""
PERL5_CPANPLUS_IS_RUNNING="7204"
PERL5_CPAN_IS_RUNNING="7204"
PERL_MM_USE_DEFAULT="1"
PERL_USE_UNSAFE_INC="1"
@INC:
/opt/homebrew/opt/perl/lib/perl5/site_perl/5.38/darwin-thread-multi-2level
/opt/homebrew/opt/perl/lib/perl5/site_perl/5.38
/opt/homebrew/opt/perl/lib/perl5/5.38/darwin-thread-multi-2level
/opt/homebrew/opt/perl/lib/perl5/5.38
/opt/homebrew/lib/perl5/site_perl/5.38/darwin-thread-multi-2level
/opt/homebrew/lib/perl5/site_perl/5.38
.