Back
From: metabase:user:314402c4-2aae-11df-837a-5e0a49663a4f
Subject: PASS Catalyst-Model-DBIC-Schema-0.65 v5.18.4 FreeBSD
Date: 2015-04-04T18:45:00Z
This distribution has been tested as part of the CPAN Testers
project, supporting the Perl programming language. See
http://wiki.cpantesters.org/ for more information or email
questions to cpan-testers-discuss@perl.org
--
Dear Gareth Kirwan,
This is a computer-generated report for Catalyst-Model-DBIC-Schema-0.65
on perl 5.18.4, created by CPAN-Reporter-1.2011.
Thank you for uploading your work to CPAN. Congratulations!
All tests were successful.
Sections of this report:
* Tester comments
* Program output
* Prerequisites
* Environment and other context
------------------------------
TESTER COMMENTS
------------------------------
Additional comments from tester:
none provided
------------------------------
PROGRAM OUTPUT
------------------------------
Output from '/usr/bin/make test':
PERL_DL_NONLAZY=1 /usr/perl5.18.4p/bin/perl "-MExtUtils::Command::MM" "-e" "test_harness(0, 'inc', 'blib/lib', 'blib/arch')" t/01use.t t/02pod.t t/05testapp.t t/06c3_issues.t t/07connect_info.t t/08helper.t t/09schema_options.t t/10literal_sql_through_accessor.t
t/01use.t ........................... ok
t/02pod.t ........................... skipped: set TEST_POD to enable this test
t/05testapp.t ....................... skipped: Enable this optional test with $ENV{C_M_DBIC_SCHEMA_TESTAPP}
t/06c3_issues.t ..................... ok
t/07connect_info.t .................. ok
t/08helper.t ........................ skipped: Test requires module 'Catalyst::Helper' but it's not found
t/09schema_options.t ................ ok
t/10literal_sql_through_accessor.t .. ok
All tests successful.
Files=8, Tests=25, 12 wallclock secs ( 0.08 usr 0.04 sys + 10.44 cusr 0.92 csys = 11.48 CPU)
Result: PASS
------------------------------
PREREQUISITES
------------------------------
Prerequisite modules loaded:
requires:
Module Need Have
--------------------------------------- -------- --------
Carp::Clan 0 6.04
Catalyst::Component::InstancePerContext 0 0.001001
Catalyst::Runtime 5.80005 5.90085
CatalystX::Component::Traits 0.14 0.19
DBD::SQLite 0 1.46
DBIx::Class 0.08114 0.082820
Hash::Merge 0 0.200
List::MoreUtils 0 0.410
Module::Runtime 0.012 0.014
Moose 1.12 2.1403
MooseX::MarkAsMethods 0.13 0.15
MooseX::Types 0 0.45
MooseX::Types::LoadableClass 0.009 0.013
namespace::autoclean 0.09 0.24
namespace::clean 0 0.25
perl 5.008001 5.018004
Storable 0 2.41
Test::Exception 0 0.38
Test::More 0.94 1.001014
Test::Requires 0 0.08
Tie::IxHash 0 1.23
Try::Tiny 0 0.22
build_requires:
Module Need Have
--------------------------------------- -------- --------
DBD::SQLite 0 1.46
ExtUtils::MakeMaker 6.59 6.66
Storable 0 2.41
Test::Exception 0 0.38
Test::More 0.94 1.001014
Test::Requires 0 0.08
configure_requires:
Module Need Have
--------------------------------------- -------- --------
ExtUtils::MakeMaker 6.59 6.66
------------------------------
ENVIRONMENT AND OTHER CONTEXT
------------------------------
Environment variables:
DBIC_NO_WARN_BAD_PERL = 1
LC_ALL = de_DE.ISO8859-1
PATH = /usr/local/bin:/usr/bin:/bin:/usr/local/sbin:/usr/sbin:/sbin:/home/cpansand/bin/freebsd10.0:/home/cpansand/bin/sh:/home/cpansand/bin:/usr/games:/home/cpansand/devel:/home/eserte/src/srezic-misc/scripts
PERL = /usr/perl5.18.4p/bin/perl
PERL5LIB =
PERL5OPT =
PERL5_CPANPLUS_IS_RUNNING = 64019
PERL5_CPAN_IS_RUNNING = 64019
PERL5_CPAN_IS_RUNNING_IN_RECURSION = 63983,64019
PERLDOC = -MPod::Perldoc::ToTextOverstrike
PERL_BATCH = yes
PERL_CPAN_REPORTER_CONFIG = /var/tmp/cpansmoker-1023/ZDFmO0EJuO_config.ini
PERL_EXTUTILS_AUTOINSTALL = --defaultdeps
PERL_HTML_DISPLAY_CLASS = HTML::Display::Mozilla
SHELL = /usr/local/bin/zsh
TERM = screen
TMPDIR = /var/tmp/cpansmoker-1023
Perl special variables (and OS-specific diagnostics, for MSWin32):
$^X = /usr/perl5.18.4p/bin/perl
$UID/$EUID = 1023 / 1023
$GID = 1023 1023
$EGID = 1023 1023
Perl module toolchain versions installed:
Module Have
------------------- --------
CPAN 2.00
CPAN::Meta 2.150001
Cwd 3.40
ExtUtils::CBuilder 0.280210
ExtUtils::Command 1.17
ExtUtils::Install 1.59
ExtUtils::MakeMaker 6.66
ExtUtils::Manifest 1.63
ExtUtils::ParseXS 3.24
File::Spec 3.40
JSON 2.90
JSON::PP 2.27202
Module::Build 0.4211
Module::Signature n/a
Parse::CPAN::Meta 1.4414
Test::Harness 3.35
Test::More 1.001014
YAML 1.14
YAML::Syck 1.29
version 0.9902
--
Summary of my perl5 (revision 5 version 18 subversion 4) configuration:
Platform:
osname=freebsd, osvers=10.1-release, archname=amd64-freebsd
uname='freebsd cvrsnica-freebsd-101.herceg.de 10.1-release freebsd 10.1-release #0 r274401: tue nov 11 21:02:49 utc 2014 root@releng1.nyi.freebsd.org:usrobjusrsrcsysgeneric amd64 '
config_args='-ds -e -Dprefix=/usr/perl5.18.4p'
hint=recommended, useposix=true, d_sigaction=define
useithreads=undef, usemultiplicity=undef
useperlio=define, d_sfio=undef, uselargefiles=define, usesocks=undef
use64bitint=define, use64bitall=define, uselongdouble=undef
usemymalloc=n, bincompat5005=undef
Compiler:
cc='cc', ccflags ='-DHAS_FPSETMASK -DHAS_FLOATINGPOINT_H -fno-strict-aliasing -pipe -fstack-protector -I/usr/local/include',
optimize='-O',
cppflags='-DHAS_FPSETMASK -DHAS_FLOATINGPOINT_H -fno-strict-aliasing -pipe -fstack-protector -I/usr/local/include'
ccversion='', gccversion='4.2.1 Compatible FreeBSD Clang 3.4.1 (tags/RELEASE_34/dot1-final 208032)', gccosandvers=''
intsize=4, longsize=8, ptrsize=8, doublesize=8, byteorder=12345678
d_longlong=define, longlongsize=8, d_longdbl=define, longdblsize=16
ivtype='long', ivsize=8, nvtype='double', nvsize=8, Off_t='off_t', lseeksize=8
alignbytes=8, prototype=define
Linker and Libraries:
ld='cc', ldflags ='-pthread -Wl,-E -fstack-protector -L/usr/local/lib'
libpth=/usr/lib /usr/local/lib
libs=-lgdbm -lm -lcrypt -lutil -lc
perllibs=-lm -lcrypt -lutil -lc
libc=, so=so, useshrplib=false, libperl=libperl.a
gnulibc_version=''
Dynamic Linking:
dlsrc=dl_dlopen.xs, dlext=so, d_dlsymun=undef, ccdlflags=' '
cccdlflags='-DPIC -fPIC', lddlflags='-shared -L/usr/local/lib -fstack-protector'
Characteristics of this binary (from libperl):
Compile-time options: HAS_TIMES PERLIO_LAYERS PERL_DONT_CREATE_GVSV
PERL_HASH_FUNC_ONE_AT_A_TIME_HARD PERL_MALLOC_WRAP
PERL_PRESERVE_IVUV PERL_SAWAMPERSAND USE_64_BIT_ALL
USE_64_BIT_INT USE_LARGE_FILES USE_LOCALE
USE_LOCALE_COLLATE USE_LOCALE_CTYPE
USE_LOCALE_NUMERIC USE_PERLIO USE_PERL_ATOF
Built under freebsd
Compiled at Apr 4 2015 13:03:15
%ENV:
PERL="/usr/perl5.18.4p/bin/perl"
PERL5LIB=""
PERL5OPT=""
PERL5_CPANPLUS_IS_RUNNING="64019"
PERL5_CPAN_IS_RUNNING="64019"
PERL5_CPAN_IS_RUNNING_IN_RECURSION="63983,64019"
PERLDOC="-MPod::Perldoc::ToTextOverstrike"
PERL_BATCH="yes"
PERL_CPAN_REPORTER_CONFIG="/var/tmp/cpansmoker-1023/ZDFmO0EJuO_config.ini"
PERL_EXTUTILS_AUTOINSTALL="--defaultdeps"
PERL_HTML_DISPLAY_CLASS="HTML::Display::Mozilla"
@INC:
/usr/perl5.18.4p/lib/site_perl/5.18.4/amd64-freebsd
/usr/perl5.18.4p/lib/site_perl/5.18.4
/usr/perl5.18.4p/lib/5.18.4/amd64-freebsd
/usr/perl5.18.4p/lib/5.18.4
.