Alien-Gnuplot v1.041 Perl 5 v5.32.1 amd64-openbsd
- Status
- Pass
- From
- David Solimano
- Dist
-
Alien-Gnuplot v1.041
- Platform
- Perl 5 v5.32.1 amd64-openbsd
- Date
- 2023-03-13 14:52:38
- ID
- b2c687d6-c1ae-11ed-a3ed-82a96265c5dd
This distribution has been tested as part of the CPAN Testers
project, supporting the Perl programming language. See
http://wiki.cpantesters.org/ for more information or email
questions to cpan-testers-discuss@perl.org
--
Dear Ed J,
This is a computer-generated report for Alien-Gnuplot-1.041
on perl 5.32.1, created by CPAN-Reporter-1.2018.
Thank you for uploading your work to CPAN. Congratulations!
All tests were successful.
Sections of this report:
* Tester comments
* Program output
* Prerequisites
* Environment and other context
------------------------------
TESTER COMMENTS
------------------------------
Additional comments from tester:
this report is from an automated smoke testing program
and was not reviewed by a human for accuracy
------------------------------
PROGRAM OUTPUT
------------------------------
Output from '/usr/bin/make test':
"/usr/bin/perl" -MAlien::Build::MM=cmd -e test
PERL_DL_NONLAZY=1 "/usr/bin/perl" "-MExtUtils::Command::MM" "-MTest::Harness" "-e" "undef *Test::Harness::Switches; test_harness(0, 'blib/lib', 'blib/arch')" t/*.t
t/01-vars.t ..... ok
t/02-version.t .. ok
t/03-env.t ...... ok
All tests successful.
Files=3, Tests=15, 2 wallclock secs ( 0.05 usr 0.04 sys + 0.97 cusr 0.33 csys = 1.39 CPU)
Result: PASS
------------------------------
PREREQUISITES
------------------------------
Prerequisite modules loaded:
requires:
Module Need Have
------------------- -------- --------
Alien::Build 0.25 2.78
Env 0 1.04
File::Spec 0 3.78
File::Temp 0 0.2309
File::Which 0 1.27
HTTP::Tiny 0 0.076
perl 5.006000 5.032001
POSIX 0 1.94
Time::HiRes 0 1.9764
build_requires:
Module Need Have
------------------- -------- --------
Alien::Build 2.19 2.78
Alien::Build::MM 0.32 2.78
Archive::Tar 0 2.40
Config 0 5.032001
Env 0 1.04
ExtUtils::MakeMaker 6.52 7.66
File::Spec 0 3.78
File::Temp 0 0.2309
File::Which 0 1.27
HTTP::Tiny 0.044 0.076
IO::Socket::SSL 1.56 1.999
IO::Zlib 0 1.10
Mozilla::CA 0 20221114
Net::SSLeay 1.49 1.92
POSIX 0 1.94
Test::Exception 0 0.43
Test::More 0 1.302191
Time::HiRes 0 1.9764
URI 0 5.17
version 0.77 0.9929
configure_requires:
Module Need Have
------------------- -------- --------
Alien::Build 2.19 2.78
Alien::Build::MM 0.32 2.78
ExtUtils::MakeMaker 6.52 7.66
------------------------------
ENVIRONMENT AND OTHER CONTEXT
------------------------------
Environment variables:
AUTOMATED_TESTING = 1
PATH = /home/perluser/perl5/bin:/home/perluser/perl5/perlbrew/bin:/home/perluser/bin:/bin:/sbin:/usr/bin:/usr/sbin:/usr/X11R6/bin:/usr/local/bin:/usr/local/sbin:/usr/games:.
PERL5LIB = /home/perluser/.cpan/build/Devel-Hide-0.0015-3/blib/arch:/home/perluser/.cpan/build/Devel-Hide-0.0015-3/blib/lib:/home/perluser/.cpan/build/Alien-Build-2.78-3/blib/arch:/home/perluser/.cpan/build/Alien-Build-2.78-3/blib/lib:/home/perluser/.cpan/build/File-chdir-0.1011-3/blib/arch:/home/perluser/.cpan/build/File-chdir-0.1011-3/blib/lib:/home/perluser/.cpan/build/FFI-CheckLib-0.31-3/blib/arch:/home/perluser/.cpan/build/FFI-CheckLib-0.31-3/blib/lib:/home/perluser/perl5/lib/perl5
PERL5OPT =
PERL5_CPANPLUS_IS_RUNNING = 59836
PERL5_CPAN_IS_RUNNING = 59836
PERL5_CPAN_IS_RUNNING_IN_RECURSION = 14772,59836
PERLBREW_HOME = /home/perluser/.perlbrew
PERLBREW_ROOT = /home/perluser/perl5/perlbrew
PERLBREW_SHELLRC_VERSION = 0.96
PERL_CR_SMOKER_CURRENT = Alien-Gnuplot-1.041
PERL_EXTUTILS_AUTOINSTALL = --defaultdeps
PERL_LOCAL_LIB_ROOT = /home/perluser/perl5
PERL_MB_OPT = --install_base "/home/perluser/perl5"
PERL_MM_OPT = INSTALL_BASE=/home/perluser/perl5
PERL_MM_USE_DEFAULT = 1
PERL_USE_UNSAFE_INC = 1
SHELL = /bin/ksh
TERM = screen
Perl special variables (and OS-specific diagnostics, for MSWin32):
$^X = /usr/bin/perl
$UID/$EUID = 1000 / 1000
$GID = 1000 1000
$EGID = 1000 1000
Perl module toolchain versions installed:
Module Have
------------------- --------
CPAN 2.34
CPAN::Meta 2.150010
Cwd 3.78
ExtUtils::CBuilder 0.280236
ExtUtils::Command 7.66
ExtUtils::Install 2.22
ExtUtils::MakeMaker 7.66
ExtUtils::Manifest 1.73
ExtUtils::ParseXS 3.44
File::Spec 3.78
JSON 2.90
JSON::PP 4.16
Module::Build 0.4232
Module::Signature n/a
Parse::CPAN::Meta 2.150010
Test::Harness 3.44
Test::More 1.302191
YAML 1.30
YAML::Syck n/a
version 0.9929
--
Summary of my perl5 (revision 5 version 32 subversion 1) configuration:
Platform:
osname=openbsd
osvers=7.2
archname=amd64-openbsd
uname='openbsd'
config_args='-dse -Dopenbsd_distribution=defined -Dmksymlinks'
hint=recommended
useposix=true
d_sigaction=define
useithreads=undef
usemultiplicity=undef
use64bitint=define
use64bitall=define
uselongdouble=undef
usemymalloc=n
default_inc_excludes_dot=define
bincompat5005=undef
Compiler:
cc='cc'
ccflags ='-DNO_LOCALE_NUMERIC -DNO_LOCALE_COLLATE -fno-strict-aliasing -fno-delete-null-pointer-checks -pipe -fstack-protector-strong -I/usr/local/include'
optimize='-O2'
cppflags='-DBIG_TIME -DNO_LOCALE_NUMERIC -DNO_LOCALE_COLLATE -fno-strict-aliasing -fno-delete-null-pointer-checks -pipe -fstack-protector-strong -I/usr/local/include'
ccversion=''
gccversion='OpenBSD Clang 13.0.0'
gccosandvers=''
intsize=4
longsize=8
ptrsize=8
doublesize=8
byteorder=12345678
doublekind=3
d_longlong=define
longlongsize=8
d_longdbl=define
longdblsize=16
longdblkind=3
ivtype='long'
ivsize=8
nvtype='double'
nvsize=8
Off_t='off_t'
lseeksize=8
alignbytes=8
prototype=define
Linker and Libraries:
ld='cc'
ldflags ='-Wl,-E -fstack-protector-strong -L/usr/local/lib'
libpth=/usr/lib /usr/lib/clang/13.0.0/lib /usr/lib
libs=-lm -lc
perllibs=-lm -lc
libc=/usr/lib/libc.so.96.2
so=so
useshrplib=true
libperl=libperl.so.22.0
gnulibc_version=''
Dynamic Linking:
dlsrc=dl_dlopen.xs
dlext=so
d_dlsymun=undef
ccdlflags='-Wl,-R/usr/libdata/perl5/amd64-openbsd/CORE'
cccdlflags='-DPIC -fpic '
lddlflags='-shared -fpic -fstack-protector-strong -L/usr/local/lib'
Characteristics of this binary (from libperl):
Compile-time options:
HAS_TIMES
PERLIO_LAYERS
PERL_COPY_ON_WRITE
PERL_DONT_CREATE_GVSV
PERL_MALLOC_WRAP
PERL_OP_PARENT
PERL_PRESERVE_IVUV
USE_64_BIT_ALL
USE_64_BIT_INT
USE_LARGE_FILES
USE_LOCALE
USE_LOCALE_CTYPE
USE_LOCALE_TIME
USE_PERLIO
USE_PERL_ATOF
Built under openbsd
%ENV:
PERL5LIB="/home/perluser/.cpan/build/Devel-Hide-0.0015-3/blib/arch:/home/perluser/.cpan/build/Devel-Hide-0.0015-3/blib/lib:/home/perluser/.cpan/build/Alien-Build-2.78-3/blib/arch:/home/perluser/.cpan/build/Alien-Build-2.78-3/blib/lib:/home/perluser/.cpan/build/File-chdir-0.1011-3/blib/arch:/home/perluser/.cpan/build/File-chdir-0.1011-3/blib/lib:/home/perluser/.cpan/build/FFI-CheckLib-0.31-3/blib/arch:/home/perluser/.cpan/build/FFI-CheckLib-0.31-3/blib/lib:/home/perluser/perl5/lib/perl5"
PERL5OPT=""
PERL5_CPANPLUS_IS_RUNNING="59836"
PERL5_CPAN_IS_RUNNING="59836"
PERL5_CPAN_IS_RUNNING_IN_RECURSION="14772,59836"
PERLBREW_HOME="/home/perluser/.perlbrew"
PERLBREW_ROOT="/home/perluser/perl5/perlbrew"
PERLBREW_SHELLRC_VERSION="0.96"
PERL_CR_SMOKER_CURRENT="Alien-Gnuplot-1.041"
PERL_EXTUTILS_AUTOINSTALL="--defaultdeps"
PERL_LOCAL_LIB_ROOT="/home/perluser/perl5"
PERL_MB_OPT="--install_base "/home/perluser/perl5""
PERL_MM_OPT="INSTALL_BASE=/home/perluser/perl5"
PERL_MM_USE_DEFAULT="1"
PERL_USE_UNSAFE_INC="1"
@INC:
/home/perluser/.cpan/build/Devel-Hide-0.0015-3/blib/arch
/home/perluser/.cpan/build/Devel-Hide-0.0015-3/blib/lib
/home/perluser/.cpan/build/Alien-Build-2.78-3/blib/arch
/home/perluser/.cpan/build/Alien-Build-2.78-3/blib/lib
/home/perluser/.cpan/build/File-chdir-0.1011-3/blib/arch
/home/perluser/.cpan/build/File-chdir-0.1011-3/blib/lib
/home/perluser/.cpan/build/FFI-CheckLib-0.31-3/blib/arch
/home/perluser/.cpan/build/FFI-CheckLib-0.31-3/blib/lib
/home/perluser/perl5/lib/perl5/5.32.1/amd64-openbsd
/home/perluser/perl5/lib/perl5/5.32.1
/home/perluser/perl5/lib/perl5/amd64-openbsd
/home/perluser/perl5/lib/perl5
/usr/local/libdata/perl5/site_perl/amd64-openbsd
/usr/local/libdata/perl5/site_perl
/usr/libdata/perl5/amd64-openbsd
/usr/libdata/perl5
.