Config-IniFiles v2.96 Perl 5 v5.20.0 amd64-freebsd
- Status
- Pass
- From
- Slaven Rezić (SREZIC)
- Dist
-
Config-IniFiles v2.96
- Platform
- Perl 5 v5.20.0 amd64-freebsd
- Date
- 2018-04-07 08:50:18
- ID
- b2cfae7e-3a40-11e8-9af3-e9a0b7c24e4a
This distribution has been tested as part of the CPAN Testers
project, supporting the Perl programming language. See
http://wiki.cpantesters.org/ for more information or email
questions to cpan-testers-discuss@perl.org
--
Dear Shlomi Fish,
This is a computer-generated report for Config-IniFiles-2.96
on perl 5.20.0, created by CPAN-Reporter-1.2018.
Thank you for uploading your work to CPAN. Congratulations!
All tests were successful.
Sections of this report:
* Tester comments
* Program output
* Prerequisites
* Environment and other context
------------------------------
TESTER COMMENTS
------------------------------
Additional comments from tester:
none provided
------------------------------
PROGRAM OUTPUT
------------------------------
Output from './Build test':
t/00-compile.t ................................ ok
t/00load.t .................................... ok
t/01basic.t ................................... ok
t/02weird.t ................................... ok
t/03comments.t ................................ ok
t/04import.t .................................. ok
t/05hash.t .................................... ok
t/06oo.t ...................................... ok
t/07misc.t .................................... ok
t/08group.t ................................... ok
t/09case.t .................................... ok
t/10delta.t ................................... ok
t/11copy-ties-with-array-vals.t ............... ok
t/12open-empty-file.t ......................... ok
t/13val-in-list-context.t ..................... ok
t/14brackets-within-values.t .................. ok
t/15store-and-retrieve-here-doc-terminator.t .. ok
t/16case-sensitive-default.t .................. ok
t/17untainted-multiline-values.t .............. ok
t/18non-contiguous-groups.t ................... ok
t/19param-found-outside-section.t ............. ok
t/20allowedcommentchars.t ..................... ok
t/22trailing-comment-lines.t .................. ok
t/23scalar-ref.t .............................. ok
t/24case-sensitive-exists.t ................... ok
t/25line-endings.t ............................ ok
t/26scalar-filehandle.t ....................... ok
t/27empty-ini.t ............................... ok
t/28nomultiline.t ............................. ok
t/29end-of-line-comment.t ..................... ok
t/30parameters-with-empty-values.t ............ ok
t/31comments_with_spaces.t .................... ok
t/32mswin-outputs-contain-crs.t ............... skipped: Test is only relevant for Microsoft Windows
untie attempted while 1 inner references still exist at t/33update-using-tied-fh-w-shorter-names.t line 52.
t/33update-using-tied-fh-w-shorter-names.t .... ok
t/34trailing-comments-double-delimeter.t ...... ok
t/35reload-config-no-file.t ................... ok
t/35section-iterators.t ....................... ok
t/author-pod-coverage.t ....................... skipped: these tests are for testing by the author
t/author-pod-syntax.t ......................... skipped: these tests are for testing by the author
t/author-tidyall.t ............................ skipped: these tests are for testing by the author
t/cpan-changes.t .............................. ok
t/pod-coverage.t .............................. ok
t/pod.t ....................................... ok
t/release-cpan-changes.t ...................... skipped: these tests are for release candidate testing
t/style-trailing-space.t ...................... ok
All tests successful.
Files=45, Tests=206, 5 wallclock secs ( 0.03 usr 0.26 sys + 2.20 cusr 0.68 csys = 3.17 CPU)
Result: PASS
------------------------------
PREREQUISITES
------------------------------
Prerequisite modules loaded:
requires:
Module Need Have
------------------- ----- --------
Carp 0 1.38
Fcntl 0 1.11
File::Basename 0 2.85
File::Temp 0 0.2304
IO::Scalar 0 2.111
List::Util 1.33 1.50
perl 5.008 5.020000
strict 0 1.08
Symbol 0 1.07
vars 0 1.03
warnings 0 1.23
build_requires:
Module Need Have
------------------- ----- --------
base 0 2.23
English 0 1.09
Exporter 0 5.72
File::Spec 0 3.74
File::Temp 0 0.2304
IO::File 0 1.16
IO::Handle 0 1.35
IPC::Open3 0 1.16
lib 0 0.63
Module::Build 0.28 0.4224
parent 0 0.236
Scalar::Util 0 1.50
Test::More 0 1.302133
configure_requires:
Module Need Have
------------------- ----- --------
ExtUtils::MakeMaker 0 7.34
Module::Build 0.28 0.4224
------------------------------
ENVIRONMENT AND OTHER CONTEXT
------------------------------
Environment variables:
LC_ALL = de_DE.ISO8859-1
PATH = /usr/local/bin:/usr/bin:/bin:/usr/local/sbin:/usr/sbin:/sbin:/home/cpansand/bin/freebsd9.3:/home/cpansand/bin/sh:/home/cpansand/bin:/usr/games:/home/cpansand/devel:/usr/home/eserte/src/srezic-misc/scripts
PERL5LIB = /home/eserte/.cpan/build/2018040709/Data-Cuid-0.01-0/blib/arch:/home/eserte/.cpan/build/2018040709/Data-Cuid-0.01-0/blib/lib:/home/eserte/.cpan/build/2018040709/Math-Base36-0.14-0/blib/arch:/home/eserte/.cpan/build/2018040709/Math-Base36-0.14-0/blib/lib
PERL5OPT =
PERL5_CPANPLUS_IS_RUNNING = 16748
PERL5_CPAN_IS_RUNNING = 16748
PERL5_CPAN_IS_RUNNING_IN_RECURSION = 16700,16748
PERLDOC = -MPod::Perldoc::ToTextOverstrike
PERL_BATCH = yes
PERL_CANARY_STABILITY_NOPROMPT = 1
PERL_CPAN_REPORTER_CONFIG = /var/tmp/cpansmoker-1023/2018040709/cpanreporter_000_config.ini
PERL_EXTUTILS_AUTOINSTALL = --defaultdeps
SHELL = /usr/local/bin/zsh
TERM = screen
TMPDIR = /var/tmp/cpansmoker-1023/2018040709
Perl special variables (and OS-specific diagnostics, for MSWin32):
$^X = /usr/perl5.20.0/bin/perl
$UID/$EUID = 1023 / 1023
$GID = 1023 1023
$EGID = 1023 1023
Perl module toolchain versions installed:
Module Have
------------------- --------
CPAN 2.16
CPAN::Meta 2.150010
Cwd 3.74
ExtUtils::CBuilder 0.280230
ExtUtils::Command 7.34
ExtUtils::Install 2.14
ExtUtils::MakeMaker 7.34
ExtUtils::Manifest 1.70
ExtUtils::ParseXS 3.35
File::Spec 3.74
JSON 2.97001
JSON::PP 2.97001
Module::Build 0.4224
Module::Signature 0.81
Parse::CPAN::Meta 2.150010
Test::Harness 3.41
Test::More 1.302133
YAML 1.24
YAML::Syck 1.30
version 0.9917
--
Summary of my perl5 (revision 5 version 20 subversion 0) configuration:
Platform:
osname=freebsd, osvers=9.2-release-p4, archname=amd64-freebsd
uname='freebsd cvrsnica-freebsd-92 9.2-release-p4 freebsd 9.2-release-p4 #0: tue apr 8 18:08:22 utc 2014 root@amd64-builder.daemonology.net:usrobjusrsrcsysgeneric amd64 '
config_args='-ds -e -Dprefix=/usr/perl5.20.0'
hint=recommended, useposix=true, d_sigaction=define
useithreads=undef, usemultiplicity=undef
use64bitint=define, use64bitall=define, uselongdouble=undef
usemymalloc=n, bincompat5005=undef
Compiler:
cc='cc', ccflags ='-DHAS_FPSETMASK -DHAS_FLOATINGPOINT_H -fno-strict-aliasing -pipe -fstack-protector -I/usr/local/include',
optimize='-O',
cppflags='-DHAS_FPSETMASK -DHAS_FLOATINGPOINT_H -fno-strict-aliasing -pipe -fstack-protector -I/usr/local/include'
ccversion='', gccversion='4.2.1 20070831 patched [FreeBSD]', gccosandvers=''
intsize=4, longsize=8, ptrsize=8, doublesize=8, byteorder=12345678
d_longlong=define, longlongsize=8, d_longdbl=define, longdblsize=16
ivtype='long', ivsize=8, nvtype='double', nvsize=8, Off_t='off_t', lseeksize=8
alignbytes=8, prototype=define
Linker and Libraries:
ld='cc', ldflags ='-Wl,-E -fstack-protector -L/usr/local/lib'
libpth=/usr/lib /usr/local/lib /usr/include/gcc/4.2 /usr/lib
libs=-lgdbm -lm -lcrypt -lutil -lc
perllibs=-lm -lcrypt -lutil -lc
libc=, so=so, useshrplib=false, libperl=libperl.a
gnulibc_version=''
Dynamic Linking:
dlsrc=dl_dlopen.xs, dlext=so, d_dlsymun=undef, ccdlflags=' '
cccdlflags='-DPIC -fPIC', lddlflags='-shared -L/usr/local/lib -fstack-protector'
Characteristics of this binary (from libperl):
Compile-time options: HAS_TIMES PERLIO_LAYERS PERL_DONT_CREATE_GVSV
PERL_HASH_FUNC_ONE_AT_A_TIME_HARD PERL_MALLOC_WRAP
PERL_NEW_COPY_ON_WRITE PERL_PRESERVE_IVUV
USE_64_BIT_ALL USE_64_BIT_INT USE_LARGE_FILES
USE_LOCALE USE_LOCALE_COLLATE USE_LOCALE_CTYPE
USE_LOCALE_NUMERIC USE_PERLIO USE_PERL_ATOF
Built under freebsd
Compiled at May 27 2014 13:55:26
%ENV:
PERL5LIB="/home/eserte/.cpan/build/2018040709/Data-Cuid-0.01-0/blib/arch:/home/eserte/.cpan/build/2018040709/Data-Cuid-0.01-0/blib/lib:/home/eserte/.cpan/build/2018040709/Math-Base36-0.14-0/blib/arch:/home/eserte/.cpan/build/2018040709/Math-Base36-0.14-0/blib/lib"
PERL5OPT=""
PERL5_CPANPLUS_IS_RUNNING="16748"
PERL5_CPAN_IS_RUNNING="16748"
PERL5_CPAN_IS_RUNNING_IN_RECURSION="16700,16748"
PERLDOC="-MPod::Perldoc::ToTextOverstrike"
PERL_BATCH="yes"
PERL_CANARY_STABILITY_NOPROMPT="1"
PERL_CPAN_REPORTER_CONFIG="/var/tmp/cpansmoker-1023/2018040709/cpanreporter_000_config.ini"
PERL_EXTUTILS_AUTOINSTALL="--defaultdeps"
@INC:
/home/eserte/.cpan/build/2018040709/Data-Cuid-0.01-0/blib/arch
/home/eserte/.cpan/build/2018040709/Data-Cuid-0.01-0/blib/lib
/home/eserte/.cpan/build/2018040709/Math-Base36-0.14-0/blib/arch
/home/eserte/.cpan/build/2018040709/Math-Base36-0.14-0/blib/lib
/usr/perl5.20.0/lib/site_perl/5.20.0/amd64-freebsd
/usr/perl5.20.0/lib/site_perl/5.20.0
/usr/perl5.20.0/lib/5.20.0/amd64-freebsd
/usr/perl5.20.0/lib/5.20.0
.