Role-REST-Client v0.23 Perl 5 v5.41.10 x86_64-linux

Status
Pass
From
Slaven Rezić
Dist
Role-REST-Client v0.23
Platform
Perl 5 v5.41.10 x86_64-linux
Date
2025-04-22 15:30:19
ID
b2ddeae4-1f8e-11f0-898c-74286e8775ea
This distribution has been tested as part of the CPAN Testers
project, supporting the Perl programming language.  See
http://wiki.cpantesters.org/ for more information or email
questions to cpan-testers-discuss@perl.org


--
Dear Kaare Rasmussen,

This is a computer-generated report for Role-REST-Client-0.23
on perl 5.41.10, created by CPAN-Reporter-1.2020.

Thank you for uploading your work to CPAN.  Congratulations!
All tests were successful.

Sections of this report:

    * Tester comments
    * Program output
    * Prerequisites
    * Environment and other context

------------------------------
TESTER COMMENTS
------------------------------

Additional comments from tester:

none provided

------------------------------
PROGRAM OUTPUT
------------------------------

Output from './Build test':

t/boilerplate.t .................. ok
t/compile.t ...................... ok
t/conditional_deserialization.t .. ok
t/pod.t .......................... ok
t/response.t ..................... ok
t/rest.t ......................... ok
t/serializer.t ................... ok
All tests successful.
Files=7, Tests=93,  1 wallclock secs ( 0.02 usr  0.02 sys +  1.18 cusr  0.31 csys =  1.53 CPU)
Result: PASS

------------------------------
PREREQUISITES
------------------------------

Prerequisite modules loaded:

requires:

    Module                        Need     Have    
    ----------------------------- -------- --------
    Carp                          0        1.54    
    Data::Dumper                  0        2.191   
    Data::Serializer::Raw         0        0.02    
    HTTP::Headers                 0        7.00    
    HTTP::Message                 0        7.00    
    HTTP::Response                0        7.00    
    HTTP::Status                  0        7.00    
    HTTP::Thin                    0        0.006   
    HTTP::Tiny                    0        0.090   
    Moo                           1.003000 2.005005
    Moo::Role                     0        2.005005
    MooX::HandlesVia              0.001004 0.001009
    Try::Tiny                     0        0.32    
    Type::Tiny                    0.024    2.006000
    Types::Standard               0        2.006000
    URI::Escape::XS               0.11     0.14    

build_requires:

    Module                        Need     Have    
    ----------------------------- -------- --------
    Data::Serializer::JSON        0        0.04    
    Data::Serializer::XML::Simple 0        0.03    
    Data::Serializer::YAML        0        0.03    
    File::Find                    0        1.44    
    File::Temp                    0        0.2311  
    HTTP::Request                 0        7.00    
    HTTP::Thin                    0        0.006   
    JSON                          2.00     4.10    
    Module::Build                 0.28     0.4234  
    Moose                         0        2.2207  
    parent                        0        0.244   
    Plack::Component              0        0       
    Plack::Request                0        1.0051  
    Plack::Runner                 0        0       
    strict                        0        1.13    
    Test::Deep                    0        1.204   
    Test::Exception               0        0.43    
    Test::More                    0.88     1.302209
    Test::TCP                     0        2.22    
    Test::Warnings                0        0.038   
    utf8                          0        1.27    
    warnings                      0        1.74    
    XML::Simple                   0        2.25    
    YAML                          0        1.31    

configure_requires:

    Module                        Need     Have    
    ----------------------------- -------- --------
    ExtUtils::MakeMaker           0        7.72    
    Module::Build                 0.28     0.4234  


------------------------------
ENVIRONMENT AND OTHER CONTEXT
------------------------------

Environment variables:

    LANG = en_US.UTF-8
    PATH = /usr/local/bin:/usr/bin:/bin:/usr/local/sbin:/usr/sbin:/sbin:/home/cpansand/bin/linux-gnu:/home/cpansand/bin/sh:/home/cpansand/bin:/usr/games:/home/cpansand/devel:/home/eserte/src/srezic-misc/scripts
    PERL5LIB = /home/cpansand/.cpan/build/2025042215/URI-Escape-XS-0.14-1/blib/arch:/home/cpansand/.cpan/build/2025042215/URI-Escape-XS-0.14-1/blib/lib:/home/cpansand/.cpan/build/2025042215/MooX-HandlesVia-0.001009-1/blib/arch:/home/cpansand/.cpan/build/2025042215/MooX-HandlesVia-0.001009-1/blib/lib:/home/cpansand/.cpan/build/2025042215/Data-Perl-0.002011-1/blib/arch:/home/cpansand/.cpan/build/2025042215/Data-Perl-0.002011-1/blib/lib:/home/cpansand/.cpan/build/2025042215/Data-Serializer-0.65-1/blib/arch:/home/cpansand/.cpan/build/2025042215/Data-Serializer-0.65-1/blib/lib
    PERL5OPT = 
    PERL5_CPANPLUS_IS_RUNNING = 1389737
    PERL5_CPAN_IS_RUNNING = 1389737
    PERL5_CPAN_IS_RUNNING_IN_RECURSION = 1389166,1389737
    PERLDOC = -MPod::Perldoc::ToTextOverstrike
    PERL_BATCH = yes
    PERL_CANARY_STABILITY_NOPROMPT = 1
    PERL_CPAN_REPORTER_CONFIG = /var/tmp/cpansmoker-1023/2025042215/cpanreporter_000_config.ini
    PERL_EXTUTILS_AUTOINSTALL = --defaultdeps
    PERL_USE_UNSAFE_INC = 1
    SHELL = /usr/bin/zsh
    TERM = screen
    TMPDIR = /var/tmp/cpansmoker-1023/2025042215

Perl special variables (and OS-specific diagnostics, for MSWin32):

    $^X = /opt/perl-5.41.10/bin/perl5.41.10
    $UID/$EUID = 1023 / 1023
    $GID = 1023 1023
    $EGID = 1023 1023

Perl module toolchain versions installed:

    Module              Have    
    ------------------- --------
    CPAN                2.38    
    CPAN::Meta          2.150010
    Cwd                 3.92    
    ExtUtils::CBuilder  0.280240
    ExtUtils::Command   7.72    
    ExtUtils::Install   2.22    
    ExtUtils::MakeMaker 7.72    
    ExtUtils::Manifest  1.75    
    ExtUtils::ParseXS   3.57    
    File::Spec          3.93    
    JSON                4.10    
    JSON::PP            4.16    
    Module::Build       0.4234  
    Module::Signature   n/a     
    Parse::CPAN::Meta   2.150010
    Test2               1.302209
    Test::Harness       3.50    
    Test::More          1.302209
    YAML                1.31    
    YAML::Syck          1.34    
    version             0.9933  


--

Summary of my perl5 (revision 5 version 41 subversion 10) configuration:
   
  Platform:
    osname=linux
    osvers=6.13.6-200.fc41.x86_64
    archname=x86_64-linux
    uname='linux cloud4.bbbike.org 6.13.6-200.fc41.x86_64 #1 smp preempt_dynamic fri mar 7 21:33:48 utc 2025 x86_64 gnulinux '
    config_args='-ds -e -Dprefix=/opt/perl-5.41.10 -Uinstallusrbinperl -Dusedevel -Dusemallocwrap=no -Dcf_email=srezic@cpan.org'
    hint=recommended
    useposix=true
    d_sigaction=define
    useithreads=undef
    usemultiplicity=undef
    use64bitint=define
    use64bitall=define
    uselongdouble=undef
    usemymalloc=n
    default_inc_excludes_dot=define
  Compiler:
    cc='cc'
    ccflags ='-fwrapv -fno-strict-aliasing -pipe -fstack-protector-strong -I/usr/local/include -D_LARGEFILE_SOURCE -D_FILE_OFFSET_BITS=64 -D_FORTIFY_SOURCE=2'
    optimize='-O2'
    cppflags='-fwrapv -fno-strict-aliasing -pipe -fstack-protector-strong -I/usr/local/include'
    ccversion=''
    gccversion='14.2.1 20250110 (Red Hat 14.2.1-7)'
    gccosandvers=''
    intsize=4
    longsize=8
    ptrsize=8
    doublesize=8
    byteorder=12345678
    doublekind=3
    d_longlong=define
    longlongsize=8
    d_longdbl=define
    longdblsize=16
    longdblkind=3
    ivtype='long'
    ivsize=8
    nvtype='double'
    nvsize=8
    Off_t='off_t'
    lseeksize=8
    alignbytes=8
    prototype=define
  Linker and Libraries:
    ld='cc'
    ldflags =' -fstack-protector-strong -L/usr/local/lib'
    libpth=/usr/local/lib /usr/lib /usr/lib64 /usr/local/lib64
    libs=-lpthread -ldb -ldl -lm -lcrypt -lutil -lc
    perllibs=-lpthread -ldl -lm -lcrypt -lutil -lc
    libc=/lib/../lib64/libc.so.6
    so=so
    useshrplib=false
    libperl=libperl.a
    gnulibc_version='2.40'
  Dynamic Linking:
    dlsrc=dl_dlopen.xs
    dlext=so
    d_dlsymun=undef
    ccdlflags='-Wl,-E'
    cccdlflags='-fPIC'
    lddlflags='-shared -O2 -L/usr/local/lib -fstack-protector-strong'


Characteristics of this binary (from libperl): 
  Compile-time options:
    HAS_LONG_DOUBLE
    HAS_STRTOLD
    HAS_TIMES
    PERLIO_LAYERS
    PERL_COPY_ON_WRITE
    PERL_DONT_CREATE_GVSV
    PERL_HASH_FUNC_SIPHASH13
    PERL_HASH_USE_SBOX32
    PERL_OP_PARENT
    PERL_PRESERVE_IVUV
    PERL_USE_DEVEL
    PERL_USE_SAFE_PUTENV
    USE_64_BIT_ALL
    USE_64_BIT_INT
    USE_LARGE_FILES
    USE_LOCALE
    USE_LOCALE_COLLATE
    USE_LOCALE_CTYPE
    USE_LOCALE_NUMERIC
    USE_LOCALE_TIME
    USE_PERLIO
    USE_PERL_ATOF
  Built under linux
  Compiled at Mar 29 2025 06:56:31
  %ENV:
    PERL5LIB="/home/cpansand/.cpan/build/2025042215/URI-Escape-XS-0.14-1/blib/arch:/home/cpansand/.cpan/build/2025042215/URI-Escape-XS-0.14-1/blib/lib:/home/cpansand/.cpan/build/2025042215/MooX-HandlesVia-0.001009-1/blib/arch:/home/cpansand/.cpan/build/2025042215/MooX-HandlesVia-0.001009-1/blib/lib:/home/cpansand/.cpan/build/2025042215/Data-Perl-0.002011-1/blib/arch:/home/cpansand/.cpan/build/2025042215/Data-Perl-0.002011-1/blib/lib:/home/cpansand/.cpan/build/2025042215/Data-Serializer-0.65-1/blib/arch:/home/cpansand/.cpan/build/2025042215/Data-Serializer-0.65-1/blib/lib"
    PERL5OPT=""
    PERL5_CPANPLUS_IS_RUNNING="1389737"
    PERL5_CPAN_IS_RUNNING="1389737"
    PERL5_CPAN_IS_RUNNING_IN_RECURSION="1389166,1389737"
    PERLDOC="-MPod::Perldoc::ToTextOverstrike"
    PERL_BATCH="yes"
    PERL_CANARY_STABILITY_NOPROMPT="1"
    PERL_CPAN_REPORTER_CONFIG="/var/tmp/cpansmoker-1023/2025042215/cpanreporter_000_config.ini"
    PERL_EXTUTILS_AUTOINSTALL="--defaultdeps"
    PERL_USE_UNSAFE_INC="1"
  @INC:
    /home/cpansand/.cpan/build/2025042215/URI-Escape-XS-0.14-1/blib/arch
    /home/cpansand/.cpan/build/2025042215/URI-Escape-XS-0.14-1/blib/lib
    /home/cpansand/.cpan/build/2025042215/MooX-HandlesVia-0.001009-1/blib/arch
    /home/cpansand/.cpan/build/2025042215/MooX-HandlesVia-0.001009-1/blib/lib
    /home/cpansand/.cpan/build/2025042215/Data-Perl-0.002011-1/blib/arch
    /home/cpansand/.cpan/build/2025042215/Data-Perl-0.002011-1/blib/lib
    /home/cpansand/.cpan/build/2025042215/Data-Serializer-0.65-1/blib/arch
    /home/cpansand/.cpan/build/2025042215/Data-Serializer-0.65-1/blib/lib
    /opt/perl-5.41.10/lib/site_perl/5.41.10/x86_64-linux
    /opt/perl-5.41.10/lib/site_perl/5.41.10
    /opt/perl-5.41.10/lib/5.41.10/x86_64-linux
    /opt/perl-5.41.10/lib/5.41.10
    .