Crypt-OpenSSL-PKCS10 v0.31 Perl 5 v5.32.0 x86_64-linux-ld

Status
Pass
From
Chris Williams (BINGOS)
Dist
Crypt-OpenSSL-PKCS10 v0.31
Platform
Perl 5 v5.32.0 x86_64-linux-ld
Date
2025-01-26 05:02:10
ID
b2f4eb0c-dba2-11ef-98b0-b3c3213a625c
This distribution has been tested as part of the CPAN Testers
project, supporting the Perl programming language.  See
http://wiki.cpantesters.org/ for more information or email
questions to cpan-testers-discuss@perl.org


--

Dear TIMLEGGE,

This is a computer-generated error report created automatically by
CPANPLUS, version 0.9914. Testers personal comments may appear
at the end of this report.


Thank you for uploading your work to CPAN.  Congratulations!
All tests were successful.

TEST RESULTS:

Below is the error stack from stage 'make test':

"/home/cpan/pit/bare-ld/perl-5.32.0/bin/perl" -MExtUtils::Command::MM -e 'cp_nonempty' -- PKCS10.bs blib/arch/auto/Crypt/OpenSSL/PKCS10/PKCS10.bs 644
PERL_DL_NONLAZY=1 "/home/cpan/pit/bare-ld/perl-5.32.0/bin/perl" "-MExtUtils::Command::MM" "-MTest::Harness" "-e" "undef *Test::Harness::Switches; test_harness(0, 'blib/lib', 'blib/arch')" t/*.t
# OpenSSL 3.0.2 15 Mar 2022 (Library: OpenSSL 3.0.2 15 Mar 2022)
t/00-openssl-version.t .. ok
t/10-rsa-keys.t ......... ok
t/20-ec.t ............... ok
t/30-ec-keys.t .......... ok
t/author-pod-spell.t .... skipped: these tests are for testing by the author
t/author-pod-syntax.t ... skipped: these tests are for testing by the author
-----BEGIN CERTIFICATE REQUEST-----
MIIBPzCBqQIBADAAMIGfMA0GCSqGSIb3DQEBAQUAA4GNADCBiQKBgQDDfKR3gi0o
bcuL5lBeLfPSelBS8umVs7byXRiMRp9Rn8LsZ9psmQGkfQH/JmnoKeLcYq+Hi0iq
Iwzvm7AzFW5WxJZDs58v/XU5C/b0U4VGs8uaFVT5aGjZma3nnsZw4vZCE2iw3zev
lw5AXn+pOuUClmJOGNs50BPWrHn4evEr/QIDAQABoAAwDQYJKoZIhvcNAQELBQAD
gYEAfFFWto19CKPl9Mw7vyeQ0c5Qt2MpW9hAFWq0A6Fiyzr/N3tdH/m3yHSu94tN
5mq5YWLiRr28Qjtca9+gr0Re1kj5I8dWoygASftTDyG7kur0nWsnJuZzwTctOt72
bItzgoSnlRUTwMy5Ev6ngujZE1Bl909Pd7HUAEEBUVvCxVQ=
-----END CERTIFICATE REQUEST-----
-----BEGIN PRIVATE KEY-----
MIICdQIBADANBgkqhkiG9w0BAQEFAASCAl8wggJbAgEAAoGBAMN8pHeCLShty4vm
UF4t89J6UFLy6ZWztvJdGIxGn1Gfwuxn2myZAaR9Af8maegp4txir4eLSKojDO+b
sDMVblbElkOzny/9dTkL9vRThUazy5oVVPloaNmZreeexnDi9kITaLDfN6+XDkBe
f6k65QKWYk4Y2znQE9asefh68Sv9AgMBAAECgYA6SCf0pW/3NLzRyem+Gm8uGl9m
S5vOkRUDLzRJZijLuhjwSIo7hGaT9t0oh/hdSlejoxx4CdOxPd/2c/FVWZdaa7gl
zA5z5RpLJ0oX8pt/xsZn/o0EgrUK1Qf/1Po1yAQlaqsU2AqssfNH1EmGCIl7Eho9
L1Y0NoxHLE30Pj3SNQJBAORip2TUvceKMXW8+JZhUzVQPTpsnDg7I7u8qc2/DrD2
EbdtvmdXdyKvUIOaliaomls5ngkYNZwBIYloxVvYAiMCQQDbH6md4mJWOaNmun9u
U3eSXkragFivSXQRV/05VVSeYaYmEnVhwL1nzmy8Y4SKpSZSBJMqA1pnnCNbQo+U
aatfAkA9MnY6XYsw4cXZD7bozNF4ErUlZ58ArlAn6Sjy+cQdBQLATQbdOCGzSJjh
etXLLBiYYzsGotcSo3byFAH2V05TAkA8Rt113QyIA5r7a1oak0NVNDMLIDtFHMOc
8cNqvhpk5x+5YWKA3XA82f/3YrjXGs8LyM5ixEFeNwlS1WCBxv+pAkAdMEFkW88T
y+VZQ+Dv+yB23GWonL+vnpHhntrGxk7f6U0T90Le0nsN/Mlcr7ebR2jSO+1xdi2H
Qk6pQw12CCfv
-----END PRIVATE KEY-----


Public-Key: (1024 bit)
Modulus:
    00:c3:7c:a4:77:82:2d:28:6d:cb:8b:e6:50:5e:2d:
    f3:d2:7a:50:52:f2:e9:95:b3:b6:f2:5d:18:8c:46:
    9f:51:9f:c2:ec:67:da:6c:99:01:a4:7d:01:ff:26:
    69:e8:29:e2:dc:62:af:87:8b:48:aa:23:0c:ef:9b:
    b0:33:15:6e:56:c4:96:43:b3:9f:2f:fd:75:39:0b:
    f6:f4:53:85:46:b3:cb:9a:15:54:f9:68:68:d9:99:
    ad:e7:9e:c6:70:e2:f6:42:13:68:b0:df:37:af:97:
    0e:40:5e:7f:a9:3a:e5:02:96:62:4e:18:db:39:d0:
    13:d6:ac:79:f8:7a:f1:2b:fd
Exponent: 65537 (0x10001)

-----BEGIN CERTIFICATE REQUEST-----
MIIBPzCBqQIBADAAMIGfMA0GCSqGSIb3DQEBAQUAA4GNADCBiQKBgQDAc2zcJIfA
p1B8MyBoWn9Do3auyEF9UprUqz9/aQkqvNbNA5WJ6b/RHZJ3T/3Rr69vf5OBTclL
uMih5R/aXObt0w6b+EgWcfZhNj2yV/WTyOAIgZWjv1gTP9tKgIoSnGnlXkq4Ok9L
2RjGxGKCBQNVnX7Bk8I8lFusVfj+CaWddwIDAQABoAAwDQYJKoZIhvcNAQELBQAD
gYEAfbkyr2R01KgQ0EY40O6EDnwVKSY5HJpsF5q6Db+sBondSHqsk9wy3wVfsKb1
DSpwYWVHWM1TdP5T5ORnltDchEOkHlrSPzc2+VM+0IBdMjupxBygFz2zDvGiI5uG
eyrsWH4l7lSztGKmmCOjb+WL7CAJqI4hcEck4RznGH/tdFk=
-----END CERTIFICATE REQUEST-----

Public-Key: (1024 bit)
Modulus:
    00:c0:73:6c:dc:24:87:c0:a7:50:7c:33:20:68:5a:
    7f:43:a3:76:ae:c8:41:7d:52:9a:d4:ab:3f:7f:69:
    09:2a:bc:d6:cd:03:95:89:e9:bf:d1:1d:92:77:4f:
    fd:d1:af:af:6f:7f:93:81:4d:c9:4b:b8:c8:a1:e5:
    1f:da:5c:e6:ed:d3:0e:9b:f8:48:16:71:f6:61:36:
    3d:b2:57:f5:93:c8:e0:08:81:95:a3:bf:58:13:3f:
    db:4a:80:8a:12:9c:69:e5:5e:4a:b8:3a:4f:4b:d9:
    18:c6:c4:62:82:05:03:55:9d:7e:c1:93:c2:3c:94:
    5b:ac:55:f8:fe:09:a5:9d:77
Exponent: 65537 (0x10001)

rsa
-----BEGIN PUBLIC KEY-----
MIGfMA0GCSqGSIb3DQEBAQUAA4GNADCBiQKBgQDAc2zcJIfAp1B8MyBoWn9Do3au
yEF9UprUqz9/aQkqvNbNA5WJ6b/RHZJ3T/3Rr69vf5OBTclLuMih5R/aXObt0w6b
+EgWcfZhNj2yV/WTyOAIgZWjv1gTP9tKgIoSnGnlXkq4Ok9L2RjGxGKCBQNVnX7B
k8I8lFusVfj+CaWddwIDAQAB
-----END PUBLIC KEY-----

-----BEGIN CERTIFICATE REQUEST-----
MIIBPzCBqQIBADAAMIGfMA0GCSqGSIb3DQEBAQUAA4GNADCBiQKBgQDH3brbr+Yk
4oyT4LLOc1JFhOEcFOskX9OaZM0QNWwh6tThQoOcRgp+cGAlTzNo8lSwZiTRT4VS
0eKnXY1n2l4l6TPchhtnALXCiFmdUZ4xNr8ehR4Qc+CgcFEk3cMyBtcI3UostoZL
QTIJAgAba9+AWlkVWUiTQT3pCoA4d78WQQIDAQABoAAwDQYJKoZIhvcNAQEMBQAD
gYEAdEj25yOg0WaOGM+9rlloMgXRMdQfHBMmOXYeu1SYqHX1RSXEsojg3ayTAbkL
dJwo4YehxZBhVeIEcCx66RnyrSMtBiO2uSb/oTd5EBpOy16xXDp2qfPMJqD4LtI2
wxED7s8cABoAKlgfm8rQvHrI6O9DaAZeVOTJWWQSAxoMEVY=
-----END CERTIFICATE REQUEST-----

Public-Key: (1024 bit)
Modulus:
    00:c7:dd:ba:db:af:e6:24:e2:8c:93:e0:b2:ce:73:
    52:45:84:e1:1c:14:eb:24:5f:d3:9a:64:cd:10:35:
    6c:21:ea:d4:e1:42:83:9c:46:0a:7e:70:60:25:4f:
    33:68:f2:54:b0:66:24:d1:4f:85:52:d1:e2:a7:5d:
    8d:67:da:5e:25:e9:33:dc:86:1b:67:00:b5:c2:88:
    59:9d:51:9e:31:36:bf:1e:85:1e:10:73:e0:a0:70:
    51:24:dd:c3:32:06:d7:08:dd:4a:2c:b6:86:4b:41:
    32:09:02:00:1b:6b:df:80:5a:59:15:59:48:93:41:
    3d:e9:0a:80:38:77:bf:16:41
Exponent: 65537 (0x10001)

rsa
-----BEGIN PUBLIC KEY-----
MIGfMA0GCSqGSIb3DQEBAQUAA4GNADCBiQKBgQDH3brbr+Yk4oyT4LLOc1JFhOEc
FOskX9OaZM0QNWwh6tThQoOcRgp+cGAlTzNo8lSwZiTRT4VS0eKnXY1n2l4l6TPc
hhtnALXCiFmdUZ4xNr8ehR4Qc+CgcFEk3cMyBtcI3UostoZLQTIJAgAba9+AWlkV
WUiTQT3pCoA4d78WQQIDAQAB
-----END PUBLIC KEY-----

-----BEGIN CERTIFICATE REQUEST-----
MIICJzCCAZACAQAwKTELMAkGA1UEBhMCUk8xDDAKBgNVBAoMA1VUSTEMMAoGA1UE
CwwDc3NpMIGfMA0GCSqGSIb3DQEBAQUAA4GNADCBiQKBgQC+OTg/iBr2Ncb3Dk4s
Fgd/CMqRe0g59nwTfb6OuUMAthzY4ROhvgQPZjgyGbE7VkE2h9I+vWk2dfwZjYxU
yPuu7A5lP5zn7ZAU8RjncX5eZQi2T2zEh5cXBzMTRxa/IrclzEOM8C1WkmA8Y5cq
7TFu/vfY80NA65VrIk7BD5aVXwIDAQABoIG9MIG6BgkqhkiG9w0BCQ4xgawwgakw
DgYDVR0PAQH/BAQDAgWgMC4GA1UdJQQnMCUGCCsGAQUFBwMBBglghkgBhvhCBAEG
CisGAQQBgjcKAwMGAisEMBwGA1UdEQQVMBOBEXN0ZXZlQG9wZW5zc2wub3JnMB0G
A1UdDgQWBBSV3uQHA4mKWA8eHAVFCbJrLYJ9kDAZBgMqAwMEEhYQTXkgbmV3IGV4
dGVuc2lvbjAPBgMqAwQECB4GAGEAYgBjMA0GCSqGSIb3DQEBCwUAA4GBAEHpL+hm
0mBdo5s6Sx28MPAgz6V6NDOq6VsfyZ2LLcPIT9Cz8hf+nGNW5TGjxzU0Qn4qQ3Oa
txYBJQb2Yf9OwPzfpzyUQKpTNvIHgbwo9oBtArf8c4NwM2koJosQZNgEE+Q7/+k0
eQOCLj5jDDBy1ctQAjAN/3BZZKnfaGOPUAbm
-----END CERTIFICATE REQUEST-----
Public-Key: (1024 bit)
Modulus:
    00:be:39:38:3f:88:1a:f6:35:c6:f7:0e:4e:2c:16:
    07:7f:08:ca:91:7b:48:39:f6:7c:13:7d:be:8e:b9:
    43:00:b6:1c:d8:e1:13:a1:be:04:0f:66:38:32:19:
    b1:3b:56:41:36:87:d2:3e:bd:69:36:75:fc:19:8d:
    8c:54:c8:fb:ae:ec:0e:65:3f:9c:e7:ed:90:14:f1:
    18:e7:71:7e:5e:65:08:b6:4f:6c:c4:87:97:17:07:
    33:13:47:16:bf:22:b7:25:cc:43:8c:f0:2d:56:92:
    60:3c:63:97:2a:ed:31:6e:fe:f7:d8:f3:43:40:eb:
    95:6b:22:4e:c1:0f:96:95:5f
Exponent: 65537 (0x10001)

-----BEGIN PUBLIC KEY-----
MIGfMA0GCSqGSIb3DQEBAQUAA4GNADCBiQKBgQC+OTg/iBr2Ncb3Dk4sFgd/CMqR
e0g59nwTfb6OuUMAthzY4ROhvgQPZjgyGbE7VkE2h9I+vWk2dfwZjYxUyPuu7A5l
P5zn7ZAU8RjncX5eZQi2T2zEh5cXBzMTRxa/IrclzEOM8C1WkmA8Y5cq7TFu/vfY
80NA65VrIk7BD5aVXwIDAQAB
-----END PUBLIC KEY-----

t/Mytest.t .............. ok
t/release-kwalitee.t .... skipped: these tests are for release candidate testing
t/release-meta-json.t ... skipped: these tests are for release candidate testing
All tests successful.
Files=9, Tests=720, 15 wallclock secs ( 0.10 usr  0.01 sys + 13.97 cusr  0.75 csys = 14.83 CPU)
Result: PASS


PREREQUISITES:

Here is a list of prerequisites you specified and versions we
managed to load:

	  Module Name                        Have     Want
	  Crypt::OpenSSL::Guess              0.15     0.11
	  Crypt::OpenSSL::RSA                0.33        0
	  Exporter                           5.74        0
	  File::Slurper                     0.014        0
	  File::Spec::Functions              3.78        0
	  File::Temp                       0.2311        0
	  Import::Into                   1.002005        0
	  Test::Lib                         0.003        0
	  Test::More                     1.302199        0
	  XSLoader                           0.30        0

Perl module toolchain versions installed:
	Module Name                        Have
	CPANPLUS                         0.9914
	CPANPLUS::Dist::Build              0.90
	Cwd                                3.78
	ExtUtils::CBuilder             0.280236
	ExtUtils::Command                  7.70
	ExtUtils::Install                  2.22
	ExtUtils::MakeMaker                7.70
	ExtUtils::Manifest                 1.75
	ExtUtils::ParseXS                  3.51
	File::Spec                         3.78
	Module::Build                    0.4234
	Pod::Parser                           0
	Pod::Simple                        3.40
	Test2                          1.302199
	Test::Harness                      3.48
	Test::More                     1.302199
	version                          0.9932

******************************** NOTE ********************************
The comments above are created mechanically, possibly without manual
checking by the sender.  As there are many people performing automatic
tests on each upload to CPAN, it is likely that you will receive
identical messages about the same problem.

If you believe that the message is mistaken, please reply to the first
one with correction and/or additional informations, and do not take
it personally.  We appreciate your patience. :)
**********************************************************************

Additional comments:


This report was machine-generated by CPANPLUS::Dist::YACSmoke 1.08.
Powered by minismokebox version 0.68

CPANPLUS is prefering Build.PL

------------------------------
ENVIRONMENT AND OTHER CONTEXT
------------------------------

Environment variables:

    AUTOMATED_TESTING = 1
    LANG = en_GB.UTF-8
    LANGUAGE = en_GB:en
    NONINTERACTIVE_TESTING = 1
    PATH = /usr/local/sbin:/usr/local/bin:/usr/sbin:/usr/bin:/sbin:/bin:/usr/games:/usr/local/games:/snap/bin
    PERL5LIB = /home/cpan/pit/jail/TCaR3cmI5k/lib/perl5:/home/cpan/pit/bare-ld/conf/perl-5.32.0/.cpanplus/5.32.0/build/djSB_gYXl6/Crypt-OpenSSL-PKCS10-0.31/blib/lib:/home/cpan/pit/bare-ld/conf/perl-5.32.0/.cpanplus/5.32.0/build/djSB_gYXl6/Crypt-OpenSSL-PKCS10-0.31/blib/arch
    PERL5_CPANPLUS_IS_RUNNING = 115718
    PERL5_CPANPLUS_IS_VERSION = 0.9914
    PERL5_MINISMOKEBOX = 0.68
    PERL5_YACSMOKE_BASE = /home/cpan/pit/bare-ld/conf/perl-5.32.0
    PERL_EXTUTILS_AUTOINSTALL = --defaultdeps
    PERL_LOCAL_LIB_ROOT = /home/cpan/pit/jail/TCaR3cmI5k
    PERL_MB_OPT = --install_base "/home/cpan/pit/jail/TCaR3cmI5k"
    PERL_MM_OPT = INSTALL_BASE=/home/cpan/pit/jail/TCaR3cmI5k
    PERL_MM_USE_DEFAULT = 1
    SHELL = /bin/bash
    TERM = screen.xterm-256color

Perl special variables (and OS-specific diagnostics, for MSWin32):

    Perl: $^X = /home/cpan/pit/bare-ld/perl-5.32.0/bin/perl
    UID:  $<  = 1001
    EUID: $>  = 1001
    GID:  $(  = 1001 1001
    EGID: $)  = 1001 1001


-------------------------------


--

Summary of my perl5 (revision 5 version 32 subversion 0) configuration:
   
  Platform:
    osname=linux
    osvers=5.4.0-26-generic
    archname=x86_64-linux-ld
    uname='linux uchder 5.4.0-26-generic #30-ubuntu smp mon apr 20 16:58:30 utc 2020 x86_64 x86_64 x86_64 gnulinux '
    config_args='-des -Dprefix=/home/cpan/pit/bare-ld/perl-5.32.0 -Duselongdouble'
    hint=recommended
    useposix=true
    d_sigaction=define
    useithreads=undef
    usemultiplicity=undef
    use64bitint=define
    use64bitall=define
    uselongdouble=define
    usemymalloc=n
    default_inc_excludes_dot=define
    bincompat5005=undef
  Compiler:
    cc='cc'
    ccflags ='-fwrapv -fno-strict-aliasing -pipe -fstack-protector-strong -I/usr/local/include -D_LARGEFILE_SOURCE -D_FILE_OFFSET_BITS=64'
    optimize='-O2'
    cppflags='-fwrapv -fno-strict-aliasing -pipe -fstack-protector-strong -I/usr/local/include'
    ccversion=''
    gccversion='9.3.0'
    gccosandvers=''
    intsize=4
    longsize=8
    ptrsize=8
    doublesize=8
    byteorder=12345678
    doublekind=3
    d_longlong=define
    longlongsize=8
    d_longdbl=define
    longdblsize=16
    longdblkind=3
    ivtype='long'
    ivsize=8
    nvtype='long double'
    nvsize=16
    Off_t='off_t'
    lseeksize=8
    alignbytes=16
    prototype=define
  Linker and Libraries:
    ld='cc'
    ldflags =' -fstack-protector-strong -L/usr/local/lib'
    libpth=/usr/local/lib /usr/include/x86_64-linux-gnu /usr/lib /lib/x86_64-linux-gnu /lib/../lib /usr/lib/x86_64-linux-gnu /usr/lib/../lib /lib
    libs=-lpthread -lnsl -lgdbm -ldl -lm -lcrypt -lutil -lc
    perllibs=-lpthread -lnsl -ldl -lm -lcrypt -lutil -lc
    libc=libc-2.31.so
    so=so
    useshrplib=false
    libperl=libperl.a
    gnulibc_version='2.31'
  Dynamic Linking:
    dlsrc=dl_dlopen.xs
    dlext=so
    d_dlsymun=undef
    ccdlflags='-Wl,-E'
    cccdlflags='-fPIC'
    lddlflags='-shared -O2 -L/usr/local/lib -fstack-protector-strong'


Characteristics of this binary (from libperl): 
  Compile-time options:
    HAS_TIMES
    PERLIO_LAYERS
    PERL_COPY_ON_WRITE
    PERL_DONT_CREATE_GVSV
    PERL_MALLOC_WRAP
    PERL_OP_PARENT
    PERL_PRESERVE_IVUV
    USE_64_BIT_ALL
    USE_64_BIT_INT
    USE_LARGE_FILES
    USE_LOCALE
    USE_LOCALE_COLLATE
    USE_LOCALE_CTYPE
    USE_LOCALE_NUMERIC
    USE_LOCALE_TIME
    USE_LONG_DOUBLE
    USE_PERLIO
    USE_PERL_ATOF
  Built under linux
  Compiled at Jun 21 2020 10:39:53
  %ENV:
    PERL5LIB="/home/cpan/pit/jail/TCaR3cmI5k/lib/perl5:/home/cpan/pit/bare-ld/conf/perl-5.32.0/.cpanplus/5.32.0/build/djSB_gYXl6/Crypt-OpenSSL-PKCS10-0.31/blib/lib:/home/cpan/pit/bare-ld/conf/perl-5.32.0/.cpanplus/5.32.0/build/djSB_gYXl6/Crypt-OpenSSL-PKCS10-0.31/blib/arch"
    PERL5_CPANPLUS_IS_RUNNING="115718"
    PERL5_CPANPLUS_IS_VERSION="0.9914"
    PERL5_MINISMOKEBOX="0.68"
    PERL5_YACSMOKE_BASE="/home/cpan/pit/bare-ld/conf/perl-5.32.0"
    PERL_EXTUTILS_AUTOINSTALL="--defaultdeps"
    PERL_LOCAL_LIB_ROOT="/home/cpan/pit/jail/TCaR3cmI5k"
    PERL_MB_OPT="--install_base "/home/cpan/pit/jail/TCaR3cmI5k""
    PERL_MM_OPT="INSTALL_BASE=/home/cpan/pit/jail/TCaR3cmI5k"
    PERL_MM_USE_DEFAULT="1"
  @INC:
    /home/cpan/pit/jail/TCaR3cmI5k/lib/perl5/5.32.0/x86_64-linux-ld
    /home/cpan/pit/jail/TCaR3cmI5k/lib/perl5/5.32.0
    /home/cpan/pit/jail/TCaR3cmI5k/lib/perl5/x86_64-linux-ld
    /home/cpan/pit/jail/TCaR3cmI5k/lib/perl5
    /home/cpan/pit/bare-ld/conf/perl-5.32.0/.cpanplus/5.32.0/build/djSB_gYXl6/Crypt-OpenSSL-PKCS10-0.31/blib/lib
    /home/cpan/pit/bare-ld/conf/perl-5.32.0/.cpanplus/5.32.0/build/djSB_gYXl6/Crypt-OpenSSL-PKCS10-0.31/blib/arch
    /home/cpan/pit/bare-ld/perl-5.32.0/lib/site_perl/5.32.0/x86_64-linux-ld
    /home/cpan/pit/bare-ld/perl-5.32.0/lib/site_perl/5.32.0
    /home/cpan/pit/bare-ld/perl-5.32.0/lib/5.32.0/x86_64-linux-ld
    /home/cpan/pit/bare-ld/perl-5.32.0/lib/5.32.0