Data-Session v1.18 Perl 5 v5.41.3 OpenBSD.amd64-openbsd

Status
Pass
From
Carlos Guevara
Dist
Data-Session v1.18
Platform
Perl 5 v5.41.3 OpenBSD.amd64-openbsd
Date
2024-07-29 16:22:07
ID
b2fcb7fc-4dc6-11ef-b34e-d36972b7c38c
This distribution has been tested as part of the CPAN Testers
project, supporting the Perl programming language.  See
http://wiki.cpantesters.org/ for more information or email
questions to cpan-testers-discuss@perl.org


--
Dear Ron Savage,

This is a computer-generated report for Data-Session-1.18
on perl 5.41.3, created by CPAN-Reporter-1.2019.

Thank you for uploading your work to CPAN.  Congratulations!
All tests were successful.

Sections of this report:

    * Tester comments
    * Program output
    * Prerequisites
    * Environment and other context

------------------------------
TESTER COMMENTS
------------------------------

Additional comments from tester:

this report is from an automated smoke testing program
and was not reviewed by a human for accuracy

------------------------------
PROGRAM OUTPUT
------------------------------

Output from '/usr/bin/make test':

PERL_DL_NONLAZY=1 "/home/cpan/bin/perl/bin/perl5.41.3" "-MExtUtils::Command::MM" "-MTest::Harness" "-e" "undef *Test::Harness::Switches; test_harness(0, 'blib/lib', 'blib/arch')" t/*.t
# Testing Data::Session V 1.18
# Using autovivification V 0.18
# Using CGI V 4.66
# Using Class::Load V 0.25
# Using Config::Tiny V 2.30
# Using Data::Dumper V 2.190
# Using Data::UUID V 1.227
# Using DBD::SQLite V 1.74
# Using DBI V 1.643
# Using DBIx::Admin::CreateTable V 2.11
# Using Digest::MD5 V 2.58_01
# Using Digest::SHA V 6.04
# Using Fcntl V 1.19
# Using File::Basename V 2.86
# Using File::Path V 2.18
# Using File::Slurper V 0.014
# Using File::Spec V 3.92
# Using File::Temp V 0.2311
# Using FreezeThaw V 0.5001
# Using Hash::FieldHash V 0.15
# Using JSON V 4.10
# Using overload V 1.37
# Using parent V 0.241
# Using Safe V 2.46
# Using Scalar::Util V 1.63
# Using Storable V 3.33
# Using strict V 1.13
# Using Try::Tiny V 0.31
# Using vars V 1.05
# Using warnings V 1.70
# Using YAML::Tiny V 1.74
t/00.versions.t .. ok
# Test: File.1. DSN: dbi:File:. ID generator: AutoIncrement. Serializer: DataDumper
# id 1: 1002
# Test: File.1. DSN: dbi:File:. ID generator: AutoIncrement. Serializer: FreezeThaw
# id 1: 1008
# Test: File.1. DSN: dbi:File:. ID generator: AutoIncrement. Serializer: JSON
# id 1: 1014
# Test: File.1. DSN: dbi:File:. ID generator: AutoIncrement. Serializer: Storable
# id 1: 1020
# Test: File.1. DSN: dbi:File:. ID generator: AutoIncrement. Serializer: YAML
# id 1: 1026
# Test: File.1. DSN: dbi:File:. ID generator: MD5. Serializer: DataDumper
# id 1: 0d69cc57fd3dff1665faa85fad52f3c8
# Test: File.1. DSN: dbi:File:. ID generator: MD5. Serializer: FreezeThaw
# id 1: 7fb9e7c8796767b7e1e00e3919137147
# Test: File.1. DSN: dbi:File:. ID generator: MD5. Serializer: JSON
# id 1: 6e308f0df20795bfe32227ef3c384160
# Test: File.1. DSN: dbi:File:. ID generator: MD5. Serializer: Storable
# id 1: 7011a6bcb624418bf62f07450f8e5f0d
# Test: File.1. DSN: dbi:File:. ID generator: MD5. Serializer: YAML
# id 1: 4917bfb3b6cb88cfff70fa4428c7cdb7
# Test: File.1. DSN: dbi:File:. ID generator: SHA1. Serializer: DataDumper
# id 1: 9fce324640b4c2cdac71d2e8504488618c3d7a22
# Test: File.1. DSN: dbi:File:. ID generator: SHA1. Serializer: FreezeThaw
# id 1: 534bf65a4d5457c5d1aa5d4daef1b7d497a9de0c
# Test: File.1. DSN: dbi:File:. ID generator: SHA1. Serializer: JSON
# id 1: 6c727cacb5d105334ac442d5e993bedc6d51042e
# Test: File.1. DSN: dbi:File:. ID generator: SHA1. Serializer: Storable
# id 1: be277f019cf0c2687fbd4c358cbe5849e936b663
# Test: File.1. DSN: dbi:File:. ID generator: SHA1. Serializer: YAML
# id 1: 37b9a1bbb696cd7d39a7780f69201a399b25bd5d
# Test: File.1. DSN: dbi:File:. ID generator: SHA256. Serializer: DataDumper
# id 1: 6056624df69ed88e675459d1bf519b2a8386c761843f2be98c63923d3a9c4863
# Test: File.1. DSN: dbi:File:. ID generator: SHA256. Serializer: FreezeThaw
# id 1: ee2a192698203f187f1bdf5aa7771bbaee711c032423897864eb70739aa688b4
# Test: File.1. DSN: dbi:File:. ID generator: SHA256. Serializer: JSON
# id 1: c7a098dd4885801ab6eac77e9b9efe79c2ce3205b8850997e649dac718bc11fa
# Test: File.1. DSN: dbi:File:. ID generator: SHA256. Serializer: Storable
# id 1: 974c8a241fb6aac330e2b8b6bed292484e12beba8e74d2234276a82cbaa3ab2b
# Test: File.1. DSN: dbi:File:. ID generator: SHA256. Serializer: YAML
# id 1: f93794dcc1ae7768a6437317ee5126ca23503a59b581e83dd41f46c16fe7dac0
# Test: File.1. DSN: dbi:File:. ID generator: SHA512. Serializer: DataDumper
# id 1: e60d900fdfdb48443b3e4287f12ed1d451fea38c76acb96673739c95326e15bad30f7268ab87f91545339d13202f8cc1cf8bbd5b11f0276512bba0cfa61f919c
# Test: File.1. DSN: dbi:File:. ID generator: SHA512. Serializer: FreezeThaw
# id 1: 7267f2afa46b3181e885445b36a9c0697e6246e63e8a1f3cf4e64e86808ef6d6b87c53feab46f07989bc1c902c35f976ca798469ae177ae0f6740ef34c8a25a7
# Test: File.1. DSN: dbi:File:. ID generator: SHA512. Serializer: JSON
# id 1: 5a23940351f057d0ecf39808122adf42e2d408dbb7be6365929e66d005f70c1b14aab6474f7a6eb481857bb956c79cd2259646057f7e2d024e18f99cd1f73546
# Test: File.1. DSN: dbi:File:. ID generator: SHA512. Serializer: Storable
# id 1: 7c9fc2577095c568349ba2e3ef29fe8a1952d92a23eaf5188f927ce38912dc0a92d2a046a0576e96782820206383fee09be16c6b0a4fc3978e2d00744513e320
# Test: File.1. DSN: dbi:File:. ID generator: SHA512. Serializer: YAML
# id 1: d799f56fd8556174a371892c328dce81089aea2dee47474d2d5eb339760f4ac13074514aa18c4dcc6690207e67f940fae14853f4b199516deac5b07967dbecf8
# Test: File.1. DSN: dbi:File:. ID generator: Static. Serializer: DataDumper
# id 1: 1234
# Test: File.1. DSN: dbi:File:. ID generator: Static. Serializer: FreezeThaw
# id 1: 1234
# Test: File.1. DSN: dbi:File:. ID generator: Static. Serializer: JSON
# id 1: 1234
# Test: File.1. DSN: dbi:File:. ID generator: Static. Serializer: Storable
# id 1: 1234
# Test: File.1. DSN: dbi:File:. ID generator: Static. Serializer: YAML
# id 1: 1234
# Test: File.1. DSN: dbi:File:. ID generator: UUID34. Serializer: DataDumper
# id 1: 0xAE7D4B2E4DC611EF9FFFD11F3E6DE3F4
# Test: File.1. DSN: dbi:File:. ID generator: UUID34. Serializer: FreezeThaw
# id 1: 0xAE7F27AA4DC611EF90A3D07040E925A5
# Test: File.1. DSN: dbi:File:. ID generator: UUID34. Serializer: JSON
# id 1: 0xAE80B78C4DC611EF85D4DD9E9579357B
# Test: File.1. DSN: dbi:File:. ID generator: UUID34. Serializer: Storable
# id 1: 0xAE829E3A4DC611EF834798F5D662AF1E
# Test: File.1. DSN: dbi:File:. ID generator: UUID34. Serializer: YAML
# id 1: 0xAE842C5A4DC611EF9D42B44970856672
# Test: File.1. DSN: dbi:File:. ID generator: UUID36. Serializer: DataDumper
# id 1: AE85E2FC-4DC6-11EF-BF75-819EDD8B3752
# Test: File.1. DSN: dbi:File:. ID generator: UUID36. Serializer: FreezeThaw
# id 1: AE87C306-4DC6-11EF-83F7-BDDA6613103B
# Test: File.1. DSN: dbi:File:. ID generator: UUID36. Serializer: JSON
# id 1: AE895338-4DC6-11EF-9CC9-F40AF2C06D72
# Test: File.1. DSN: dbi:File:. ID generator: UUID36. Serializer: Storable
# id 1: AE8AD5A0-4DC6-11EF-9DE4-F4085A898B8F
# Test: File.1. DSN: dbi:File:. ID generator: UUID36. Serializer: YAML
# id 1: AE8CC428-4DC6-11EF-ACA7-F4118560DD2B
# Skipping dsn 'dbi:SQLite:dbname=/tmp/sessions.sqlite' because the SQLite directory does not exist
# 
# Testing HTTP header generation
# 
# Testing expire the session. Sleeping for 1 second ...
# Expiring id: AE8EA874-4DC6-11EF-BD64-F57FDC7574EC
# 
# Testing expire a session parameter. Sleeping for 1 second ...
t/basic.t ........ ok
# DSN name: File.1. DSN: dbi:File:. ID generator: MD5. Serializer: DataDumper
# id1: 095b032b7db36ef1333096a6ae7c3e82
# 1: Recovered known id dd93fa72b053f961cdb6c8d4b6687285 from traverse
# 2: Recovered known id f79f74820e47ab1354a2ab9f0f31b80c from traverse
# 3: Recovered known id 783e4d72edf974132c359517ba11126c from traverse
# 4: Recovered known id 71360d315a887c518757948b3bbff59e from traverse
# Skipping dsn 'dbi:SQLite:dbname=/tmp/sessions.sqlite' because the SQLite directory does not exist
t/traverse.t ..... ok
All tests successful.
Files=3, Tests=52,  7 wallclock secs ( 0.06 usr  0.01 sys +  0.71 cusr  0.29 csys =  1.07 CPU)
Result: PASS

------------------------------
PREREQUISITES
------------------------------

Prerequisite modules loaded:

requires:

    Module                   Need     Have    
    ------------------------ -------- --------
    autovivification         0        0.18    
    CGI                      3.63     4.66    
    Class::Load              0.19     0.25    
    Config::Tiny             2.14     2.30    
    Data::Dumper             2.145    2.190   
    Data::UUID               1.218    1.227   
    DBD::SQLite              1.39     1.74    
    DBI                      1.627    1.643   
    DBIx::Admin::CreateTable 2.07     2.11    
    Digest::MD5              2.52     2.58_01 
    Digest::SHA              5.84     6.04    
    Fcntl                    1.06     1.19    
    File::Basename           2.77     2.86    
    File::Path               2.07     2.18    
    File::Slurper            0.012    0.014   
    File::Spec               3.3      3.92    
    File::Temp               0.22     0.2311  
    FreezeThaw               0.5001   0.5001  
    Hash::FieldHash          0.14     0.15    
    JSON                     2.59     4.10    
    overload                 0        1.37    
    parent                   0        0.241   
    Safe                     2.35     2.46    
    Scalar::Util             1.27     1.63    
    Storable                 2.39     3.33    
    strict                   0        1.13    
    Try::Tiny                0.12     0.31    
    vars                     0        1.05    
    warnings                 0        1.70    
    YAML::Tiny               1.51     1.74    

build_requires:

    Module                   Need     Have    
    ------------------------ -------- --------
    ExtUtils::MakeMaker      0        7.70    
    Test::More               1.001014 1.302199
    Test::Pod                1.48     1.52    

configure_requires:

    Module                   Need     Have    
    ------------------------ -------- --------
    ExtUtils::MakeMaker      0        7.70    


------------------------------
ENVIRONMENT AND OTHER CONTEXT
------------------------------

Environment variables:

    AUTOMATED_TESTING = 1
    DATE_MANIP_TEST_DM5 = 1
    LC_ALL = C
    NONINTERACTIVE_TESTING = 1
    NO_NETWORK_TESTING = 1
    PATH = /home/cpan/bin/perl/bin:/home/cpan/bin:/home/cpan/bin:/bin:/sbin:/usr/bin:/usr/sbin:/usr/X11R6/bin:/usr/local/bin:/usr/local/sbin
    PERL5LIB = 
    PERL5OPT = 
    PERL5_CPANPLUS_IS_RUNNING = 3304
    PERL5_CPAN_IS_RUNNING = 3304
    PERL_MM_USE_DEFAULT = 1
    PERL_USE_UNSAFE_INC = 1
    SHELL = /usr/local/bin/bash
    TERM = screen
    TMPDIR = /home/cpan/tmp

Perl special variables (and OS-specific diagnostics, for MSWin32):

    $^X = /home/cpan/bin/perl/bin/perl5.41.3
    $UID/$EUID = 1001 / 1001
    $GID = 1001 1001
    $EGID = 1001 1001

Perl module toolchain versions installed:

    Module              Have    
    ------------------- --------
    CPAN                2.36    
    CPAN::Meta          2.150010
    Cwd                 3.92    
    ExtUtils::CBuilder  0.280240
    ExtUtils::Command   7.70    
    ExtUtils::Install   2.22    
    ExtUtils::MakeMaker 7.70    
    ExtUtils::Manifest  1.75    
    ExtUtils::ParseXS   3.52    
    File::Spec          3.92    
    JSON                4.10    
    JSON::PP            4.16    
    Module::Build       0.4234  
    Module::Signature   0.88    
    Parse::CPAN::Meta   2.150010
    Test2               1.302199
    Test::Harness       3.48    
    Test::More          1.302199
    YAML                1.31    
    YAML::Syck          1.34    
    version             0.9932  


--

Summary of my perl5 (revision 5 version 41 subversion 3) configuration:
  Commit id: 6e7a08ee6592de6672127b25e6905d02c265fd4a
  Platform:
    osname=openbsd
    osvers=7.5
    archname=OpenBSD.amd64-openbsd
    uname='openbsd cjg-openbsd7 7.5 generic#79 amd64 '
    config_args='-des -Dprefix=/home/cpan/bin/perl -Dscriptdir=/home/cpan/bin/perl/bin -Dusedevel -Duse64bitall'
    hint=recommended
    useposix=true
    d_sigaction=define
    useithreads=undef
    usemultiplicity=undef
    use64bitint=define
    use64bitall=define
    uselongdouble=undef
    usemymalloc=n
    default_inc_excludes_dot=define
  Compiler:
    cc='cc'
    ccflags ='-DNO_LOCALE_NUMERIC -DNO_LOCALE_COLLATE -DNO_LOCALE_MONETARY -DNO_LOCALE_TIME -DNO_LOCALE_MESSAGES -DLIBC_HANDLES_MISMATCHED_CTYPE -fno-strict-aliasing -pipe -fstack-protector-strong -I/usr/local/include'
    optimize='-O2'
    cppflags='-DNO_LOCALE_NUMERIC -DNO_LOCALE_COLLATE -DNO_LOCALE_MONETARY -DNO_LOCALE_TIME -DNO_LOCALE_MESSAGES -DLIBC_HANDLES_MISMATCHED_CTYPE -fno-strict-aliasing -pipe -fstack-protector-strong -I/usr/local/include'
    ccversion=''
    gccversion='OpenBSD Clang 16.0.6'
    gccosandvers=''
    intsize=4
    longsize=8
    ptrsize=8
    doublesize=8
    byteorder=12345678
    doublekind=3
    d_longlong=define
    longlongsize=8
    d_longdbl=define
    longdblsize=16
    longdblkind=3
    ivtype='long'
    ivsize=8
    nvtype='double'
    nvsize=8
    Off_t='off_t'
    lseeksize=8
    alignbytes=8
    prototype=define
  Linker and Libraries:
    ld='cc'
    ldflags ='-Wl,-E  -fstack-protector-strong -L/usr/local/lib'
    libpth=/usr/lib/clang/16/lib /usr/lib /usr/local/lib
    libs=-lpthread -lm -lutil -lc
    perllibs=-lpthread -lm -lutil -lc
    libc=/usr/lib/libc.so.99.0
    so=so
    useshrplib=false
    libperl=libperl.a
    gnulibc_version=''
  Dynamic Linking:
    dlsrc=dl_dlopen.xs
    dlext=so
    d_dlsymun=undef
    ccdlflags=' '
    cccdlflags='-DPIC -fPIC '
    lddlflags='-shared -fPIC  -L/usr/local/lib -fstack-protector-strong'


Characteristics of this binary (from libperl): 
  Compile-time options:
    HAS_LONG_DOUBLE
    HAS_STRTOLD
    HAS_TIMES
    PERLIO_LAYERS
    PERL_COPY_ON_WRITE
    PERL_DONT_CREATE_GVSV
    PERL_HASH_FUNC_SIPHASH13
    PERL_HASH_USE_SBOX32
    PERL_MALLOC_WRAP
    PERL_OP_PARENT
    PERL_PRESERVE_IVUV
    PERL_USE_DEVEL
    PERL_USE_SAFE_PUTENV
    USE_64_BIT_ALL
    USE_64_BIT_INT
    USE_LARGE_FILES
    USE_LOCALE
    USE_LOCALE_CTYPE
    USE_PERLIO
    USE_PERL_ATOF
  Built under openbsd
  Compiled at Jul 28 2024 20:05:46
  %ENV:
    PERL5LIB=""
    PERL5OPT=""
    PERL5_CPANPLUS_IS_RUNNING="3304"
    PERL5_CPAN_IS_RUNNING="3304"
    PERL_MM_USE_DEFAULT="1"
    PERL_USE_UNSAFE_INC="1"
  @INC:
    /home/cpan/bin/perl/lib/site_perl/5.41.3/OpenBSD.amd64-openbsd
    /home/cpan/bin/perl/lib/site_perl/5.41.3
    /home/cpan/bin/perl/lib/5.41.3/OpenBSD.amd64-openbsd
    /home/cpan/bin/perl/lib/5.41.3
    .