Back
From: metabase:user:320bfe00-2aae-11df-837a-5e0a49663a4f
Subject: PASS DBIx-Class-Schema-Loader-0.07035 v5.19.1 GNU/Linux
Date: 2013-05-22T22:12:32Z
This distribution has been tested as part of the CPAN Testers
project, supporting the Perl programming language. See
http://wiki.cpantesters.org/ for more information or email
questions to cpan-testers-discuss@perl.org
--
Dear John SJ Anderson,
This is a computer-generated report for DBIx-Class-Schema-Loader-0.07035
on perl 5.19.1, created by CPAN-Reporter-1.2010.
Thank you for uploading your work to CPAN. Congratulations!
All tests were successful.
Sections of this report:
* Tester comments
* Program output
* Prerequisites
* Environment and other context
------------------------------
TESTER COMMENTS
------------------------------
Additional comments from tester:
this report is from an automated smoke testing program
and was not reviewed by a human for accuracy
------------------------------
PROGRAM OUTPUT
------------------------------
Output from '/usr/bin/make test':
PERL_DL_NONLAZY=1 /tmp/basesmoker-reloperl-C4Vp/bin/perl "-MExtUtils::Command::MM" "-e" "test_harness(0, 'inc', 'blib/lib', 'blib/arch')" t/*.t t/backcompat/0.04006/*.t
t/01use.t ............................... ok
t/02pod.t ............................... ok
t/10_01sqlite_common.t .................. ok
t/10_02mysql_common.t ................... skipped: You need to set the DBICTEST_MYSQL_DSN, DBICTEST_MYSQL_USER, and DBICTEST_MYSQL_PASS environment variables
t/10_03pg_common.t ...................... skipped: You need to set the DBICTEST_PG_DSN, _USER, and _PASS environment variables
t/10_04db2_common.t ..................... skipped: You need to set the DBICTEST_DB2_DSN, _USER, and _PASS environment variables
t/10_05ora_common.t ..................... skipped: You need to set the DBICTEST_ORA_DSN, _USER, and _PASS environment variables
t/10_06sybase_common.t .................. skipped: You need to set the DBICTEST_SYBASE_DSN, _USER, and _PASS environment variables
t/10_07mssql_common.t ................... skipped: You need to set the DBICTEST_MSSQL_DSN, _USER and _PASS and/or the DBICTEST_MSSQL_ODBC_DSN, _USER and _PASS environment variables
t/10_08sqlanywhere_common.t ............. skipped: You need to set the DBICTEST_SQLANYWHERE_DSN, _USER and _PASS and/or the DBICTEST_SQLANYWHERE_ODBC_DSN, _USER and _PASS environment variables
t/10_09firebird_common.t ................ skipped: You need to set the DBICTEST_FIREBIRD_DSN, _USER and _PASS and/or the DBICTEST_FIREBIRD_INTERBASE_DSN and/or the DBICTEST_FIREBIRD_ODBC_DSN environment variables
t/10_10informix_common.t ................ skipped: You need to set the DBICTEST_INFORMIX_DSN, _USER, and _PASS environment variables
t/10_11msaccess_common.t ................ skipped: You need to set the DBICTEST_MSACCESS_ODBC_DSN, and optionally _USER and _PASS and/or the DBICTEST_MSACCESS_ADO_DSN, and optionally _USER and _PASS environment variables
t/20invocations.t ....................... ok
t/21misc_fatal.t ........................ ok
t/22dump.t .............................. ok
t/23dumpmore.t .......................... ok
t/24loader_subclass.t ................... ok
t/25backcompat.t ........................ ok
t/26dump_use_moose.t .................... ok
t/27filter_generated.t .................. ok
t/30_01comments.t ....................... ok
t/30_02bad_comment_table.t .............. ok
t/30_03no_comment_table.t ............... ok
t/40overwrite_modifications.t ........... ok
t/45relationships.t ..................... ok
t/46relationships_multi_m2m.t ........... ok
t/50rt59849.t ........................... ok
t/60dbicdump_config.t ................... skipped: Tests needs Config::General (see DBIx::Class::Schema::Loader::Optional::Dependencies for details)
t/65dbicdump_invocations.t .............. ok
t/70schema_base_dispatched.t ............ ok
t/80split_name.t ........................ ok
t/90bug_58_mro.t ........................ skipped: perl 5.8 required for this test
t/backcompat/0.04006/10sqlite_common.t .. skipped: set SCHEMA_LOADER_TESTS_BACKCOMPAT to enable these tests
t/backcompat/0.04006/11mysql_common.t ... skipped: set SCHEMA_LOADER_TESTS_BACKCOMPAT to enable these tests
t/backcompat/0.04006/12pg_common.t ...... skipped: set SCHEMA_LOADER_TESTS_BACKCOMPAT to enable these tests
t/backcompat/0.04006/13db2_common.t ..... skipped: set SCHEMA_LOADER_TESTS_BACKCOMPAT to enable these tests
t/backcompat/0.04006/14ora_common.t ..... skipped: set SCHEMA_LOADER_TESTS_BACKCOMPAT to enable these tests
t/backcompat/0.04006/20invocations.t .... skipped: set SCHEMA_LOADER_TESTS_BACKCOMPAT to enable these tests
t/backcompat/0.04006/21misc_fatal.t ..... skipped: set SCHEMA_LOADER_TESTS_BACKCOMPAT to enable these tests
t/backcompat/0.04006/22dump.t ........... skipped: set SCHEMA_LOADER_TESTS_BACKCOMPAT to enable these tests
t/backcompat/0.04006/23dumpmore.t ....... skipped: set SCHEMA_LOADER_TESTS_BACKCOMPAT to enable these tests
All tests successful.
Files=42, Tests=1417, 48 wallclock secs ( 0.27 usr 0.09 sys + 42.38 cusr 3.54 csys = 46.28 CPU)
Result: PASS
------------------------------
PREREQUISITES
------------------------------
Prerequisite modules loaded:
requires:
Module Need Have
------------------------------ -------- --------
Carp::Clan 0 6.04
Class::Accessor::Grouped 0.10008 0.10010
Class::C3::Componentised 1.0008 1.001000
Class::Inspector 1.27 1.28
Class::Unload 0.07 0.07
Data::Dump 1.06 1.22
DBD::SQLite 1.29 1.37
DBIx::Class 0.08127 0.08250
DBIx::Class::IntrospectableM2M 0 0.001001
Digest::MD5 2.36 2.52
Exporter 5.63 5.68
File::Path 2.07 2.09
File::Temp 0.16 0.2301
Hash::Merge 0.12 0.12
Lingua::EN::Inflect::Number 1.1 1.1
Lingua::EN::Inflect::Phrase 0.15 0.18
Lingua::EN::Tagger 0.23 0.23
List::MoreUtils 0.32 0.33
MRO::Compat 0.09 0.12
namespace::clean 0.23 0.24
perl 5.008001 5.019001
Scope::Guard 0.20 0.20
String::CamelCase 0.02 0.02
String::ToIdentifier::EN 0.05 0.09
Sub::Name 0 0.05
Test::Exception 0.31 0.32
Test::More 0.94 0.98
Test::Warn 0.21 0.24
Try::Tiny 0 0.12
build_requires:
Module Need Have
------------------------------ -------- --------
DBD::SQLite 1.29 1.37
DBIx::Class::IntrospectableM2M 0 0.001001
ExtUtils::MakeMaker 6.59 6.66
File::Path 2.07 2.09
File::Temp 0.16 0.2301
Test::Exception 0.31 0.32
Test::More 0.94 0.98
Test::Warn 0.21 0.24
configure_requires:
Module Need Have
------------------------------ -------- --------
ExtUtils::MakeMaker 6.59 6.66
------------------------------
ENVIRONMENT AND OTHER CONTEXT
------------------------------
Environment variables:
AUTOMATED_TESTING = 1
LANG = en_US.UTF-8
LANGUAGE = en_US:en
PATH = /usr/lib/ccache:/home/sand/bin:/usr/local/bin:/usr/bin:/bin:/usr/bin/X11:/usr/games:/usr/local/perl/bin:/usr/X11/bin:/sbin:/usr/sbin
PERL5LIB =
PERL5OPT =
PERL5_CPANPLUS_IS_RUNNING = 10449
PERL5_CPAN_IS_RUNNING = 10449
PERL_MM_USE_DEFAULT = 1
SHELL = /usr/bin/zsh
TERM = screen
Perl special variables (and OS-specific diagnostics, for MSWin32):
$^X = /tmp/basesmoker-reloperl-C4Vp/bin/perl
$UID/$EUID = 1005 / 1005
$GID = 1005 1005
$EGID = 1005 1005
Perl module toolchain versions installed:
Module Have
------------------- --------
CPAN 2.00
CPAN::Meta 2.120921
Cwd 3.40
ExtUtils::CBuilder 0.280210
ExtUtils::Command 1.17
ExtUtils::Install 1.59
ExtUtils::MakeMaker 6.66
ExtUtils::Manifest 1.63
ExtUtils::ParseXS 3.18
File::Spec 3.40
JSON 2.57
JSON::PP 2.27202
Module::Build 0.4005
Module::Signature 0.70
Parse::CPAN::Meta 1.4404
Test::Harness 3.28
Test::More 0.98
YAML 0.84
YAML::Syck 1.27
version 0.9902
--
Summary of my perl5 (revision 5 version 19 subversion 1) configuration:
Commit id: b4b2fefd8bdd72b0f88245101f270e9dc39568f6
Platform:
osname=linux, osvers=3.8-2-amd64, archname=x86_64-linux-thread-multi
uname='linux k83 3.8-2-amd64 #1 smp debian 3.8.13-1 x86_64 gnulinux '
config_args='-Dprefix=/home/src/perl/repoperls/installed-perls/perl/v5.19.0-113-gb4b2fef/9980 -Dmyhostname=k83 -Dinstallusrbinperl=n -Uversiononly -Dusedevel -des -Ui_db -Duseithreads -Uuselongdouble -DDEBUGGING=-g'
hint=recommended, useposix=true, d_sigaction=define
useithreads=define, usemultiplicity=define
useperlio=define, d_sfio=undef, uselargefiles=define, usesocks=undef
use64bitint=define, use64bitall=define, uselongdouble=undef
usemymalloc=n, bincompat5005=undef
Compiler:
cc='cc', ccflags ='-D_REENTRANT -D_GNU_SOURCE -fno-strict-aliasing -pipe -fstack-protector -I/usr/local/include -D_LARGEFILE_SOURCE -D_FILE_OFFSET_BITS=64',
optimize='-O2 -g',
cppflags='-D_REENTRANT -D_GNU_SOURCE -fno-strict-aliasing -pipe -fstack-protector -I/usr/local/include'
ccversion='', gccversion='4.7.3', gccosandvers=''
intsize=4, longsize=8, ptrsize=8, doublesize=8, byteorder=12345678
d_longlong=define, longlongsize=8, d_longdbl=define, longdblsize=16
ivtype='long', ivsize=8, nvtype='double', nvsize=8, Off_t='off_t', lseeksize=8
alignbytes=8, prototype=define
Linker and Libraries:
ld='cc', ldflags =' -fstack-protector -L/usr/local/lib'
libpth=/usr/local/lib /lib/x86_64-linux-gnu /lib/../lib /usr/lib/x86_64-linux-gnu /usr/lib/../lib /lib /usr/lib
libs=-lnsl -lgdbm -ldb -ldl -lm -lcrypt -lutil -lpthread -lc -lgdbm_compat
perllibs=-lnsl -ldl -lm -lcrypt -lutil -lpthread -lc
libc=, so=so, useshrplib=false, libperl=libperl.a
gnulibc_version='2.17'
Dynamic Linking:
dlsrc=dl_dlopen.xs, dlext=so, d_dlsymun=undef, ccdlflags='-Wl,-E'
cccdlflags='-fPIC', lddlflags='-shared -O2 -g -L/usr/local/lib -fstack-protector'
Characteristics of this binary (from libperl):
Compile-time options: HAS_TIMES MULTIPLICITY PERLIO_LAYERS
PERL_DONT_CREATE_GVSV
PERL_HASH_FUNC_ONE_AT_A_TIME_HARD
PERL_IMPLICIT_CONTEXT PERL_MALLOC_WRAP
PERL_PRESERVE_IVUV PERL_SAWAMPERSAND PERL_USE_DEVEL
USE_64_BIT_ALL USE_64_BIT_INT USE_ITHREADS
USE_LARGE_FILES USE_LOCALE USE_LOCALE_COLLATE
USE_LOCALE_CTYPE USE_LOCALE_NUMERIC USE_PERLIO
USE_PERL_ATOF USE_REENTRANT_API
Built under linux
Compiled at May 21 2013 12:52:35
%ENV:
PERL5LIB=""
PERL5OPT=""
PERL5_CPANPLUS_IS_RUNNING="10449"
PERL5_CPAN_IS_RUNNING="10449"
PERL_MM_USE_DEFAULT="1"
@INC:
/home/src/perl/repoperls/installed-perls/perl/v5.19.0-113-gb4b2fef/9980/lib/site_perl/5.19.1/x86_64-linux-thread-multi
/home/src/perl/repoperls/installed-perls/perl/v5.19.0-113-gb4b2fef/9980/lib/site_perl/5.19.1
/home/src/perl/repoperls/installed-perls/perl/v5.19.0-113-gb4b2fef/9980/lib/5.19.1/x86_64-linux-thread-multi
/home/src/perl/repoperls/installed-perls/perl/v5.19.0-113-gb4b2fef/9980/lib/5.19.1
.