Net-Statsd-Server v0.20 Perl 5 v5.27.4 x86_64-linux

Status
Pass
From
Slaven Rezić (SREZIC)
Dist
Net-Statsd-Server v0.20
Platform
Perl 5 v5.27.4 x86_64-linux
Date
2017-09-23 02:12:50
ID
b3050c3a-a004-11e7-b1e8-f2b3b6d0e5b7
This distribution has been tested as part of the CPAN Testers
project, supporting the Perl programming language.  See
http://wiki.cpantesters.org/ for more information or email
questions to cpan-testers-discuss@perl.org


--
Dear Cosimo Streppone,

This is a computer-generated report for Net-Statsd-Server-0.20
on perl 5.27.4, created by CPAN-Reporter-1.2018.

Thank you for uploading your work to CPAN.  Congratulations!
All tests were successful.

Sections of this report:

    * Tester comments
    * Program output
    * Prerequisites
    * Environment and other context

------------------------------
TESTER COMMENTS
------------------------------

Additional comments from tester:

none provided

------------------------------
PROGRAM OUTPUT
------------------------------

Output from '/usr/bin/make test':

PERL_DL_NONLAZY=1 "/opt/perl-5.27.4/bin/perl5.27.4" "-MExtUtils::Command::MM" "-MTest::Harness" "-e" "undef *Test::Harness::Switches; test_harness(0, 'blib/lib', 'blib/arch')" t/*.t t/integration-tests/*.t
t/000-sanity.t ............................. ok
t/config.t ................................. ok
t/graphite.t ............................... ok
2017-09-22 18:37:18.000000 +0000 note  Net::Statsd::Server: Initializing Net::Statsd::Server::Backend::Console backend
2017-09-22 18:37:18.000000 +0000 note  Net::Statsd::Server: Initializing Net::Statsd::Server::Backend::Graphite backend
2017-09-22 18:37:18.000000 +0000 info  AnyEvent: Autoloaded model 'AnyEvent::Impl::EV', using it.
2017-09-22 18:37:18.599106 +0000 note  Net::Statsd::Server: statsd server started on 0.0.0.0:40001 (v0.17)
2017-09-22 18:37:18.599133 +0000 note  Net::Statsd::Server: manager interface started on 0.0.0.0:40002
2017-09-22 18:37:18.599164 +0000 note  Net::Statsd::Server: metrics flush will happen every 1s
2017-09-22 18:37:19.044275 +0000 warn  Net::Statsd::Server: Bad line: 1 in msg "a_bad_test_value|z"
2017-09-22 18:37:19.599308 +0000 note  Net::Statsd::Server: flushing metrics
Flushing stats at Fri Sep 22 18:37:19 2017
{"gauges":{},"timer_data":{},"counter_rates":{"statsd.packets_received":1,"statsd.bad_lines_seen":1},"pctThreshold":[90],"timers":{},"counters":{"statsd.packets_received":1,"statsd.bad_lines_seen":1},"sets":null}
t/integration-tests/bad-message.t .......... ok
2017-09-22 18:37:19.000000 +0000 note  Net::Statsd::Server: Initializing Net::Statsd::Server::Backend::Console backend
2017-09-22 18:37:19.000000 +0000 note  Net::Statsd::Server: Initializing Net::Statsd::Server::Backend::Graphite backend
2017-09-22 18:37:19.000000 +0000 info  AnyEvent: Autoloaded model 'AnyEvent::Impl::EV', using it.
2017-09-22 18:37:19.771956 +0000 note  Net::Statsd::Server: statsd server started on 0.0.0.0:40001 (v0.17)
2017-09-22 18:37:19.771985 +0000 note  Net::Statsd::Server: manager interface started on 0.0.0.0:40002
2017-09-22 18:37:19.772011 +0000 note  Net::Statsd::Server: metrics flush will happen every 1s
2017-09-22 18:37:20.773618 +0000 note  Net::Statsd::Server: flushing metrics
Flushing stats at Fri Sep 22 18:37:20 2017
{"timers":{},"sets":null,"timer_data":{},"counters":{"statsd.bad_lines_seen":0,"statsd.packets_received":1,"a_test_value":100},"counter_rates":{"statsd.bad_lines_seen":0,"statsd.packets_received":1,"a_test_value":100},"gauges":{},"pctThreshold":[90]}
# stats.counters.statsd.bad_lines_seen.rate 0.000000 1506105440
# stats.counters.statsd.bad_lines_seen.count 0 1506105440
# stats.counters.statsd.packets_received.rate 1.000000 1506105440
# stats.counters.statsd.packets_received.count 1 1506105440
# stats.counters.a_test_value.rate 100.000000 1506105440
# stats.counters.a_test_value.count 100 1506105440
# stats.statsd.numStats 3 1506105440
# stats.statsd.graphiteStats.calculationtime 0.054000 1506105440
# stats.statsd.processing_time 0.013 1506105440
# stats.statsd.graphiteStats.last_exception 93930456041376 1506105440
# stats.statsd.graphiteStats.last_flush 93930456041376 1506105440
t/integration-tests/counts-are-valid.t ..... ok
2017-09-22 18:37:20.000000 +0000 note  Net::Statsd::Server: Initializing Net::Statsd::Server::Backend::Graphite backend
2017-09-22 18:37:20.000000 +0000 info  AnyEvent: Autoloaded model 'AnyEvent::Impl::EV', using it.
2017-09-22 18:37:20.902684 +0000 note  Net::Statsd::Server: statsd server started on 0.0.0.0:40001 (v0.17)
2017-09-22 18:37:20.902708 +0000 note  Net::Statsd::Server: manager interface started on 0.0.0.0:40002
2017-09-22 18:37:20.902730 +0000 note  Net::Statsd::Server: metrics flush will happen every 1s
2017-09-22 18:37:21.904133 +0000 note  Net::Statsd::Server: flushing metrics
# First flush. Test gauge should be there.
2017-09-22 18:37:22.903276 +0000 note  Net::Statsd::Server: flushing metrics
# Second flush. deleteGauges=false should keep the test gauge.
t/integration-tests/delete-gauges-false.t .. ok
2017-09-22 18:37:23.000000 +0000 note  Net::Statsd::Server: Initializing Net::Statsd::Server::Backend::Graphite backend
2017-09-22 18:37:23.000000 +0000 info  AnyEvent: Autoloaded model 'AnyEvent::Impl::EV', using it.
2017-09-22 18:37:23.032843 +0000 note  Net::Statsd::Server: statsd server started on 0.0.0.0:40001 (v0.17)
2017-09-22 18:37:23.032866 +0000 note  Net::Statsd::Server: manager interface started on 0.0.0.0:40002
2017-09-22 18:37:23.032906 +0000 note  Net::Statsd::Server: metrics flush will happen every 1s
2017-09-22 18:37:24.034216 +0000 note  Net::Statsd::Server: flushing metrics
# First flush. Test gauge should be there.
2017-09-22 18:37:25.035300 +0000 note  Net::Statsd::Server: flushing metrics
# Second flush. deleteIdleStats should have cleared the test gauge.
t/integration-tests/delete-idle-stats.t .... ok
2017-09-22 18:37:25.000000 +0000 note  Net::Statsd::Server: Initializing Net::Statsd::Server::Backend::Console backend
2017-09-22 18:37:25.000000 +0000 note  Net::Statsd::Server: Initializing Net::Statsd::Server::Backend::Graphite backend
2017-09-22 18:37:25.000000 +0000 info  AnyEvent: Autoloaded model 'AnyEvent::Impl::EV', using it.
2017-09-22 18:37:25.174532 +0000 note  Net::Statsd::Server: statsd server started on 0.0.0.0:40001 (v0.17)
2017-09-22 18:37:25.174556 +0000 note  Net::Statsd::Server: manager interface started on 0.0.0.0:40002
2017-09-22 18:37:25.174580 +0000 note  Net::Statsd::Server: metrics flush will happen every 1s
2017-09-22 18:37:26.175296 +0000 note  Net::Statsd::Server: flushing metrics
Flushing stats at Fri Sep 22 18:37:26 2017
{"gauges":{},"counter_rates":{"a_test_value,category=web,severity=high":100,"statsd.bad_lines_seen":0,"statsd.packets_received":1},"pctThreshold":[90],"sets":null,"timer_data":{},"counters":{"statsd.bad_lines_seen":0,"statsd.packets_received":1,"a_test_value,category=web,severity=high":100},"timers":{}}
# stats.counters.statsd.bad_lines_seen.rate 0.000000 1506105446
# stats.counters.statsd.bad_lines_seen.count 0 1506105446
# stats.counters.statsd.packets_received.rate 1.000000 1506105446
# stats.counters.statsd.packets_received.count 1 1506105446
# stats.counters.a_test_value,category=web,severity=high.rate 100.000000 1506105446
# stats.counters.a_test_value,category=web,severity=high.count 100 1506105446
# stats.statsd.numStats 3 1506105446
# stats.statsd.graphiteStats.calculationtime 0.034000 1506105446
# stats.statsd.processing_time 0.016 1506105446
# stats.statsd.graphiteStats.last_exception 94378244585536 1506105446
# stats.statsd.graphiteStats.last_flush 94378244585536 1506105446
t/integration-tests/keys-with-tags.t ....... ok
2017-09-22 18:37:26.000000 +0000 note  Net::Statsd::Server: Initializing Net::Statsd::Server::Backend::Graphite backend
2017-09-22 18:37:26.000000 +0000 info  AnyEvent: Autoloaded model 'AnyEvent::Impl::EV', using it.
2017-09-22 18:37:26.311554 +0000 note  Net::Statsd::Server: statsd server started on 0.0.0.0:40001 (v0.17)
2017-09-22 18:37:26.311579 +0000 note  Net::Statsd::Server: manager interface started on 0.0.0.0:40002
2017-09-22 18:37:26.311609 +0000 note  Net::Statsd::Server: metrics flush will happen every 1s
# Expected mean value is 2009.08
2017-09-22 18:37:27.313225 +0000 note  Net::Statsd::Server: flushing metrics
# stats.counters.statsd.bad_lines_seen.rate 0.000000 1506105447
# stats.counters.statsd.bad_lines_seen.count 0 1506105447
# stats.counters.statsd.packets_received.rate 100.000000 1506105447
# stats.counters.statsd.packets_received.count 100 1506105447
# stats.timers.read_latency.sum_95 186154.000000 1506105447
# stats.timers.read_latency.sum_squares 441132924.000000 1506105447
# stats.timers.read_latency.upper_98 2945.000000 1506105447
# stats.timers.read_latency.sum_squares_99 432246563.000000 1506105447
# stats.timers.read_latency.count_ps 100.000000 1506105447
# stats.timers.read_latency.count_99 99.000000 1506105447
# stats.timers.read_latency.mean_95 1959.515789 1506105447
# stats.timers.read_latency.sum_squares_95 397594784.000000 1506105447
# stats.timers.read_latency.upper_95 2899.000000 1506105447
# stats.timers.read_latency.count 100.000000 1506105447
# stats.timers.read_latency.std 612.312660 1506105447
# stats.timers.read_latency.count_98 98.000000 1506105447
# stats.timers.read_latency.mean_99 1999.262626 1506105447
# stats.timers.read_latency.sum_squares_98 423443474.000000 1506105447
# stats.timers.read_latency.sum 200908.000000 1506105447
# stats.timers.read_latency.lower 1001.000000 1506105447
# stats.timers.read_latency.mean 2009.080000 1506105447
# stats.timers.read_latency.mean_98 1989.387755 1506105447
# stats.timers.read_latency.upper_99 2967.000000 1506105447
# stats.timers.read_latency.median 1970.500000 1506105447
# stats.timers.read_latency.upper 2981.000000 1506105447
# stats.timers.read_latency.sum_99 197927.000000 1506105447
# stats.timers.read_latency.sum_98 194960.000000 1506105447
# stats.timers.read_latency.count_95 95.000000 1506105447
# stats.statsd.numStats 3 1506105447
# stats.statsd.graphiteStats.calculationtime 0.059000 1506105447
# stats.statsd.processing_time 0.16 1506105447
# stats.statsd.graphiteStats.last_exception 93907273484352 1506105447
# stats.statsd.graphiteStats.last_flush 93907273484352 1506105447
t/integration-tests/percent-threshold.t .... ok
2017-09-22 18:37:27.000000 +0000 note  Net::Statsd::Server: Initializing Net::Statsd::Server::Backend::Console backend
2017-09-22 18:37:27.000000 +0000 note  Net::Statsd::Server: Initializing Net::Statsd::Server::Backend::Graphite backend
2017-09-22 18:37:27.000000 +0000 info  AnyEvent: Autoloaded model 'AnyEvent::Impl::EV', using it.
2017-09-22 18:37:27.446468 +0000 note  Net::Statsd::Server: statsd server started on 0.0.0.0:40001 (v0.17)
2017-09-22 18:37:27.446492 +0000 note  Net::Statsd::Server: manager interface started on 0.0.0.0:40002
2017-09-22 18:37:27.446521 +0000 note  Net::Statsd::Server: metrics flush will happen every 1s
2017-09-22 18:37:28.448272 +0000 note  Net::Statsd::Server: flushing metrics
Flushing stats at Fri Sep 22 18:37:28 2017
{"timer_data":{"a_test_value":{"sum_squares_90":10000,"sum_90":"100","count_90":1,"upper_90":"100","sum_squares":10000,"count_ps":1,"lower":"100","median":"100","std":0,"mean":100,"count":1,"sum":"100","mean_90":"100","upper":"100"}},"sets":null,"gauges":{},"counter_rates":{"statsd.bad_lines_seen":0,"statsd.packets_received":1},"timers":{"a_test_value":["100"]},"counters":{"statsd.packets_received":1,"statsd.bad_lines_seen":0},"pctThreshold":["90"]}
# stats.counters.statsd.packets_received.rate 1.000000 1506105448
# stats.counters.statsd.packets_received.count 1 1506105448
# stats.counters.statsd.bad_lines_seen.rate 0.000000 1506105448
# stats.counters.statsd.bad_lines_seen.count 0 1506105448
# stats.timers.a_test_value.sum_squares_90 10000.000000 1506105448
# stats.timers.a_test_value.sum_90 100.000000 1506105448
# stats.timers.a_test_value.count_90 1.000000 1506105448
# stats.timers.a_test_value.upper_90 100.000000 1506105448
# stats.timers.a_test_value.sum_squares 10000.000000 1506105448
# stats.timers.a_test_value.count_ps 1.000000 1506105448
# stats.timers.a_test_value.lower 100.000000 1506105448
# stats.timers.a_test_value.median 100.000000 1506105448
# stats.timers.a_test_value.std 0.000000 1506105448
# stats.timers.a_test_value.mean 100.000000 1506105448
# stats.timers.a_test_value.count 1.000000 1506105448
# stats.timers.a_test_value.sum 100.000000 1506105448
# stats.timers.a_test_value.mean_90 100.000000 1506105448
# stats.timers.a_test_value.upper 100.000000 1506105448
# stats.statsd.numStats 3 1506105448
# stats.statsd.graphiteStats.calculationtime 0.047000 1506105448
# stats.statsd.processing_time 0.037 1506105448
# stats.statsd.graphiteStats.last_exception 94599464810560 1506105448
# stats.statsd.graphiteStats.last_flush 94599464810560 1506105448
t/integration-tests/timers-are-valid.t ..... ok
t/process-metrics.t ........................ ok
t/trim.t ................................... ok
All tests successful.
Files=12, Tests=92, 10 wallclock secs ( 0.02 usr  0.05 sys +  0.69 cusr  0.17 csys =  0.93 CPU)
Result: PASS

------------------------------
PREREQUISITES
------------------------------

Prerequisite modules loaded:

requires:

    Module                Need Have    
    --------------------- ---- --------
    AnyEvent::Handle::UDP 0    0.048   
    IO::Socket::INET      0    1.35    
    JSON::XS              0    3.04    

build_requires:

    Module                Need Have    
    --------------------- ---- --------
    ExtUtils::MakeMaker   0    7.30    
    Test::More            0    1.302096

configure_requires:

    Module                Need Have    
    --------------------- ---- --------
    ExtUtils::MakeMaker   0    7.30    


------------------------------
ENVIRONMENT AND OTHER CONTEXT
------------------------------

Environment variables:

    LANG = C
    LC_ALL = de_DE.UTF-8
    PATH = /usr/local/bin:/usr/bin:/bin:/usr/local/sbin:/usr/sbin:/sbin:/home/cpansand/bin/linux-gnu:/home/cpansand/bin/sh:/home/cpansand/bin:/usr/games:/home/cpansand/devel:/home/eserte/src/srezic-misc/scripts
    PERL5LIB = 
    PERL5OPT = 
    PERL5_CPANPLUS_IS_RUNNING = 1873
    PERL5_CPAN_IS_RUNNING = 1873
    PERL5_CPAN_IS_RUNNING_IN_RECURSION = 12281,1873
    PERLDOC = -MPod::Perldoc::ToTextOverstrike
    PERL_BATCH = yes
    PERL_CANARY_STABILITY_NOPROMPT = 1
    PERL_CPAN_REPORTER_CONFIG = /var/tmp/cpansmoker-1023/2017092212/cpanreporter_000_config.ini
    PERL_EXTUTILS_AUTOINSTALL = --defaultdeps
    PERL_PARALLEL_SMOKER = yes
    PERL_USE_UNSAFE_INC = 1
    SHELL = /usr/bin/zsh
    TERM = screen
    TMPDIR = /var/tmp/cpansmoker-1023/2017092212

Perl special variables (and OS-specific diagnostics, for MSWin32):

    $^X = /opt/perl-5.27.4/bin/perl5.27.4
    $UID/$EUID = 1023 / 1023
    $GID = 1023 1023
    $EGID = 1023 1023

Perl module toolchain versions installed:

    Module              Have    
    ------------------- --------
    CPAN                2.16    
    CPAN::Meta          2.150010
    Cwd                 3.62    
    ExtUtils::CBuilder  0.280226
    ExtUtils::Command   7.30    
    ExtUtils::Install   2.14    
    ExtUtils::MakeMaker 7.30    
    ExtUtils::Manifest  1.70    
    ExtUtils::ParseXS   3.35    
    File::Spec          3.62    
    JSON                2.94    
    JSON::PP            2.94    
    Module::Build       0.4224  
    Module::Signature   0.81    
    Parse::CPAN::Meta   2.150010
    Test::Harness       3.39    
    Test::More          1.302096
    YAML                1.23    
    YAML::Syck          1.30    
    version             0.9918  


--

Summary of my perl5 (revision 5 version 27 subversion 4) configuration:
   
  Platform:
    osname=linux
    osvers=4.9.0-3-amd64
    archname=x86_64-linux
    uname='linux debian9 4.9.0-3-amd64 #1 smp debian 4.9.30-2+deb9u3 (2017-08-06) x86_64 gnulinux '
    config_args='-ds -e -Dprefix=/opt/perl-5.27.4 -Dusedevel -Dusemallocwrap=no -Dcf_email=srezic@cpan.org'
    hint=recommended
    useposix=true
    d_sigaction=define
    useithreads=undef
    usemultiplicity=undef
    use64bitint=define
    use64bitall=define
    uselongdouble=undef
    usemymalloc=n
    default_inc_excludes_dot=define
    bincompat5005=undef
  Compiler:
    cc='cc'
    ccflags ='-fwrapv -fno-strict-aliasing -pipe -fstack-protector-strong -I/usr/local/include -D_LARGEFILE_SOURCE -D_FILE_OFFSET_BITS=64 -D_FORTIFY_SOURCE=2'
    optimize='-O2'
    cppflags='-fwrapv -fno-strict-aliasing -pipe -fstack-protector-strong -I/usr/local/include'
    ccversion=''
    gccversion='6.3.0 20170516'
    gccosandvers=''
    intsize=4
    longsize=8
    ptrsize=8
    doublesize=8
    byteorder=12345678
    doublekind=3
    d_longlong=define
    longlongsize=8
    d_longdbl=define
    longdblsize=16
    longdblkind=3
    ivtype='long'
    ivsize=8
    nvtype='double'
    nvsize=8
    Off_t='off_t'
    lseeksize=8
    alignbytes=8
    prototype=define
  Linker and Libraries:
    ld='cc'
    ldflags =' -fstack-protector-strong -L/usr/local/lib'
    libpth=/usr/local/lib /usr/lib/gcc/x86_64-linux-gnu/6/include-fixed /usr/include/x86_64-linux-gnu /usr/lib /lib/x86_64-linux-gnu /lib/../lib /usr/lib/x86_64-linux-gnu /usr/lib/../lib /lib
    libs=-lpthread -lnsl -lgdbm -ldb -ldl -lm -lcrypt -lutil -lc -lgdbm_compat
    perllibs=-lpthread -lnsl -ldl -lm -lcrypt -lutil -lc
    libc=libc-2.24.so
    so=so
    useshrplib=false
    libperl=libperl.a
    gnulibc_version='2.24'
  Dynamic Linking:
    dlsrc=dl_dlopen.xs
    dlext=so
    d_dlsymun=undef
    ccdlflags='-Wl,-E'
    cccdlflags='-fPIC'
    lddlflags='-shared -O2 -L/usr/local/lib -fstack-protector-strong'


Characteristics of this binary (from libperl): 
  Compile-time options:
    HAS_TIMES
    PERLIO_LAYERS
    PERL_COPY_ON_WRITE
    PERL_DONT_CREATE_GVSV
    PERL_OP_PARENT
    PERL_PRESERVE_IVUV
    PERL_USE_DEVEL
    USE_64_BIT_ALL
    USE_64_BIT_INT
    USE_LARGE_FILES
    USE_LOCALE
    USE_LOCALE_COLLATE
    USE_LOCALE_CTYPE
    USE_LOCALE_NUMERIC
    USE_LOCALE_TIME
    USE_PERLIO
    USE_PERL_ATOF
  Built under linux
  Compiled at Sep 20 2017 22:26:09
  %ENV:
    PERL5LIB=""
    PERL5OPT=""
    PERL5_CPANPLUS_IS_RUNNING="1873"
    PERL5_CPAN_IS_RUNNING="1873"
    PERL5_CPAN_IS_RUNNING_IN_RECURSION="12281,1873"
    PERLDOC="-MPod::Perldoc::ToTextOverstrike"
    PERL_BATCH="yes"
    PERL_CANARY_STABILITY_NOPROMPT="1"
    PERL_CPAN_REPORTER_CONFIG="/var/tmp/cpansmoker-1023/2017092212/cpanreporter_000_config.ini"
    PERL_EXTUTILS_AUTOINSTALL="--defaultdeps"
    PERL_PARALLEL_SMOKER="yes"
    PERL_USE_UNSAFE_INC="1"
  @INC:
    /opt/perl-5.27.4/lib/site_perl/5.27.4/x86_64-linux
    /opt/perl-5.27.4/lib/site_perl/5.27.4
    /opt/perl-5.27.4/lib/5.27.4/x86_64-linux
    /opt/perl-5.27.4/lib/5.27.4
    .