Net-LDAP-SimpleServer v0.0.21 Perl 5 v5.26.1 x86_64-linux-thread-multi
- Status
- Pass
- From
- Andreas J. König (ANDK)
- Dist
-
Net-LDAP-SimpleServer v0.0.21
- Platform
- Perl 5 v5.26.1 x86_64-linux-thread-multi
- Date
- 2017-11-13 13:01:01
- ID
- b30af49c-c872-11e7-94c2-fd12e3a4d81f
This distribution has been tested as part of the CPAN Testers
project, supporting the Perl programming language. See
http://wiki.cpantesters.org/ for more information or email
questions to cpan-testers-discuss@perl.org
--
Dear Alexei Znamensky,
This is a computer-generated report for Net-LDAP-SimpleServer-0.0.21
on perl 5.26.1, created by CPAN-Reporter-1.2018.
Thank you for uploading your work to CPAN. Congratulations!
All tests were successful.
Sections of this report:
* Tester comments
* Program output
* Prerequisites
* Environment and other context
------------------------------
TESTER COMMENTS
------------------------------
Additional comments from tester:
this report is from an automated smoke testing program
and was not reviewed by a human for accuracy
------------------------------
PROGRAM OUTPUT
------------------------------
Output from '/usr/bin/make test':
PERL_DL_NONLAZY=1 "/tmp/basesmoker-reloperl-BrH6/bin/perl" "-MExtUtils::Command::MM" "-MTest::Harness" "-e" "undef *Test::Harness::Switches; test_harness(0, 'blib/lib', 'blib/arch')" t/*.t
t/00-compile.t ............... ok
t/00-load.t .................. ok
#
# Versions for all modules listed in MYMETA.json (including optional ones):
#
# === Configure Requires ===
#
# Module Want Have
# ------------------- ---- ----
# ExtUtils::MakeMaker any 7.30
#
# === Build Requires ===
#
# Module Want Have
# ------------------- ---- ----
# ExtUtils::MakeMaker any 7.30
#
# === Test Requires ===
#
# Module Want Have
# ------------------- ---- --------
# Authen::SASL any 2.16
# ExtUtils::MakeMaker any 7.30
# File::Spec any 3.67
# IO::Handle any 1.36
# IO::Pipe any 1.15
# IPC::Open3 any 1.20
# Net::LDAP any 0.65
# Proc::Fork any 0.804
# Test::Deep any 1.127
# Test::More any 1.302106
# Test::UseAllModules any 0.17
# Try::Tiny any 0.28
# lib any 0.64
#
# === Test Recommends ===
#
# Module Want Have
# ---------- -------- --------
# CPAN::Meta 2.120900 2.150010
#
# === Runtime Requires ===
#
# Module Want Have
# ---------------------- ----- ----------
# Carp any 1.42
# Digest::MD5 any 2.55
# Exporter any 5.72
# File::Basename any 2.85
# File::HomeDir any 1.002
# File::Path 2.08 2.12_01
# File::Spec any 3.67
# MIME::Base64 any 3.15
# Net::LDAP::Constant any 0.23
# Net::LDAP::Filter any 0.20
# Net::LDAP::FilterMatch any 0.27
# Net::LDAP::LDIF any 0.26
# Net::LDAP::Server any 0.43
# Net::LDAP::Util any 0.19
# Net::Server 2.003 2.009
# Scalar::Util any 1.49
# UNIVERSAL::isa any 1.20171012
# base any 2.26
# constant any 1.33
# fields any 2.23
# strict any 1.11
# warnings any 1.37
#
t/00-report-prereqs.t ........ ok
t/10-store.t ................. ok
Use of uninitialized value in scalar chomp at /tmp/loop_over_bdir-23487-v90tXN/Net-LDAP-SimpleServer-0.0.21-0/blib/lib/Net/LDAP/SimpleServer/ProtocolHandler.pm line 73.
Use of uninitialized value in string eq at /tmp/loop_over_bdir-23487-v90tXN/Net-LDAP-SimpleServer-0.0.21-0/blib/lib/Net/LDAP/SimpleServer/ProtocolHandler.pm line 52.
t/20-handler.t ............... ok
Couldn't open conf "/no/such/file.conf" [No such file or directory]
t/30-param.t ................. ok
t/40-bind.t .................. ok
t/41-bind-user.t ............. ok
t/50-search.t ................ ok
t/51-search-pw_attr.t ........ ok
t/author-critic.t ............ skipped: these tests are for testing by the author
t/author-eol.t ............... skipped: these tests are for testing by the author
t/author-mojibake.t .......... skipped: these tests are for testing by the author
t/author-no-tabs.t ........... skipped: these tests are for testing by the author
t/author-pod-coverage.t ...... skipped: these tests are for testing by the author
t/author-pod-linkcheck.t ..... skipped: these tests are for testing by the author
t/author-pod-syntax.t ........ skipped: these tests are for testing by the author
t/author-portability.t ....... skipped: these tests are for testing by the author
t/author-test-version.t ...... skipped: these tests are for testing by the author
t/release-dist-manifest.t .... skipped: these tests are for release candidate testing
t/release-distmeta.t ......... skipped: these tests are for release candidate testing
t/release-kwalitee.t ......... skipped: these tests are for release candidate testing
t/release-meta-json.t ........ skipped: these tests are for release candidate testing
t/release-minimum-version.t .. skipped: these tests are for release candidate testing
t/release-unused-vars.t ...... skipped: these tests are for release candidate testing
All tests successful.
Files=25, Tests=77, 63 wallclock secs ( 0.06 usr 0.11 sys + 1.77 cusr 0.46 csys = 2.40 CPU)
Result: PASS
------------------------------
PREREQUISITES
------------------------------
Prerequisite modules loaded:
requires:
Module Need Have
---------------------- ----- ----------
base 0 2.26
Carp 0 1.42
constant 0 1.33
Digest::MD5 0 2.55
Exporter 0 5.72
fields 0 2.23
File::Basename 0 2.85
File::HomeDir 0 1.002
File::Path 2.08 2.12_01
File::Spec 0 3.67
MIME::Base64 0 3.15
Net::LDAP::Constant 0 0.23
Net::LDAP::Filter 0 0.20
Net::LDAP::FilterMatch 0 0.27
Net::LDAP::LDIF 0 0.26
Net::LDAP::Server 0 0.43
Net::LDAP::Util 0 0.19
Net::Server 2.003 2.009
perl 5.014 5.026001
Scalar::Util 0 1.49
strict 0 1.11
UNIVERSAL::isa 0 1.20171012
warnings 0 1.37
build_requires:
Module Need Have
---------------------- ----- ----------
Authen::SASL 0 2.16
ExtUtils::MakeMaker 0 7.30
File::Spec 0 3.67
IO::Handle 0 1.36
IO::Pipe 0 1.15
IPC::Open3 0 1.20
lib 0 0.64
Net::LDAP 0 0.65
Proc::Fork 0 0.804
Test::Deep 0 1.127
Test::More 0 1.302106
Test::UseAllModules 0 0.17
Try::Tiny 0 0.28
configure_requires:
Module Need Have
---------------------- ----- ----------
ExtUtils::MakeMaker 0 7.30
------------------------------
ENVIRONMENT AND OTHER CONTEXT
------------------------------
Environment variables:
AUTOMATED_TESTING = 1
LANG = en_US.UTF-8
PATH = /home/sand/bin:/usr/local/bin:/usr/local/sbin:/usr/sbin:/usr/bin:/sbin:/bin:/usr/games:/usr/local/games:/usr/local/perl/bin:/usr/X11/bin
PERL5LIB = /tmp/loop_over_bdir-23487-v90tXN/Net-DNS-1.13-0/blib/arch:/tmp/loop_over_bdir-23487-v90tXN/Net-DNS-1.13-0/blib/lib
PERL5OPT =
PERL5_CPANPLUS_IS_RUNNING = 10918
PERL5_CPAN_IS_RUNNING = 10918
PERL_CANARY_STABILITY_NOPROMPT = 1
PERL_MM_USE_DEFAULT = 1
PERL_USE_UNSAFE_INC = 1
SHELL = /usr/bin/zsh
TERM = screen
Perl special variables (and OS-specific diagnostics, for MSWin32):
$^X = /tmp/basesmoker-reloperl-BrH6/bin/perl
$UID/$EUID = 1005 / 1005
$GID = 1005 1005
$EGID = 1005 1005
Perl module toolchain versions installed:
Module Have
------------------- ----------
CPAN 2.19
CPAN::Meta 2.150010
Cwd 3.67
ExtUtils::CBuilder 0.280226
ExtUtils::Command 7.30
ExtUtils::Install 2.06
ExtUtils::MakeMaker 7.30
ExtUtils::Manifest 1.70
ExtUtils::ParseXS 3.34
File::Spec 3.67
JSON 2.94
JSON::PP 2.27400_02
Module::Build 0.4224
Module::Signature 0.81
Parse::CPAN::Meta 2.150010
Test::Harness 3.39
Test::More 1.302106
YAML 1.24
YAML::Syck 1.30
version 0.9918
--
Summary of my perl5 (revision 5 version 26 subversion 1) configuration:
Commit id: 714a461a2ab3017f19ea0f7bbb4934b2309d3aa8
Platform:
osname=linux
osvers=4.4.0-98-generic
archname=x86_64-linux-thread-multi
uname='linux k93x64xenial 4.4.0-98-generic #121-ubuntu smp tue oct 10 14:24:03 utc 2017 x86_64 x86_64 x86_64 gnulinux '
config_args='-Dprefix=/home/sand/src/perl/repoperls/installed-perls/host/k93x64xenial/v5.26.1/aa39 -Dmyhostname=k93x64xenial -Dinstallusrbinperl=n -Uversiononly -Dusedevel -des -Ui_db -Dlibswanted=cl pthread socket inet nsl gdbm dbm malloc dl ld sun m crypt sec util c cposix posix ucb BSD gdbm_compat -Duseithreads -Uuselongdouble -DDEBUGGING=-g'
hint=recommended
useposix=true
d_sigaction=define
useithreads=define
usemultiplicity=define
use64bitint=define
use64bitall=define
uselongdouble=undef
usemymalloc=n
default_inc_excludes_dot=define
bincompat5005=undef
Compiler:
cc='cc'
ccflags ='-D_REENTRANT -D_GNU_SOURCE -fwrapv -fno-strict-aliasing -pipe -fstack-protector-strong -I/usr/local/include -D_LARGEFILE_SOURCE -D_FILE_OFFSET_BITS=64'
optimize='-O2 -g'
cppflags='-D_REENTRANT -D_GNU_SOURCE -fwrapv -fno-strict-aliasing -pipe -fstack-protector-strong -I/usr/local/include'
ccversion=''
gccversion='5.4.0 20160609'
gccosandvers=''
intsize=4
longsize=8
ptrsize=8
doublesize=8
byteorder=12345678
doublekind=3
d_longlong=define
longlongsize=8
d_longdbl=define
longdblsize=16
longdblkind=3
ivtype='long'
ivsize=8
nvtype='double'
nvsize=8
Off_t='off_t'
lseeksize=8
alignbytes=8
prototype=define
Linker and Libraries:
ld='cc'
ldflags =' -fstack-protector-strong -L/usr/local/lib'
libpth=/usr/local/lib /usr/lib/gcc/x86_64-linux-gnu/5/include-fixed /usr/include/x86_64-linux-gnu /usr/lib /lib/x86_64-linux-gnu /lib/../lib /usr/lib/x86_64-linux-gnu /usr/lib/../lib /lib
libs=-lpthread -lnsl -ldl -lm -lcrypt -lutil -lc
perllibs=-lpthread -lnsl -ldl -lm -lcrypt -lutil -lc
libc=libc-2.23.so
so=so
useshrplib=false
libperl=libperl.a
gnulibc_version='2.23'
Dynamic Linking:
dlsrc=dl_dlopen.xs
dlext=so
d_dlsymun=undef
ccdlflags='-Wl,-E'
cccdlflags='-fPIC'
lddlflags='-shared -O2 -g -L/usr/local/lib -fstack-protector-strong'
Characteristics of this binary (from libperl):
Compile-time options:
HAS_TIMES
MULTIPLICITY
PERLIO_LAYERS
PERL_COPY_ON_WRITE
PERL_DONT_CREATE_GVSV
PERL_IMPLICIT_CONTEXT
PERL_MALLOC_WRAP
PERL_OP_PARENT
PERL_PRESERVE_IVUV
PERL_USE_DEVEL
USE_64_BIT_ALL
USE_64_BIT_INT
USE_ITHREADS
USE_LARGE_FILES
USE_LOCALE
USE_LOCALE_COLLATE
USE_LOCALE_CTYPE
USE_LOCALE_NUMERIC
USE_LOCALE_TIME
USE_PERLIO
USE_PERL_ATOF
USE_REENTRANT_API
Built under linux
Compiled at Nov 11 2017 14:46:00
%ENV:
PERL5LIB="/tmp/loop_over_bdir-23487-v90tXN/Net-DNS-1.13-0/blib/arch:/tmp/loop_over_bdir-23487-v90tXN/Net-DNS-1.13-0/blib/lib"
PERL5OPT=""
PERL5_CPANPLUS_IS_RUNNING="10918"
PERL5_CPAN_IS_RUNNING="10918"
PERL_CANARY_STABILITY_NOPROMPT="1"
PERL_MM_USE_DEFAULT="1"
PERL_USE_UNSAFE_INC="1"
@INC:
/tmp/loop_over_bdir-23487-v90tXN/Net-DNS-1.13-0/blib/arch
/tmp/loop_over_bdir-23487-v90tXN/Net-DNS-1.13-0/blib/lib
/home/sand/src/perl/repoperls/installed-perls/host/k93x64xenial/v5.26.1/aa39/lib/site_perl/5.26.1/x86_64-linux-thread-multi
/home/sand/src/perl/repoperls/installed-perls/host/k93x64xenial/v5.26.1/aa39/lib/site_perl/5.26.1
/home/sand/src/perl/repoperls/installed-perls/host/k93x64xenial/v5.26.1/aa39/lib/5.26.1/x86_64-linux-thread-multi
/home/sand/src/perl/repoperls/installed-perls/host/k93x64xenial/v5.26.1/aa39/lib/5.26.1
.