Report for SQL-Translator-0.11018

Back
From: metabase:user:e7b34f46-36ca-11e0-a826-945c7ca43f85
Subject: PASS SQL-Translator-0.11018 v5.16.3 GNU/Linux
Date: 2013-11-02T12:10:01Z

This distribution has been tested as part of the CPAN Testers
project, supporting the Perl programming language.  See
http://wiki.cpantesters.org/ for more information or email
questions to cpan-testers-discuss@perl.org


--
Dear Arthur Axel 'fREW' Schmidt,

This is a computer-generated report for SQL-Translator-0.11018
on perl 5.16.3, created by CPAN-Reporter-1.2010.

Thank you for uploading your work to CPAN.  Congratulations!
All tests were successful.

Sections of this report:

    * Tester comments
    * Program output
    * Prerequisites
    * Environment and other context

------------------------------
TESTER COMMENTS
------------------------------

Additional comments from tester:

none provided

------------------------------
PROGRAM OUTPUT
------------------------------

Output from '/usr/bin/make test':

PERL_DL_NONLAZY=1 /home/tom/perl5/perlbrew/perls/perl-5.16.3/bin/perl "-MExtUtils::Command::MM" "-MTest::Harness" "-e" "undef *Test::Harness::Switches; test_harness(0, 'inc', 'blib/lib', 'blib/arch')" t/*.t
t/02mysql-parser.t ...................... ok
t/03mysql-to-oracle.t ................... ok
t/04file,fh,string.t .................... ok
t/05bgep-re.t ........................... ok
t/06xsv.t ............................... skipped: Missing dependency: Text::RecordParser
t/07p_args.t ............................ ok
t/08postgres-to-mysql.t ................. ok
t/09sqlt-diagram.t ...................... skipped: Missing dependency: Graph::Directed
t/10excel.t ............................. ok
t/11normalize.t ......................... ok
t/12header_comment.t .................... ok
t/13schema.t ............................ ok
t/14postgres-parser.t ................... ok
t/15oracle-parser.t ..................... ok
t/16xml-parser.t ........................ ok
t/17sqlfxml-producer.t .................. ok
t/18ttschema-producer.t ................. ok
t/19sybase-parser.t ..................... ok
t/20format_X_name.t ..................... ok
t/23json.t .............................. ok
t/24yaml.t .............................. ok
t/25storable.t .......................... ok
t/26sybase.t ............................ ok
t/27sqlite-parser.t ..................... ok
t/29html.t .............................. ok
t/30sqlt-new-diff-mysql.t ............... ok
t/30sqlt-new-diff-pgsql.t ............... ok
t/30sqlt-new-diff-sqlite.t .............. ok
t/30sqlt-new-diff.t ..................... ok
t/31dumper.t ............................ ok
t/32schema-lookups.t .................... ok
t/33tt-table-producer.t ................. ok
t/34tt-base.t ........................... ok
t/35-access-parser.t .................... ok
t/36-filters.t .......................... ok
t/38-filter-names.t ..................... ok
t/38-mysql-producer.t ................... ok
t/39-filter-globals.t ................... ok
t/40oracle-parser-dbi.t ................. ok
t/43xml-to-db2.t ........................ ok
t/44-xml-to-db2-array.t ................. ok
t/45db2-producer.t ...................... ok
t/46xml-to-pg.t ......................... ok
t/47postgres-producer.t ................. ok
t/48xml-to-sqlite.t ..................... ok
t/49xml-to-pg-samefield.t ............... ok
t/50-sqlserver-parser.t ................. ok
t/51-xml-to-oracle.t .................... ok
t/51-xml-to-oracle_quoted.t ............. ok
t/52-oracle-options.t ................... ok
t/53-oracle-delay-constraints.t ......... ok
t/53-oracle-delay-constraints_quoted.t .. ok
t/54-oracle-alter-field.t ............... ok
t/55-oracle-add-field.t ................. ok
t/55-oracle-producer.t .................. ok
t/56-sqlite-producer.t .................. ok
t/57-class-dbi.t ........................ ok
t/60roundtrip.t ......................... ok
t/61translator_agnostic.t ............... ok
t/62roundtrip_datacheck.t ............... ok
t/63-spacial-pgsql.t .................... ok
t/64xml-to-mysql.t ...................... ok
t/66-postgres-dbi-parser.t .............. ok
t/70sqlt-diff_script.t .................. ok
t/70sqlt-diff_script_old.t .............. ok
t/71-generator-sql_server.t ............. ok
t/72-sqlite-add-drop-fields.t ........... ok
t/73-sqlite-respects-quote.t ............ ok
t/74-filename-arrayref.t ................ ok
t/mysql-sqlite-translate.t .............. ok
All tests successful.

Test Summary Report
-------------------
t/60roundtrip.t                       (Wstat: 0 Tests: 88 Failed: 0)
  TODO passed:   74, 76, 80, 82, 86, 88
Files=70, Tests=1895, 26 wallclock secs ( 0.70 usr  0.12 sys + 23.10 cusr  1.90 csys = 25.82 CPU)
Result: PASS

------------------------------
PREREQUISITES
------------------------------

Prerequisite modules loaded:

requires:

    Module              Need     Have    
    ------------------- -------- --------
    Carp::Clan          0        6.04    
    DBI                 1.54     1.630   
    Digest::SHA         0        5.85    
    ExtUtils::MakeMaker 6.11     6.80    
    File::ShareDir      1.0      1.03    
    JSON                2.0      2.90    
    List::MoreUtils     0.09     0.33    
    Moo                 1.000003 1.003001
    Package::Variant    1.001001 1.001004
    Parse::RecDescent   1.967009 1.967009
    perl                5.008001 5.016003
    Sub::Quote          0        1.003001
    Test::Differences   0        0.61    
    Test::Exception     0.31     0.32    
    Test::More          0.88     0.99    
    Try::Tiny           0.04     0.18    
    XML::Writer         0.500    0.623   
    YAML                0.66     0.84    

build_requires:

    Module              Need     Have    
    ------------------- -------- --------
    ExtUtils::MakeMaker 6.59     6.80    
    JSON                2.0      2.90    
    Test::Differences   0        0.61    
    Test::Exception     0.31     0.32    
    Test::More          0.88     0.99    
    XML::Writer         0.500    0.623   
    YAML                0.66     0.84    

configure_requires:

    Module              Need     Have    
    ------------------- -------- --------
    ExtUtils::MakeMaker 6.59     6.80    


------------------------------
ENVIRONMENT AND OTHER CONTEXT
------------------------------

Environment variables:

    LANG = en_GB.UTF-8
    LD_LIBRARY_PATH = /home/tom/local/lib:
    MANPATH_WITHOUT_PERLBREW = 
    PATH = /home/tom/perl5/perlbrew/bin:/home/tom/perl5/perlbrew/perls/perl-5.16.3/bin:/home/tom/local/bin:/home/tom/local/bin:/usr/local/sbin:/usr/local/bin:/usr/sbin:/usr/bin:/sbin:/bin:/usr/games:/usr/local/games:/opt/android-sdk/platform-tools:/opt/android-sdk/tools:/home/tom/.rvm/bin:/home/tom/android-sdk-linux/platform-tools:/home/tom/android-sdk-linux/tools:/opt/android-sdk/platform-tools:/opt/android-sdk/tools:/home/tom/.rvm/bin:/home/tom/android-sdk-linux/platform-tools:/home/tom/android-sdk-linux/tools
    PATH_WITHOUT_PERLBREW = /home/tom/local/bin:/home/tom/local/bin:/usr/local/sbin:/usr/local/bin:/usr/sbin:/usr/bin:/sbin:/bin:/usr/games:/usr/local/games:/opt/android-sdk/platform-tools:/opt/android-sdk/tools:/home/tom/.rvm/bin:/home/tom/android-sdk-linux/platform-tools:/home/tom/android-sdk-linux/tools:/opt/android-sdk/platform-tools:/opt/android-sdk/tools
    PERL5LIB = 
    PERL5OPT = 
    PERL5_CPANPLUS_IS_RUNNING = 9585
    PERL5_CPAN_IS_RUNNING = 9585
    PERLBREW_BASHRC_VERSION = 0.35
    PERLBREW_HOME = /home/tom/.perlbrew
    PERLBREW_MANPATH = /home/tom/perl5/perlbrew/perls/perl-5.16.3/man
    PERLBREW_PATH = /home/tom/perl5/perlbrew/bin:/home/tom/perl5/perlbrew/perls/perl-5.16.3/bin
    PERLBREW_PERL = perl-5.16.3
    PERLBREW_ROOT = /home/tom/perl5/perlbrew
    PERLBREW_VERSION = 0.35
    PERL_CPANM_OPT = --mirror http://cpan.entitymodel.com --mirror-only
    PERL_LWP_SSL_VERIFY_HOSTNAME = 0
    PERL_MM_USE_DEFAULT = 1
    SHELL = /bin/bash
    TERM = screen

Perl special variables (and OS-specific diagnostics, for MSWin32):

    $^X = /home/tom/perl5/perlbrew/perls/perl-5.16.3/bin/perl
    $UID/$EUID = 1000 / 1000
    $GID = 1000 4 24 27 30 46 108 116 125 1000
    $EGID = 1000 4 24 27 30 46 108 116 125 1000

Perl module toolchain versions installed:

    Module              Have    
    ------------------- --------
    CPAN                2.00    
    CPAN::Meta          2.132830
    Cwd                 3.40    
    ExtUtils::CBuilder  0.280212
    ExtUtils::Command   1.18    
    ExtUtils::Install   1.58    
    ExtUtils::MakeMaker 6.80    
    ExtUtils::Manifest  1.63    
    ExtUtils::ParseXS   3.22    
    File::Spec          3.40    
    JSON                2.90    
    JSON::PP            2.27203 
    Module::Build       0.4007  
    Module::Signature   0.73    
    Parse::CPAN::Meta   1.4409  
    Test::Harness       3.29    
    Test::More          0.99    
    YAML                0.84    
    YAML::Syck          1.27    
    version             0.9904  


--

Summary of my perl5 (revision 5 version 16 subversion 3) configuration:
   
  Platform:
    osname=linux, osvers=3.2.0-39-generic, archname=x86_64-linux
    uname='linux roku 3.2.0-39-generic #62-ubuntu smp thu feb 28 00:28:53 utc 2013 x86_64 x86_64 x86_64 gnulinux '
    config_args='-de -Dprefix=/home/tom/perl5/perlbrew/perls/perl-5.16.3'
    hint=recommended, useposix=true, d_sigaction=define
    useithreads=undef, usemultiplicity=undef
    useperlio=define, d_sfio=undef, uselargefiles=define, usesocks=undef
    use64bitint=define, use64bitall=define, uselongdouble=undef
    usemymalloc=n, bincompat5005=undef
  Compiler:
    cc='cc', ccflags ='-fno-strict-aliasing -pipe -fstack-protector -I/usr/local/include -D_LARGEFILE_SOURCE -D_FILE_OFFSET_BITS=64',
    optimize='-O2',
    cppflags='-fno-strict-aliasing -pipe -fstack-protector -I/usr/local/include'
    ccversion='', gccversion='4.6.3', gccosandvers=''
    intsize=4, longsize=8, ptrsize=8, doublesize=8, byteorder=12345678
    d_longlong=define, longlongsize=8, d_longdbl=define, longdblsize=16
    ivtype='long', ivsize=8, nvtype='double', nvsize=8, Off_t='off_t', lseeksize=8
    alignbytes=8, prototype=define
  Linker and Libraries:
    ld='cc', ldflags =' -fstack-protector -L/usr/local/lib'
    libpth=/usr/local/lib /lib/x86_64-linux-gnu /lib/../lib /usr/lib/x86_64-linux-gnu /usr/lib/../lib /lib /usr/lib
    libs=-lnsl -ldl -lm -lcrypt -lutil -lc
    perllibs=-lnsl -ldl -lm -lcrypt -lutil -lc
    libc=, so=so, useshrplib=false, libperl=libperl.a
    gnulibc_version='2.15'
  Dynamic Linking:
    dlsrc=dl_dlopen.xs, dlext=so, d_dlsymun=undef, ccdlflags='-Wl,-E'
    cccdlflags='-fPIC', lddlflags='-shared -O2 -L/usr/local/lib -fstack-protector'


Characteristics of this binary (from libperl): 
  Compile-time options: HAS_TIMES PERLIO_LAYERS PERL_DONT_CREATE_GVSV
                        PERL_MALLOC_WRAP PERL_PRESERVE_IVUV USE_64_BIT_ALL
                        USE_64_BIT_INT USE_LARGE_FILES USE_LOCALE
                        USE_LOCALE_COLLATE USE_LOCALE_CTYPE
                        USE_LOCALE_NUMERIC USE_PERLIO USE_PERL_ATOF
  Built under linux
  Compiled at Apr  2 2013 22:55:54
  %ENV:
    PERL5LIB=""
    PERL5OPT=""
    PERL5_CPANPLUS_IS_RUNNING="9585"
    PERL5_CPAN_IS_RUNNING="9585"
    PERLBREW_BASHRC_VERSION="0.35"
    PERLBREW_HOME="/home/tom/.perlbrew"
    PERLBREW_MANPATH="/home/tom/perl5/perlbrew/perls/perl-5.16.3/man"
    PERLBREW_PATH="/home/tom/perl5/perlbrew/bin:/home/tom/perl5/perlbrew/perls/perl-5.16.3/bin"
    PERLBREW_PERL="perl-5.16.3"
    PERLBREW_ROOT="/home/tom/perl5/perlbrew"
    PERLBREW_VERSION="0.35"
    PERL_CPANM_OPT="--mirror http://cpan.entitymodel.com --mirror-only"
    PERL_LWP_SSL_VERIFY_HOSTNAME="0"
    PERL_MM_USE_DEFAULT="1"
  @INC:
    /home/tom/perl5/perlbrew/perls/perl-5.16.3/lib/site_perl/5.16.3/x86_64-linux
    /home/tom/perl5/perlbrew/perls/perl-5.16.3/lib/site_perl/5.16.3
    /home/tom/perl5/perlbrew/perls/perl-5.16.3/lib/5.16.3/x86_64-linux
    /home/tom/perl5/perlbrew/perls/perl-5.16.3/lib/5.16.3
    .