Report for Google-AJAX-Library-0.022

Back
From: metabase:user:314402c4-2aae-11df-837a-5e0a49663a4f
Subject: PASS Google-AJAX-Library-0.022 v5.16.3 FreeBSD
Date: 2015-06-07T14:15:50Z

This distribution has been tested as part of the CPAN Testers
project, supporting the Perl programming language.  See
http://wiki.cpantesters.org/ for more information or email
questions to cpan-testers-discuss@perl.org


--
Dear Robert Krimen,

This is a computer-generated report for Google-AJAX-Library-0.022
on perl 5.16.3, created by CPAN-Reporter-1.2014.

Thank you for uploading your work to CPAN.  Congratulations!
All tests were successful.

Sections of this report:

    * Tester comments
    * Program output
    * Prerequisites
    * Environment and other context

------------------------------
TESTER COMMENTS
------------------------------

Additional comments from tester:

none provided

------------------------------
PROGRAM OUTPUT
------------------------------

Output from '/usr/bin/make test':

PERL_DL_NONLAZY=1 "/usr/perl5.16.3t/bin/perl" "-MExtUtils::Command::MM" "-MTest::Harness" "-e" "undef *Test::Harness::Switches; test_harness(0, 'blib/lib', 'blib/arch')" t/*.t
You are overwriting a locally defined function (file) with an accessor at /usr/perl5.16.3t/lib/site_perl/5.16.3/amd64-freebsd-thread-multi/Moose/Meta/Attribute.pm line 1048.
	Moose::Meta::Attribute::_process_accessors(Moose::Meta::Attribute=HASH(0x451014e0), "reader", "file", undef) called at /usr/perl5.16.3t/lib/site_perl/5.16.3/amd64-freebsd-thread-multi/Class/MOP/Attribute.pm line 450
	Class::MOP::Attribute::install_accessors(Moose::Meta::Attribute=HASH(0x451014e0)) called at /usr/perl5.16.3t/lib/site_perl/5.16.3/amd64-freebsd-thread-multi/Moose/Meta/Attribute.pm line 995
	Moose::Meta::Attribute::install_accessors(Moose::Meta::Attribute=HASH(0x451014e0)) called at /usr/perl5.16.3t/lib/site_perl/5.16.3/amd64-freebsd-thread-multi/Class/MOP/Class.pm line 899
	Class::MOP::Class::try {...} () called at /usr/perl5.16.3t/lib/site_perl/5.16.3/Try/Tiny.pm line 81
	eval {...} called at /usr/perl5.16.3t/lib/site_perl/5.16.3/Try/Tiny.pm line 72
	Try::Tiny::try(CODE(0x45102a68), Try::Tiny::Catch=REF(0x45102ca8)) called at /usr/perl5.16.3t/lib/site_perl/5.16.3/amd64-freebsd-thread-multi/Class/MOP/Class.pm line 904
	Class::MOP::Class::_post_add_attribute(Moose::Meta::Class=HASH(0x4420e8d0), Moose::Meta::Attribute=HASH(0x451014e0)) called at /usr/perl5.16.3t/lib/site_perl/5.16.3/amd64-freebsd-thread-multi/Class/MOP/Mixin/HasAttributes.pm line 39
	Class::MOP::Mixin::HasAttributes::add_attribute(Moose::Meta::Class=HASH(0x4420e8d0), Moose::Meta::Attribute=HASH(0x451014e0)) called at /usr/perl5.16.3t/lib/site_perl/5.16.3/amd64-freebsd-thread-multi/Moose/Meta/Class.pm line 573
	Moose::Meta::Class::add_attribute(Moose::Meta::Class=HASH(0x4420e8d0), "file", "definition_context", HASH(0x451013a8), "is", "ro") called at /usr/perl5.16.3t/lib/site_perl/5.16.3/amd64-freebsd-thread-multi/Moose.pm line 76
	Moose::has(Moose::Meta::Class=HASH(0x4420e8d0), "file", "is", "ro") called at /usr/perl5.16.3t/lib/site_perl/5.16.3/amd64-freebsd-thread-multi/Moose/Exporter.pm line 419
	Moose::has("file", "is", "ro") called at /usr/home/eserte/.cpan/build/Google-AJAX-Library-0.022-CmNl7w/blib/lib/Google/AJAX/Library.pm line 32
	require Google/AJAX/Library.pm called at t/01-basic.t line 5
	main::BEGIN() called at /usr/home/eserte/.cpan/build/Google-AJAX-Library-0.022-CmNl7w/blib/lib/Google/AJAX/Library.pm line 0
	eval {...} called at /usr/home/eserte/.cpan/build/Google-AJAX-Library-0.022-CmNl7w/blib/lib/Google/AJAX/Library.pm line 0
t/01-basic.t .... ok
You are overwriting a locally defined function (file) with an accessor at /usr/perl5.16.3t/lib/site_perl/5.16.3/amd64-freebsd-thread-multi/Moose/Meta/Attribute.pm line 1048.
	Moose::Meta::Attribute::_process_accessors(Moose::Meta::Attribute=HASH(0x451014e0), "reader", "file", undef) called at /usr/perl5.16.3t/lib/site_perl/5.16.3/amd64-freebsd-thread-multi/Class/MOP/Attribute.pm line 450
	Class::MOP::Attribute::install_accessors(Moose::Meta::Attribute=HASH(0x451014e0)) called at /usr/perl5.16.3t/lib/site_perl/5.16.3/amd64-freebsd-thread-multi/Moose/Meta/Attribute.pm line 995
	Moose::Meta::Attribute::install_accessors(Moose::Meta::Attribute=HASH(0x451014e0)) called at /usr/perl5.16.3t/lib/site_perl/5.16.3/amd64-freebsd-thread-multi/Class/MOP/Class.pm line 899
	Class::MOP::Class::try {...} () called at /usr/perl5.16.3t/lib/site_perl/5.16.3/Try/Tiny.pm line 81
	eval {...} called at /usr/perl5.16.3t/lib/site_perl/5.16.3/Try/Tiny.pm line 72
	Try::Tiny::try(CODE(0x45102a68), Try::Tiny::Catch=REF(0x45102ca8)) called at /usr/perl5.16.3t/lib/site_perl/5.16.3/amd64-freebsd-thread-multi/Class/MOP/Class.pm line 904
	Class::MOP::Class::_post_add_attribute(Moose::Meta::Class=HASH(0x441fd8d0), Moose::Meta::Attribute=HASH(0x451014e0)) called at /usr/perl5.16.3t/lib/site_perl/5.16.3/amd64-freebsd-thread-multi/Class/MOP/Mixin/HasAttributes.pm line 39
	Class::MOP::Mixin::HasAttributes::add_attribute(Moose::Meta::Class=HASH(0x441fd8d0), Moose::Meta::Attribute=HASH(0x451014e0)) called at /usr/perl5.16.3t/lib/site_perl/5.16.3/amd64-freebsd-thread-multi/Moose/Meta/Class.pm line 573
	Moose::Meta::Class::add_attribute(Moose::Meta::Class=HASH(0x441fd8d0), "file", "definition_context", HASH(0x451013a8), "is", "ro") called at /usr/perl5.16.3t/lib/site_perl/5.16.3/amd64-freebsd-thread-multi/Moose.pm line 76
	Moose::has(Moose::Meta::Class=HASH(0x441fd8d0), "file", "is", "ro") called at /usr/perl5.16.3t/lib/site_perl/5.16.3/amd64-freebsd-thread-multi/Moose/Exporter.pm line 419
	Moose::has("file", "is", "ro") called at /usr/home/eserte/.cpan/build/Google-AJAX-Library-0.022-CmNl7w/blib/lib/Google/AJAX/Library.pm line 32
	require Google/AJAX/Library.pm called at t/02-library.t line 5
	main::BEGIN() called at /usr/home/eserte/.cpan/build/Google-AJAX-Library-0.022-CmNl7w/blib/lib/Google/AJAX/Library.pm line 0
	eval {...} called at /usr/home/eserte/.cpan/build/Google-AJAX-Library-0.022-CmNl7w/blib/lib/Google/AJAX/Library.pm line 0
t/02-library.t .. ok
You are overwriting a locally defined function (file) with an accessor at /usr/perl5.16.3t/lib/site_perl/5.16.3/amd64-freebsd-thread-multi/Moose/Meta/Attribute.pm line 1048.
	Moose::Meta::Attribute::_process_accessors(Moose::Meta::Attribute=HASH(0x451014e0), "reader", "file", undef) called at /usr/perl5.16.3t/lib/site_perl/5.16.3/amd64-freebsd-thread-multi/Class/MOP/Attribute.pm line 450
	Class::MOP::Attribute::install_accessors(Moose::Meta::Attribute=HASH(0x451014e0)) called at /usr/perl5.16.3t/lib/site_perl/5.16.3/amd64-freebsd-thread-multi/Moose/Meta/Attribute.pm line 995
	Moose::Meta::Attribute::install_accessors(Moose::Meta::Attribute=HASH(0x451014e0)) called at /usr/perl5.16.3t/lib/site_perl/5.16.3/amd64-freebsd-thread-multi/Class/MOP/Class.pm line 899
	Class::MOP::Class::try {...} () called at /usr/perl5.16.3t/lib/site_perl/5.16.3/Try/Tiny.pm line 81
	eval {...} called at /usr/perl5.16.3t/lib/site_perl/5.16.3/Try/Tiny.pm line 72
	Try::Tiny::try(CODE(0x45102a68), Try::Tiny::Catch=REF(0x45102ca8)) called at /usr/perl5.16.3t/lib/site_perl/5.16.3/amd64-freebsd-thread-multi/Class/MOP/Class.pm line 904
	Class::MOP::Class::_post_add_attribute(Moose::Meta::Class=HASH(0x441fd8d0), Moose::Meta::Attribute=HASH(0x451014e0)) called at /usr/perl5.16.3t/lib/site_perl/5.16.3/amd64-freebsd-thread-multi/Class/MOP/Mixin/HasAttributes.pm line 39
	Class::MOP::Mixin::HasAttributes::add_attribute(Moose::Meta::Class=HASH(0x441fd8d0), Moose::Meta::Attribute=HASH(0x451014e0)) called at /usr/perl5.16.3t/lib/site_perl/5.16.3/amd64-freebsd-thread-multi/Moose/Meta/Class.pm line 573
	Moose::Meta::Class::add_attribute(Moose::Meta::Class=HASH(0x441fd8d0), "file", "definition_context", HASH(0x451013a8), "is", "ro") called at /usr/perl5.16.3t/lib/site_perl/5.16.3/amd64-freebsd-thread-multi/Moose.pm line 76
	Moose::has(Moose::Meta::Class=HASH(0x441fd8d0), "file", "is", "ro") called at /usr/perl5.16.3t/lib/site_perl/5.16.3/amd64-freebsd-thread-multi/Moose/Exporter.pm line 419
	Moose::has("file", "is", "ro") called at /usr/home/eserte/.cpan/build/Google-AJAX-Library-0.022-CmNl7w/blib/lib/Google/AJAX/Library.pm line 32
	require Google/AJAX/Library.pm called at t/03-fetch.t line 5
	main::BEGIN() called at /usr/home/eserte/.cpan/build/Google-AJAX-Library-0.022-CmNl7w/blib/lib/Google/AJAX/Library.pm line 0
	eval {...} called at /usr/home/eserte/.cpan/build/Google-AJAX-Library-0.022-CmNl7w/blib/lib/Google/AJAX/Library.pm line 0
t/03-fetch.t .... skipped: Not going out to http://ajax.googleapis.com to test fetching/writing
All tests successful.
Files=3, Tests=61, 13 wallclock secs ( 0.17 usr  0.05 sys +  6.61 cusr  0.62 csys =  7.46 CPU)
Result: PASS

------------------------------
PREREQUISITES
------------------------------

Prerequisite modules loaded:

requires:

    Module              Need Have  
    ------------------- ---- ------
    Carp::Clan::Share   0    0.013 
    HTML::Declare       0    2.4   
    LWP::UserAgent      0    6.13  
    Moose               0    2.1405
    Path::Class         0    0.35  
    URI                 0    1.67  

build_requires:

    Module              Need Have  
    ------------------- ---- ------
    File::Temp          0    0.2304
    Test::Most          0    0.34  

configure_requires:

    Module              Need Have  
    ------------------- ---- ------
    ExtUtils::MakeMaker 6.31 7.04  


------------------------------
ENVIRONMENT AND OTHER CONTEXT
------------------------------

Environment variables:

    DBIC_NO_WARN_BAD_PERL = 1
    LC_ALL = de_DE.ISO8859-1
    PATH = /usr/local/bin:/usr/bin:/bin:/usr/local/sbin:/usr/sbin:/sbin:/home/cpansand/bin/freebsd9.1:/home/cpansand/bin/sh:/home/cpansand/bin:/usr/games:/home/cpansand/devel:/usr/home/eserte/src/srezic-misc/scripts
    PERL5LIB = 
    PERL5OPT = 
    PERL5_CPANPLUS_IS_RUNNING = 71194
    PERL5_CPAN_IS_RUNNING = 71194
    PERL5_CPAN_IS_RUNNING_IN_RECURSION = 70714,71194
    PERLDOC = -MPod::Perldoc::ToTextOverstrike
    PERL_BATCH = yes
    PERL_CANARY_STABILITY_NOPROMPT = 1
    PERL_CPAN_REPORTER_CONFIG = /var/tmp/cpansmoker-1023/cpanreporter_001_config.ini
    PERL_EXTUTILS_AUTOINSTALL = --defaultdeps
    PERL_HASH_SEED = 0
    PERL_HTML_DISPLAY_CLASS = HTML::Display::Mozilla
    PERL_PERTURB_KEYS = NO
    SHELL = /usr/local/bin/zsh
    TERM = screen
    TMPDIR = /var/tmp/cpansmoker-1023

Perl special variables (and OS-specific diagnostics, for MSWin32):

    $^X = /usr/perl5.16.3t/bin/perl
    $UID/$EUID = 1023 / 1023
    $GID = 1023 1023
    $EGID = 1023 1023

Perl module toolchain versions installed:

    Module              Have    
    ------------------- --------
    CPAN                1.9800  
    CPAN::Meta          2.150001
    Cwd                 3.47    
    ExtUtils::CBuilder  0.280223
    ExtUtils::Command   1.20    
    ExtUtils::Install   1.68    
    ExtUtils::MakeMaker 7.04    
    ExtUtils::Manifest  1.69    
    ExtUtils::ParseXS   3.24    
    File::Spec          3.47    
    JSON                2.90    
    JSON::PP            2.27300 
    Module::Build       0.4212  
    Module::Signature   0.79    
    Parse::CPAN::Meta   1.4414  
    Test::Harness       3.35    
    Test::More          1.001014
    YAML                1.15    
    YAML::Syck          1.29    
    version             0.9912  


--

Summary of my perl5 (revision 5 version 16 subversion 3) configuration:
   
  Platform:
    osname=freebsd, osvers=9.2-release-p4, archname=amd64-freebsd-thread-multi
    uname='freebsd cvrsnica-freebsd-92 9.2-release-p4 freebsd 9.2-release-p4 #0: tue apr 8 18:08:22 utc 2014 root@amd64-builder.daemonology.net:usrobjusrsrcsysgeneric amd64 '
    config_args='-ds -e -Dprefix=/usr/perl5.16.3t -Dusethreads'
    hint=recommended, useposix=true, d_sigaction=define
    useithreads=define, usemultiplicity=define
    useperlio=define, d_sfio=undef, uselargefiles=define, usesocks=undef
    use64bitint=define, use64bitall=define, uselongdouble=undef
    usemymalloc=n, bincompat5005=undef
  Compiler:
    cc='cc', ccflags ='-DHAS_FPSETMASK -DHAS_FLOATINGPOINT_H -fno-strict-aliasing -pipe -fstack-protector -I/usr/local/include',
    optimize='-O',
    cppflags='-DHAS_FPSETMASK -DHAS_FLOATINGPOINT_H -fno-strict-aliasing -pipe -fstack-protector -I/usr/local/include'
    ccversion='', gccversion='4.2.1 20070831 patched [FreeBSD]', gccosandvers=''
    intsize=4, longsize=8, ptrsize=8, doublesize=8, byteorder=12345678
    d_longlong=define, longlongsize=8, d_longdbl=define, longdblsize=16
    ivtype='long', ivsize=8, nvtype='double', nvsize=8, Off_t='off_t', lseeksize=8
    alignbytes=8, prototype=define
  Linker and Libraries:
    ld='cc', ldflags ='-pthread -Wl,-E  -fstack-protector -L/usr/local/lib'
    libpth=/usr/lib /usr/local/lib
    libs=-lgdbm -lm -lcrypt
    perllibs=-lm -lcrypt
    libc=, so=so, useshrplib=false, libperl=libperl.a
    gnulibc_version=''
  Dynamic Linking:
    dlsrc=dl_dlopen.xs, dlext=so, d_dlsymun=undef, ccdlflags=' '
    cccdlflags='-DPIC -fPIC', lddlflags='-shared  -L/usr/local/lib -fstack-protector'


Characteristics of this binary (from libperl): 
  Compile-time options: HAS_TIMES MULTIPLICITY PERLIO_LAYERS
                        PERL_DONT_CREATE_GVSV PERL_IMPLICIT_CONTEXT
                        PERL_MALLOC_WRAP PERL_PRESERVE_IVUV USE_64_BIT_ALL
                        USE_64_BIT_INT USE_ITHREADS USE_LARGE_FILES
                        USE_LOCALE USE_LOCALE_COLLATE USE_LOCALE_CTYPE
                        USE_LOCALE_NUMERIC USE_PERLIO USE_PERL_ATOF
                        USE_REENTRANT_API
  Built under freebsd
  Compiled at May 16 2014 07:49:48
  %ENV:
    PERL5LIB=""
    PERL5OPT=""
    PERL5_CPANPLUS_IS_RUNNING="71194"
    PERL5_CPAN_IS_RUNNING="71194"
    PERL5_CPAN_IS_RUNNING_IN_RECURSION="70714,71194"
    PERLDOC="-MPod::Perldoc::ToTextOverstrike"
    PERL_BATCH="yes"
    PERL_CANARY_STABILITY_NOPROMPT="1"
    PERL_CPAN_REPORTER_CONFIG="/var/tmp/cpansmoker-1023/cpanreporter_001_config.ini"
    PERL_EXTUTILS_AUTOINSTALL="--defaultdeps"
    PERL_HASH_SEED="0"
    PERL_HTML_DISPLAY_CLASS="HTML::Display::Mozilla"
    PERL_PERTURB_KEYS="NO"
  @INC:
    /usr/perl5.16.3t/lib/site_perl/5.16.3/amd64-freebsd-thread-multi
    /usr/perl5.16.3t/lib/site_perl/5.16.3
    /usr/perl5.16.3t/lib/5.16.3/amd64-freebsd-thread-multi
    /usr/perl5.16.3t/lib/5.16.3
    .