IPC-Run v20231003.0 Perl 5 v5.40.0 darwin-2level

Status
Pass
From
Dagfinn Ilmari Mannsåker
Dist
IPC-Run v20231003.0
Platform
Perl 5 v5.40.0 darwin-2level
Date
2025-01-21 13:22:01
ID
b32bf8c8-d7fa-11ef-8bcc-8b8e8c907050
This distribution has been tested as part of the CPAN Testers
project, supporting the Perl programming language.  See
http://wiki.cpantesters.org/ for more information or email
questions to cpan-testers-discuss@perl.org


--
Dear TODDR,

This is a computer-generated report for IPC-Run-20231003.0
on perl 5.40.0, created by App::cpanminus::reporter 0.22 (1.7048).

Thank you for uploading your work to CPAN.  Congratulations!
All tests were successful.

Sections of this report:

    * Tester comments
    * Program output
    * Prerequisites
    * Environment and other context

------------------------------
TESTER COMMENTS
------------------------------

Additional comments from tester:

none provided

------------------------------
PROGRAM OUTPUT
------------------------------

Output from '':

Building and testing IPC-Run-20231003.0
cp lib/IPC/Run/Win32Helper.pm blib/lib/IPC/Run/Win32Helper.pm
cp lib/IPC/Run/Debug.pm blib/lib/IPC/Run/Debug.pm
cp lib/IPC/Run/Win32Process.pm blib/lib/IPC/Run/Win32Process.pm
cp lib/IPC/Run/Win32IO.pm blib/lib/IPC/Run/Win32IO.pm
cp lib/IPC/Run/Timer.pm blib/lib/IPC/Run/Timer.pm
cp lib/IPC/Run/Win32Pump.pm blib/lib/IPC/Run/Win32Pump.pm
cp lib/IPC/Run/IO.pm blib/lib/IPC/Run/IO.pm
cp lib/IPC/Run.pm blib/lib/IPC/Run.pm
PERL_DL_NONLAZY=1 "/Users/ilmari/perl5/perlbrew/perls/40.0/bin/perl" "-MExtUtils::Command::MM" "-MTest::Harness" "-e" "undef *Test::Harness::Switches; test_harness(0, 'blib/lib', 'blib/arch')" t/*.t
t/adopt.t ............................ skipped: adopt not implemented yet
t/autoflush.t ........................ ok
t/autovivifyfh.t ..................... ok
t/binmode.t .......................... ok
t/bogus.t ............................ ok
t/child_fd_inadvertently_closed.t .... ok
t/eintr.t ............................ ok
t/filter.t ........................... ok
t/harness.t .......................... ok
t/io.t ............................... ok
t/kill_kill.t ........................ ok
t/parallel.t ......................... ok
t/parent_and_child_fds_match.t ....... ok
t/pty.t .............................. skipped: IO::Pty not installed
t/pump.t ............................. ok
t/readonly.t ......................... skipped: Readonly is required for this test to work.
t/result.t ........................... ok
t/run.t .............................. ok
t/run_stdin-callback-return-array.t .. ok
t/signal.t ........................... ok
t/timeout.t .......................... ok
t/timer.t ............................ ok
t/utf8.t ............................. ok
t/win32_compile.t .................... ok
t/win32_newlines.t ................... skipped: Skipping when not on Win32
t/windows_search_path.t .............. ok
All tests successful.
Files=26, Tests=720, 15 wallclock secs ( 0.05 usr  0.04 sys +  0.93 cusr  0.43 csys =  1.45 CPU)
Result: PASS

------------------------------
PREREQUISITES
------------------------------

Prerequisite modules loaded:

runtime:

    Module              Need Have    
    ------------------- ---- --------
    Test::More          0.47 1.302199

build:

    Module              Need Have    
    ------------------- ---- --------
    ExtUtils::MakeMaker 0    7.70    

configure:

    Module              Need Have    
    ------------------- ---- --------
    ExtUtils::MakeMaker 0    7.70    


------------------------------
ENVIRONMENT AND OTHER CONTEXT
------------------------------

Environment variables:

    LANG = en_GB.UTF-8
    LC_TERMINAL = iTerm2
    LC_TERMINAL_VERSION = 3.5.11
    PATH = /Users/ilmari/.volta/bin:/Users/ilmari/.rd/bin:/Users/ilmari/.bun/bin:/Users/ilmari/.volta/bin:/Users/ilmari/.rd/bin:/Users/ilmari/.cargo/bin:/Users/ilmari/.pyenv/shims:/Users/ilmari/.perlbrew/libs/40.0@std/bin:/Users/ilmari/perl5/perlbrew/bin:/Users/ilmari/perl5/perlbrew/perls/40.0/bin:/Users/ilmari/.local/bin:/Users/ilmari/go/bin:/opt/homebrew/opt/coreutils/libexec/gnubin:/opt/homebrew/bin:/opt/homebrew/sbin:/usr/local/bin:/System/Cryptexes/App/usr/bin:/usr/bin:/bin:/usr/sbin:/sbin:/var/run/com.apple.security.cryptexd/codex.system/bootstrap/usr/local/bin:/var/run/com.apple.security.cryptexd/codex.system/bootstrap/usr/bin:/var/run/com.apple.security.cryptexd/codex.system/bootstrap/usr/appleinternal/bin:/usr/local/sbin:/Applications/iTerm.app/Contents/Resources/utilities
    PERL5LIB = /Users/ilmari/.perlbrew/libs/40.0@std/lib/perl5
    PERLBREW_HOME = /Users/ilmari/.perlbrew
    PERLBREW_LIB = std
    PERLBREW_MANPATH = /Users/ilmari/.perlbrew/libs/40.0@std/man:/Users/ilmari/perl5/perlbrew/perls/40.0/man
    PERLBREW_PATH = /Users/ilmari/.perlbrew/libs/40.0@std/bin:/Users/ilmari/perl5/perlbrew/bin:/Users/ilmari/perl5/perlbrew/perls/40.0/bin
    PERLBREW_PERL = 40.0
    PERLBREW_ROOT = /Users/ilmari/perl5/perlbrew
    PERLBREW_SHELLRC_VERSION = 1.00
    PERLBREW_VERSION = 1.00
    PERL_LOCAL_LIB_ROOT = /Users/ilmari/.perlbrew/libs/40.0@std
    PERL_MB_OPT = --install_base /Users/ilmari/.perlbrew/libs/40.0@std
    PERL_MM_OPT = INSTALL_BASE=/Users/ilmari/.perlbrew/libs/40.0@std
    SHELL = /opt/homebrew/bin/bash
    TERM = xterm-256color
    TMPDIR = /var/folders/s3/rjxz_y393b10cp8hdzrtwkdw0000gn/T/

Perl special variables (and OS-specific diagnostics, for MSWin32):

    EGID = 20 20 12 61 79 80 81 98 702 33 100 204 250 395 398 399 400
    EUID = 501
    EXECUTABLE_NAME = /Users/ilmari/perl5/perlbrew/perls/40.0/bin/perl
    GID = 20 20 12 61 79 80 81 98 702 33 100 204 250 395 398 399 400
    UID = 501

Perl module toolchain versions installed:

    Module              Have    
    ------------------- --------
    CPAN                2.36    
    CPAN::Meta          2.150010
    Cwd                 3.90    
    ExtUtils::CBuilder  0.280240
    ExtUtils::Command   7.70    
    ExtUtils::Install   2.22    
    ExtUtils::MakeMaker 7.70    
    ExtUtils::Manifest  1.75    
    ExtUtils::ParseXS   3.51    
    File::Spec          3.90    
    JSON                4.10    
    JSON::PP            4.16    
    Module::Build       0.4234  
    Module::Signature   n/a     
    Parse::CPAN::Meta   2.150010
    Test::Harness       3.48    
    Test::More          1.302199
    YAML                n/a     
    YAML::Syck          n/a     
    version             0.9930  


--

Summary of my perl5 (revision 5 version 40 subversion 0) configuration:
   
  Platform:
    osname=darwin
    osvers=23.6.0
    archname=darwin-2level
    uname='darwin ilmari-mbp.local 23.6.0 darwin kernel version 23.6.0: thu sep 12 23:35:10 pdt 2024; root:xnu-10063.141.1.701.1~1release_arm64_t6030 arm64 '
    config_args='-de -Dprefix=/Users/ilmari/perl5/perlbrew/perls/40.0 -Duseshrplib -Dman1dir=none -Dman3dir=none -Aeval:scriptdir=/Users/ilmari/perl5/perlbrew/perls/40.0/bin'
    hint=recommended
    useposix=true
    d_sigaction=define
    useithreads=undef
    usemultiplicity=undef
    use64bitint=define
    use64bitall=define
    uselongdouble=undef
    usemymalloc=n
    default_inc_excludes_dot=define
  Compiler:
    cc='cc'
    ccflags ='-fno-common -DPERL_DARWIN -mmacosx-version-min=14.7 -DNO_THREAD_SAFE_QUERYLOCALE -DNO_POSIX_2008_LOCALE -fno-strict-aliasing -pipe -fstack-protector-strong'
    optimize='-O3'
    cppflags='-fno-common -DPERL_DARWIN -mmacosx-version-min=14.7 -DNO_THREAD_SAFE_QUERYLOCALE -DNO_POSIX_2008_LOCALE -fno-strict-aliasing -pipe -fstack-protector-strong'
    ccversion=''
    gccversion='Apple LLVM 16.0.0 (clang-1600.0.26.4)'
    gccosandvers=''
    intsize=4
    longsize=8
    ptrsize=8
    doublesize=8
    byteorder=12345678
    doublekind=3
    d_longlong=define
    longlongsize=8
    d_longdbl=define
    longdblsize=8
    longdblkind=0
    ivtype='long'
    ivsize=8
    nvtype='double'
    nvsize=8
    Off_t='off_t'
    lseeksize=8
    alignbytes=8
    prototype=define
  Linker and Libraries:
    ld='cc'
    ldflags =' -mmacosx-version-min=14.7 -fstack-protector-strong'
    libpth=/Library/Developer/CommandLineTools/usr/lib/clang/16/lib /Library/Developer/CommandLineTools/SDKs/MacOSX15.1.sdk/usr/lib /Library/Developer/CommandLineTools/usr/lib /usr/lib
    libs= 
    perllibs=
    libc=
    so=dylib
    useshrplib=true
    libperl=libperl.dylib
    gnulibc_version=''
  Dynamic Linking:
    dlsrc=dl_dlopen.xs
    dlext=bundle
    d_dlsymun=undef
    ccdlflags=' '
    cccdlflags=' '
    lddlflags=' -mmacosx-version-min=14.7 -bundle -undefined dynamic_lookup -fstack-protector-strong'


Characteristics of this binary (from libperl): 
  Compile-time options:
    HAS_LONG_DOUBLE
    HAS_STRTOLD
    HAS_TIMES
    PERLIO_LAYERS
    PERL_COPY_ON_WRITE
    PERL_DONT_CREATE_GVSV
    PERL_HASH_FUNC_SIPHASH13
    PERL_HASH_USE_SBOX32
    PERL_MALLOC_WRAP
    PERL_OP_PARENT
    PERL_PRESERVE_IVUV
    PERL_USE_SAFE_PUTENV
    USE_64_BIT_ALL
    USE_64_BIT_INT
    USE_LARGE_FILES
    USE_LOCALE
    USE_LOCALE_COLLATE
    USE_LOCALE_CTYPE
    USE_LOCALE_NUMERIC
    USE_LOCALE_TIME
    USE_PERLIO
    USE_PERL_ATOF
  Built under darwin
  Compiled at Nov  6 2024 15:21:09
  %ENV:
    PERL5LIB="/Users/ilmari/.perlbrew/libs/40.0@std/lib/perl5"
    PERLBREW_HOME="/Users/ilmari/.perlbrew"
    PERLBREW_LIB="std"
    PERLBREW_MANPATH="/Users/ilmari/.perlbrew/libs/40.0@std/man:/Users/ilmari/perl5/perlbrew/perls/40.0/man"
    PERLBREW_PATH="/Users/ilmari/.perlbrew/libs/40.0@std/bin:/Users/ilmari/perl5/perlbrew/bin:/Users/ilmari/perl5/perlbrew/perls/40.0/bin"
    PERLBREW_PERL="40.0"
    PERLBREW_ROOT="/Users/ilmari/perl5/perlbrew"
    PERLBREW_SHELLRC_VERSION="1.00"
    PERLBREW_VERSION="1.00"
    PERL_LOCAL_LIB_ROOT="/Users/ilmari/.perlbrew/libs/40.0@std"
    PERL_MB_OPT="--install_base /Users/ilmari/.perlbrew/libs/40.0@std"
    PERL_MM_OPT="INSTALL_BASE=/Users/ilmari/.perlbrew/libs/40.0@std"
  @INC:
    /Users/ilmari/.perlbrew/libs/40.0@std/lib/perl5/darwin-2level
    /Users/ilmari/.perlbrew/libs/40.0@std/lib/perl5
    /Users/ilmari/perl5/perlbrew/perls/40.0/lib/site_perl/5.40.0/darwin-2level
    /Users/ilmari/perl5/perlbrew/perls/40.0/lib/site_perl/5.40.0
    /Users/ilmari/perl5/perlbrew/perls/40.0/lib/5.40.0/darwin-2level
    /Users/ilmari/perl5/perlbrew/perls/40.0/lib/5.40.0