Report for AnyEvent-Subprocess-1.102912

Back
From: metabase:user:e7b34f46-36ca-11e0-a826-945c7ca43f85
Subject: PASS AnyEvent-Subprocess-1.102912 v5.12.4 FreeBSD
Date: 2012-08-11T08:22:33Z

This distribution has been tested as part of the CPAN Testers
project, supporting the Perl programming language.  See
http://wiki.cpantesters.org/ for more information or email
questions to cpan-testers-discuss@perl.org


--
Dear Jonathan Rockway,

This is a computer-generated report for AnyEvent-Subprocess-1.102912
on perl 5.12.4, created by CPAN-Reporter-1.2006.

Thank you for uploading your work to CPAN.  Congratulations!
All tests were successful.

Sections of this report:

    * Tester comments
    * Program output
    * Prerequisites
    * Environment and other context

------------------------------
TESTER COMMENTS
------------------------------

Additional comments from tester:

this report is from an automated smoke testing program
and was not reviewed by a human for accuracy

------------------------------
PROGRAM OUTPUT
------------------------------

Output from '/usr/bin/make test':

PERL_DL_NONLAZY=1 /usr/local/bin/perl "-MExtUtils::Command::MM" "-e" "test_harness(0, 'blib/lib', 'blib/arch')" t/*.t
# Using AnyEvent::Impl::EV
t/00-info.t ................. ok
t/basic.t ................... ok
t/capture-basic.t ........... ok
t/clone.t ................... ok
t/death-by-stdin.t .......... ok
# Sat Aug 11 09:22:15 BST 2012
# The 'failed' message you are about to see is good.
Failed to exec 'I CAN HAZ CHEZBURGER?': No such file or directory at /usr/home/cpan/.cpan/build/AnyEvent-Subprocess-1.102912-6DuZ38/blib/lib/AnyEvent/Subprocess/Types.pm line 36.
t/easy-qx.t ................. ok
t/exit-code.t ............... ok
t/external-process.t ........ ok
t/handle-leftovers.t ........ ok
t/kill.t .................... ok
t/monitorhandle.t ........... ok
t/negative-one.t ............ ok
t/open-to-fd.t .............. ok
EV: error in callback (ignoring): sysread() on closed filehandle $fh1 at /home/cpan/perl5/lib/perl5/amd64-freebsd/AnyEvent/Handle.pm line 1913.
t/pty-basic.t ............... ok
t/pty-control.t ............. ok
t/release-pod-syntax.t ...... skipped: these tests are for release candidate testing
t/socket.t .................. ok
t/system.t .................. ok
t/timeout.t ................. ok
t/trivial.t ................. ok
t/userhooks.t ............... ok
t/watchers-are-destroyed.t .. ok
All tests successful.
Files=22, Tests=116, 22 wallclock secs ( 0.14 usr  0.09 sys + 15.00 cusr  2.10 csys = 17.34 CPU)
Result: PASS

------------------------------
PREREQUISITES
------------------------------

Prerequisite modules loaded:

requires:

    Module                      Need Have    
    --------------------------- ---- --------
    AnyEvent                    0    7.01    
    AnyEvent::Handle            0    7.01    
    AnyEvent::Util              0    0       
    Carp                        0    1.26    
    EV                          4.0  4.11    
    Event::Join                 0.05 0.06    
    IO::Pty                     0    1.10    
    JSON                        2    2.53    
    Moose                       1.15 2.0603  
    Moose::Role                 0    2.0603  
    MooseX::Clone               0    0.05    
    MooseX::Role::Parameterized 0    1.00    
    MooseX::StrictConstructor   0    0.19    
    MooseX::Types               0    0.35    
    MooseX::Types::Moose        0    0.35    
    MooseX::Types::Signal       0    1.101932
    namespace::autoclean        0    0.13    
    namespace::clean            0    0.23    
    POSIX                       0    1.19    
    Sub::Exporter               0    0.984   
    Try::Tiny                   0    0.11    

build_requires:

    Module                      Need Have    
    --------------------------- ---- --------
    ok                          0    0.02    
    Scalar::Util                0    1.25    
    Test::Exception             0    0.31    
    Test::More                  0    0.98_03 

configure_requires:

    Module                      Need Have    
    --------------------------- ---- --------
    ExtUtils::MakeMaker         6.31 6.62    


------------------------------
ENVIRONMENT AND OTHER CONTEXT
------------------------------

Environment variables:

    AUTOMATED_TESTING = 1
    PATH = /home/cpan/perl5/bin:/sbin:/bin:/usr/sbin:/usr/bin:/usr/games:/usr/local/sbin:/usr/local/bin:/home/cpan/bin
    PERL5LIB = /home/cpan/perl5/lib/perl5/amd64-freebsd:/home/cpan/perl5/lib/perl5
    PERL5OPT = 
    PERL5_CPANPLUS_IS_RUNNING = 99835
    PERL5_CPAN_IS_RUNNING = 99835
    PERL5_CPAN_IS_RUNNING_IN_RECURSION = 1410,99835
    PERL_CR_SMOKER_CURRENT = Net-SSH-Mechanize-0.1.3
    PERL_EXTUTILS_AUTOINSTALL = --defaultdeps
    PERL_LOCAL_LIB_ROOT = /home/cpan/perl5
    PERL_MB_OPT = --install_base /home/cpan/perl5
    PERL_MM_OPT = INSTALL_BASE=/home/cpan/perl5
    PERL_MM_USE_DEFAULT = 1
    SHELL = /usr/local/bin/bash
    TERM = screen

Perl special variables (and OS-specific diagnostics, for MSWin32):

    $^X = /usr/local/bin/perl
    $UID/$EUID = 1001 / 1001
    $GID = 1001 1001 0 5 20 80
    $EGID = 1001 1001 0 5 20 80

Perl module toolchain versions installed:

    Module              Have    
    ------------------- --------
    CPAN                1.9800  
    CPAN::Meta          2.120921
    Cwd                 3.33    
    ExtUtils::CBuilder  0.280205
    ExtUtils::Command   1.16    
    ExtUtils::Install   1.54    
    ExtUtils::MakeMaker 6.62    
    ExtUtils::Manifest  1.58    
    ExtUtils::ParseXS   3.15    
    File::Spec          3.33    
    JSON                2.53    
    JSON::PP            2.27200 
    Module::Build       0.4002  
    Module::Signature   0.68    
    Parse::CPAN::Meta   1.4404  
    Test::Harness       3.25    
    Test::More          0.98_03 
    YAML                0.84    
    YAML::Syck          1.20    
    version             0.99    


--

Summary of my perl5 (revision 5 version 12 subversion 4) configuration:
   
  Platform:
    osname=freebsd, osvers=9.0-rc2, archname=amd64-freebsd
    uname='freebsd freebsd.org 9.0-rc2 freebsd 9.0-rc2 #0: mon dec 5 15:11:44 utc 2011 kris@freebsd.org:usrsrcsysmagickernelpath amd64 '
    config_args='-sde -Dprefix=/usr/local -Darchlib=/usr/local/lib/perl5/5.12.4/mach -Dprivlib=/usr/local/lib/perl5/5.12.4 -Dman3dir=/usr/local/lib/perl5/5.12.4/perl/man/man3 -Dman1dir=/usr/local/man/man1 -Dsitearch=/usr/local/lib/perl5/site_perl/5.12.4/mach -Dsitelib=/usr/local/lib/perl5/site_perl/5.12.4 -Dscriptdir=/usr/local/bin -Dsiteman3dir=/usr/local/lib/perl5/5.12.4/man/man3 -Dsiteman1dir=/usr/local/man/man1 -Ui_malloc -Ui_iconv -Uinstallusrbinperl -Dcc=cc -Duseshrplib -Dinc_version_list=none -Dccflags=-DAPPLLIB_EXP="/usr/local/lib/perl5/5.12.4/BSDPAN" -Doptimize=-O2 -pipe -fno-strict-aliasing -Ui_gdbm -Dusethreads=n -Dusemymalloc=n -Duse64bitint'
    hint=recommended, useposix=true, d_sigaction=define
    useithreads=undef, usemultiplicity=undef
    useperlio=define, d_sfio=undef, uselargefiles=define, usesocks=undef
    use64bitint=define, use64bitall=define, uselongdouble=undef
    usemymalloc=n, bincompat5005=undef
  Compiler:
    cc='cc', ccflags ='-DAPPLLIB_EXP="/usr/local/lib/perl5/5.12.4/BSDPAN" -DHAS_FPSETMASK -DHAS_FLOATINGPOINT_H -fno-strict-aliasing -pipe -fstack-protector -I/usr/local/include',
    optimize='-O2 -pipe -fno-strict-aliasing',
    cppflags='-DAPPLLIB_EXP="/usr/local/lib/perl5/5.12.4/BSDPAN" -DHAS_FPSETMASK -DHAS_FLOATINGPOINT_H -fno-strict-aliasing -pipe -fstack-protector -I/usr/local/include'
    ccversion='', gccversion='4.2.1 20070831 patched [FreeBSD]', gccosandvers=''
    intsize=4, longsize=8, ptrsize=8, doublesize=8, byteorder=12345678
    d_longlong=define, longlongsize=8, d_longdbl=define, longdblsize=16
    ivtype='long', ivsize=8, nvtype='double', nvsize=8, Off_t='off_t', lseeksize=8
    alignbytes=8, prototype=define
  Linker and Libraries:
    ld='cc', ldflags =' -Wl,-E  -fstack-protector -L/usr/local/lib'
    libpth=/usr/lib /usr/local/lib
    libs=-lm -lcrypt -lutil
    perllibs=-lm -lcrypt -lutil
    libc=, so=so, useshrplib=true, libperl=libperl.so
    gnulibc_version=''
  Dynamic Linking:
    dlsrc=dl_dlopen.xs, dlext=so, d_dlsymun=undef, ccdlflags='  -Wl,-R/usr/local/lib/perl5/5.12.4/mach/CORE'
    cccdlflags='-DPIC -fPIC', lddlflags='-shared  -L/usr/local/lib -fstack-protector'


Characteristics of this binary (from libperl): 
  Compile-time options: PERL_DONT_CREATE_GVSV PERL_MALLOC_WRAP USE_64_BIT_ALL
                        USE_64_BIT_INT USE_LARGE_FILES USE_PERLIO
                        USE_PERL_ATOF
  Built under freebsd
  Compiled at Dec  5 2011 15:24:07
  %ENV:
    PERL5LIB="/home/cpan/perl5/lib/perl5/amd64-freebsd:/home/cpan/perl5/lib/perl5"
    PERL5OPT=""
    PERL5_CPANPLUS_IS_RUNNING="99835"
    PERL5_CPAN_IS_RUNNING="99835"
    PERL5_CPAN_IS_RUNNING_IN_RECURSION="1410,99835"
    PERL_CR_SMOKER_CURRENT="Net-SSH-Mechanize-0.1.3"
    PERL_EXTUTILS_AUTOINSTALL="--defaultdeps"
    PERL_LOCAL_LIB_ROOT="/home/cpan/perl5"
    PERL_MB_OPT="--install_base /home/cpan/perl5"
    PERL_MM_OPT="INSTALL_BASE=/home/cpan/perl5"
    PERL_MM_USE_DEFAULT="1"
  @INC:
    /home/cpan/perl5/lib/perl5/amd64-freebsd
    /home/cpan/perl5/lib/perl5/amd64-freebsd
    /home/cpan/perl5/lib/perl5
    /usr/local/lib/perl5/5.12.4/BSDPAN
    /usr/local/lib/perl5/site_perl/5.12.4/mach
    /usr/local/lib/perl5/site_perl/5.12.4
    /usr/local/lib/perl5/5.12.4/mach
    /usr/local/lib/perl5/5.12.4
    .