Hash-Merge v0.302 Perl 5 v5.22.4 OpenBSD.amd64-openbsd-ld

Status
Pass
From
Nigel Horne
Dist
Hash-Merge v0.302
Platform
Perl 5 v5.22.4 OpenBSD.amd64-openbsd-ld
Date
2023-01-07 03:45:17
ID
b34ea91c-8e3d-11ed-a045-d17ec1f26d71
This distribution has been tested as part of the CPAN Testers
project, supporting the Perl programming language.  See
http://wiki.cpantesters.org/ for more information or email
questions to cpan-testers-discuss@perl.org


--
Dear Stefan Hermes,

This is a computer-generated report for Hash-Merge-0.302
on perl 5.22.4, created by CPAN-Reporter-1.2018.

Thank you for uploading your work to CPAN.  Congratulations!
All tests were successful.

Sections of this report:

    * Tester comments
    * Program output
    * Prerequisites
    * Environment and other context

------------------------------
TESTER COMMENTS
------------------------------

Additional comments from tester:

none provided

------------------------------
PROGRAM OUTPUT
------------------------------

Output from '/usr/bin/make test':

PERL_DL_NONLAZY=1 "/home/njh/perl5/perlbrew/perls/perl-5.22.4-ld/bin/perl5.22.4" "-MExtUtils::Command::MM" "-MTest::Harness" "-e" "undef *Test::Harness::Switches; test_harness(0, 'blib/lib', 'blib/arch')" t/*.t xt/*.t t/Auto/*.t t/Clone/*.t t/Storable/*.t t/ClonePP/*.t
# Testing Hash::Merge version 0.302, Perl 5.022004, /home/njh/perl5/perlbrew/perls/perl-5.22.4-ld/bin/perl5.22.4
# Using backend Clone version 0.45
t/Auto/00-load.t ....... ok
t/Auto/01-merge.t ...... ok
t/Auto/02-oo.t ......... ok
# Testing Hash::Merge version 0.302, Perl 5.022004, /home/njh/perl5/perlbrew/perls/perl-5.22.4-ld/bin/perl5.22.4
# Using backend Clone version 0.45
t/Clone/00-load.t ...... ok
t/Clone/01-merge.t ..... ok
t/Clone/02-oo.t ........ ok
t/ClonePP/00-load.t .... skipped: No Clone::PP found.
t/ClonePP/01-merge.t ... skipped: No Clone::PP found.
t/ClonePP/02-oo.t ...... skipped: No Clone::PP found.
# Testing Hash::Merge version 0.302, Perl 5.022004, /home/njh/perl5/perlbrew/perls/perl-5.22.4-ld/bin/perl5.22.4
# Using backend Storable version 3.25
t/Storable/00-load.t ... ok
t/Storable/01-merge.t .. ok
t/Storable/02-oo.t ..... ok
All tests successful.
Files=12, Tests=510,  4 wallclock secs ( 0.08 usr  0.04 sys +  1.20 cusr  0.25 csys =  1.57 CPU)
Result: PASS

------------------------------
PREREQUISITES
------------------------------

Prerequisite modules loaded:

requires:

    Module              Need     Have    
    ------------------- -------- --------
    Clone::Choose       0.008    0.010   
    perl                5.008001 5.022004
    Scalar::Util        0        1.63    

build_requires:

    Module              Need     Have    
    ------------------- -------- --------
    Test::More          0.9      1.302191

configure_requires:

    Module              Need     Have    
    ------------------- -------- --------
    ExtUtils::MakeMaker 6.64     7.62    


------------------------------
ENVIRONMENT AND OTHER CONTEXT
------------------------------

Environment variables:

    NONINTERACTIVE_TESTING = 1
    PATH = /home/njh/perl5/perlbrew/bin:/home/njh/perl5/perlbrew/perls/perl-5.22.4-ld/bin:/home/njh/perl5/perlbrew/bin:/home/njh/bin:/bin:/usr/bin:/usr/local/bin
    PERL5LIB = 
    PERL5OPT = 
    PERL5_CPANPLUS_IS_RUNNING = 290
    PERL5_CPAN_IS_RUNNING = 290
    PERLBREW_HOME = /home/njh/.perlbrew
    PERLBREW_LIB = 
    PERLBREW_MANPATH = /home/njh/perl5/perlbrew/perls/perl-5.22.4-ld/man
    PERLBREW_PATH = /home/njh/perl5/perlbrew/bin:/home/njh/perl5/perlbrew/perls/perl-5.22.4-ld/bin
    PERLBREW_PERL = perl-5.22.4-ld
    PERLBREW_ROOT = /home/njh/perl5/perlbrew
    PERLBREW_SHELLRC_VERSION = 0.96
    PERLBREW_VERSION = 0.96
    PERL_LOCAL_LIB_ROOT = 
    PERL_MM_USE_DEFAULT = 1
    PERL_USE_UNSAFE_INC = 1
    SHELL = /bin/bash
    TERM = vt220

Perl special variables (and OS-specific diagnostics, for MSWin32):

    $^X = /home/njh/perl5/perlbrew/perls/perl-5.22.4-ld/bin/perl5.22.4
    $UID/$EUID = 1000 / 1000
    $GID = 1000 1000 0
    $EGID = 1000 1000 0

Perl module toolchain versions installed:

    Module              Have      
    ------------------- ----------
    CPAN                2.34      
    CPAN::Meta          2.150001  
    Cwd                 3.75      
    ExtUtils::CBuilder  0.280221  
    ExtUtils::Command   7.62      
    ExtUtils::Install   2.20      
    ExtUtils::MakeMaker 7.62      
    ExtUtils::Manifest  1.70      
    ExtUtils::ParseXS   3.44      
    File::Spec          3.75      
    JSON                4.03      
    JSON::PP            2.27300_01
    Module::Build       0.4231    
    Module::Signature   n/a       
    Parse::CPAN::Meta   1.4414_001
    Test::Harness       3.35_01   
    Test::More          1.302191  
    YAML                1.30      
    YAML::Syck          1.34      
    version             0.9909    


--

Summary of my perl5 (revision 5 version 22 subversion 4) configuration:
   
  Platform:
    osname=openbsd, osvers=6.9, archname=OpenBSD.amd64-openbsd-ld
    uname='openbsd njh2.bandsman.co.uk 6.9 generic.mp#4 amd64 '
    config_args='-de -Dprefix=/home/njh/perl5/perlbrew/perls/perl-5.22.4-ld -Dusedevel -Duselongdouble -Accflags= -Aeval:scriptdir=/home/njh/perl5/perlbrew/perls/perl-5.22.4-ld/bin'
    hint=recommended, useposix=true, d_sigaction=define
    useithreads=undef, usemultiplicity=undef
    use64bitint=define, use64bitall=define, uselongdouble=define
    usemymalloc=n, bincompat5005=undef
  Compiler:
    cc='cc', ccflags ='-fno-strict-aliasing -pipe -fstack-protector-strong -I/usr/local/include',
    optimize='-O2',
    cppflags='-fno-strict-aliasing -pipe -fstack-protector-strong -I/usr/local/include'
    ccversion='', gccversion='OpenBSD Clang 10.0.1 ', gccosandvers=''
    intsize=4, longsize=8, ptrsize=8, doublesize=8, byteorder=12345678, doublekind=3
    d_longlong=define, longlongsize=8, d_longdbl=define, longdblsize=16, longdblkind=3
    ivtype='long', ivsize=8, nvtype='long double', nvsize=16, Off_t='off_t', lseeksize=8
    alignbytes=16, prototype=define
  Linker and Libraries:
    ld='cc', ldflags ='-Wl,-E  -fstack-protector-strong -L/usr/local/lib'
    libpth=/usr/lib /usr/local/lib
    libs=-lpthread -lm -lutil -lc
    perllibs=-lpthread -lm -lutil -lc
    libc=/usr/lib/libc.so.96.0, so=so, useshrplib=false, libperl=libperl.a
    gnulibc_version=''
  Dynamic Linking:
    dlsrc=dl_dlopen.xs, dlext=so, d_dlsymun=undef, ccdlflags=' '
    cccdlflags='-DPIC -fPIC ', lddlflags='-shared -fPIC  -L/usr/local/lib -fstack-protector-strong'


Characteristics of this binary (from libperl): 
  Compile-time options: HAS_TIMES PERLIO_LAYERS PERL_DONT_CREATE_GVSV
                        PERL_HASH_FUNC_ONE_AT_A_TIME_HARD PERL_MALLOC_WRAP
                        PERL_NEW_COPY_ON_WRITE PERL_PRESERVE_IVUV
                        PERL_USE_DEVEL USE_64_BIT_ALL USE_64_BIT_INT
                        USE_LARGE_FILES USE_LOCALE USE_LOCALE_COLLATE
                        USE_LOCALE_CTYPE USE_LOCALE_NUMERIC USE_LOCALE_TIME
                        USE_LONG_DOUBLE USE_PERLIO USE_PERL_ATOF
  Locally applied patches:
	Devel::PatchPerl 2.08
  Built under openbsd
  Compiled at Oct 15 2021 03:31:53
  %ENV:
    PERL5LIB=""
    PERL5OPT=""
    PERL5_CPANPLUS_IS_RUNNING="290"
    PERL5_CPAN_IS_RUNNING="290"
    PERLBREW_HOME="/home/njh/.perlbrew"
    PERLBREW_LIB=""
    PERLBREW_MANPATH="/home/njh/perl5/perlbrew/perls/perl-5.22.4-ld/man"
    PERLBREW_PATH="/home/njh/perl5/perlbrew/bin:/home/njh/perl5/perlbrew/perls/perl-5.22.4-ld/bin"
    PERLBREW_PERL="perl-5.22.4-ld"
    PERLBREW_ROOT="/home/njh/perl5/perlbrew"
    PERLBREW_SHELLRC_VERSION="0.96"
    PERLBREW_VERSION="0.96"
    PERL_LOCAL_LIB_ROOT=""
    PERL_MM_USE_DEFAULT="1"
    PERL_USE_UNSAFE_INC="1"
  @INC:
    /home/njh/perl5/perlbrew/perls/perl-5.22.4-ld/lib/site_perl/5.22.4/OpenBSD.amd64-openbsd-ld
    /home/njh/perl5/perlbrew/perls/perl-5.22.4-ld/lib/site_perl/5.22.4
    /home/njh/perl5/perlbrew/perls/perl-5.22.4-ld/lib/5.22.4/OpenBSD.amd64-openbsd-ld
    /home/njh/perl5/perlbrew/perls/perl-5.22.4-ld/lib/5.22.4
    .