Expect v1.38 Perl 5 v5.39.10 darwin-2level

Status
Pass
From
John SJ Anderson
Dist
Expect v1.38
Platform
Perl 5 v5.39.10 darwin-2level
Date
2024-04-28 01:14:45
ID
b35081e2-04fc-11ef-a351-93abe045f454
This distribution has been tested as part of the CPAN Testers
project, supporting the Perl programming language.  See
http://wiki.cpantesters.org/ for more information or email
questions to cpan-testers-discuss@perl.org


--
Dear JACOBY,

This is a computer-generated report for Expect-1.38
on perl 5.39.10, created by App::cpanminus::reporter 0.21 (1.7047).

Thank you for uploading your work to CPAN.  Congratulations!
All tests were successful.

Sections of this report:

    * Tester comments
    * Program output
    * Prerequisites
    * Environment and other context

------------------------------
TESTER COMMENTS
------------------------------

Additional comments from tester:

none provided

------------------------------
PROGRAM OUTPUT
------------------------------

Output from '':

Building and testing Expect-1.38
cp lib/Expect.pm blib/lib/Expect.pm
PERL_DL_NONLAZY=1 "/opt/plenv/versions/5.39.10/bin/perl5.39.10" "-MExtUtils::Command::MM" "-MTest::Harness" "-e" "undef *Test::Harness::Switches; test_harness(0, 'blib/lib', 'blib/arch')" t/*.t
# Testing Expect version 1.38 under Perl 5.039010, /opt/plenv/versions/5.39.10/bin/perl5.39.10
# Using Expect 1.38
# Using Carp 1.54
# Using Errno 1.38
# Using Exporter 5.78
# Using Fcntl 1.17
# Using IO::Handle 1.55
# Using IO::Pty 1.20
# Using IO::Tty 1.20
# Using POSIX 2.19
# Using Test::More 1.302199
t/00-load.t ....... ok
    # Basic tests...
    # Testing exec failure...
    # Testing exp_continue...
    # number of timeout calls in 5 sec: 4
    # timeout shouldn't destroy accum contents
    # Testing -notransfer...
    # Testing raw reversing...
    # isatty($exp): YES
    # Called: 3
    # Elapsed time: 6  delay by expect: 4.5
    # Elapsed time: 6  delay by expect: 3.9
    # Elapsed time: 6  delay by expect: 4.3
    # Called: 3
    # Check if the raw pty can handle large chunks of text at once
    # ------------------------------------------------------------------------------
    #   The following tests check system-dependend behaviour, so even if some fail,
    #   Expect might still be perfectly usable for you!
    # ------------------------------------------------------------------------------
    # Length: 512
    # Good, your raw pty can handle lines of at least 512 bytes at a time.
    # Status: match
    # Check if the default pty can handle large chunks of text at once
    # ------------------------------------------------------------------------------
    #   The following tests check system-dependend behaviour, so even if some fail,
    #   Expect might still be perfectly usable for you!
    # ------------------------------------------------------------------------------
    # Length: 164
    # Good, your default pty can handle lines of at least 164 bytes at a time.
    # Status: match
    # Testing controlling terminal...
    # Checking if exit status is returned correctly...
    # soft_close: 0x2A00
    # Checking if signal exit status is returned correctly...
    # soft_close: 0x000F
# 
# Checking if EOF on pty slave is correctly reported to master...
# (this fails on about 50% of the supported systems, so don't panic!
#  Expect will work anyway!)
# 
t/01-test.t ....... ok
t/02-bc.t ......... skipped: See https://rt.cpan.org/Ticket/Display.html?id=98495
# Test created for https://rt.cpan.org/Ticket/Display.html?id=62359 related to clear_accum
t/03-log.t ........ ok
t/04-multiline.t .. ok
t/10-internal.t ... ok
t/11-calc.t ....... ok
t/timeout.t ....... ok
All tests successful.
Files=8, Tests=101, 76 wallclock secs ( 0.06 usr  0.03 sys +  0.77 cusr  0.40 csys =  1.26 CPU)
Result: PASS

------------------------------
PREREQUISITES
------------------------------

Prerequisite modules loaded:

runtime:

    Module              Need     Have    
    ------------------- -------- --------
    Carp                0        1.54    
    Errno               0        1.38    
    Exporter            0        5.78    
    Fcntl               0        1.17    
    IO::Handle          0        1.55    
    IO::Pty             1.11     1.20    
    IO::Tty             1.11     1.20    
    perl                5.006000 5.039010
    POSIX               0        2.19    

configure:

    Module              Need     Have    
    ------------------- -------- --------
    ExtUtils::MakeMaker 6.64     7.70    


------------------------------
ENVIRONMENT AND OTHER CONTEXT
------------------------------

Environment variables:

    LANG = en_US.UTF-8
    LC_ALL = en_US.UTF-8
    LC_TERMINAL = iTerm2
    LC_TERMINAL_VERSION = 3.4.23
    PATH = /opt/plenv/versions/5.39.10/bin:/opt/plenv/libexec:/opt/plenv/plugins/Perl-Build/bin:/Users/genehack/bin:/opt/plenv/shims:/opt/plenv/bin:/opt/git/bin:/opt/local/bin:/usr/local/bin:/usr/local/sbin:/usr/bin:/bin:/usr/sbin:/sbin:/opt/rust/cargo/bin:/usr/local/opt/fzf/bin/
    PERL_CPANM_OPT = --skip-installed --prompt
    SHELL = /bin/zsh
    TERM = screen-256color
    TMPDIR = /var/folders/2s/9hc8cgcd2h7dglxq0j84ybwr0000gn/T/

Perl special variables (and OS-specific diagnostics, for MSWin32):

    EGID = 20 20 12 61 79 80 81 98 701 33 100 204 250 395 398 399 400
    EUID = 501
    EXECUTABLE_NAME = /opt/plenv/versions/5.39.10/bin/perl5.39.10
    GID = 20 20 12 61 79 80 81 98 701 33 100 204 250 395 398 399 400
    UID = 501

Perl module toolchain versions installed:

    Module              Have    
    ------------------- --------
    CPAN                2.36    
    CPAN::Meta          2.150010
    Cwd                 3.90    
    ExtUtils::CBuilder  0.280240
    ExtUtils::Command   7.70    
    ExtUtils::Install   2.22    
    ExtUtils::MakeMaker 7.70    
    ExtUtils::Manifest  1.75    
    ExtUtils::ParseXS   3.51    
    File::Spec          3.90    
    JSON                4.10    
    JSON::PP            4.16    
    Module::Build       0.4234  
    Module::Signature   n/a     
    Parse::CPAN::Meta   2.150010
    Test::Harness       3.48    
    Test::More          1.302199
    YAML                1.31    
    YAML::Syck          n/a     
    version             0.9930  


--

Summary of my perl5 (revision 5 version 39 subversion 10) configuration:
   
  Platform:
    osname=darwin
    osvers=23.4.0
    archname=darwin-2level
    uname='darwin bumfit.home.genehack.org 23.4.0 darwin kernel version 23.4.0: fri mar 15 00:11:05 pdt 2024; root:xnu-10063.101.17~1release_x86_64 x86_64 i386 macbookpro16,2 darwin '
    config_args='-Dprefix=/opt/plenv/versions/5.39.10 -de -Dversiononly -Dusedevel -A'eval:scriptdir=/opt/plenv/versions/5.39.10/bin''
    hint=recommended
    useposix=true
    d_sigaction=define
    useithreads=undef
    usemultiplicity=undef
    use64bitint=define
    use64bitall=define
    uselongdouble=undef
    usemymalloc=n
    default_inc_excludes_dot=define
  Compiler:
    cc='cc'
    ccflags ='-fno-common -DPERL_DARWIN -mmacosx-version-min=14.4 -DNO_THREAD_SAFE_QUERYLOCALE -DNO_POSIX_2008_LOCALE -fno-strict-aliasing -pipe -fstack-protector-strong -I/usr/local/include'
    optimize='-O3'
    cppflags='-fno-common -DPERL_DARWIN -mmacosx-version-min=14.4 -DNO_THREAD_SAFE_QUERYLOCALE -DNO_POSIX_2008_LOCALE -fno-strict-aliasing -pipe -fstack-protector-strong -I/usr/local/include'
    ccversion=''
    gccversion='Apple LLVM 15.0.0 (clang-1500.3.9.4)'
    gccosandvers=''
    intsize=4
    longsize=8
    ptrsize=8
    doublesize=8
    byteorder=12345678
    doublekind=3
    d_longlong=define
    longlongsize=8
    d_longdbl=define
    longdblsize=16
    longdblkind=3
    ivtype='long'
    ivsize=8
    nvtype='double'
    nvsize=8
    Off_t='off_t'
    lseeksize=8
    alignbytes=8
    prototype=define
  Linker and Libraries:
    ld='cc'
    ldflags =' -mmacosx-version-min=14.4 -fstack-protector-strong -L/usr/local/lib'
    libpth=/usr/local/lib /Library/Developer/CommandLineTools/usr/lib/clang/15.0.0/lib /Library/Developer/CommandLineTools/SDKs/MacOSX14.4.sdk/usr/lib /Library/Developer/CommandLineTools/usr/lib /usr/lib
    libs= 
    perllibs=
    libc=
    so=dylib
    useshrplib=false
    libperl=libperl.a
    gnulibc_version=''
  Dynamic Linking:
    dlsrc=dl_dlopen.xs
    dlext=bundle
    d_dlsymun=undef
    ccdlflags=' '
    cccdlflags=' '
    lddlflags=' -mmacosx-version-min=14.4 -bundle -undefined dynamic_lookup -L/usr/local/lib -fstack-protector-strong'


Characteristics of this binary (from libperl): 
  Compile-time options:
    HAS_LONG_DOUBLE
    HAS_STRTOLD
    HAS_TIMES
    PERLIO_LAYERS
    PERL_COPY_ON_WRITE
    PERL_DONT_CREATE_GVSV
    PERL_HASH_FUNC_SIPHASH13
    PERL_HASH_USE_SBOX32
    PERL_MALLOC_WRAP
    PERL_OP_PARENT
    PERL_PRESERVE_IVUV
    PERL_USE_DEVEL
    PERL_USE_SAFE_PUTENV
    USE_64_BIT_ALL
    USE_64_BIT_INT
    USE_LARGE_FILES
    USE_LOCALE
    USE_LOCALE_COLLATE
    USE_LOCALE_CTYPE
    USE_LOCALE_NUMERIC
    USE_LOCALE_TIME
    USE_PERLIO
    USE_PERL_ATOF
  Built under darwin
  Compiled at Apr 27 2024 15:13:56
  %ENV:
    PERL_CPANM_OPT="--skip-installed --prompt"
  @INC:
    /opt/plenv/versions/5.39.10/lib/perl5/site_perl/5.39.10/darwin-2level
    /opt/plenv/versions/5.39.10/lib/perl5/site_perl/5.39.10
    /opt/plenv/versions/5.39.10/lib/perl5/5.39.10/darwin-2level
    /opt/plenv/versions/5.39.10/lib/perl5/5.39.10