Net-LDAP-SimpleServer v0.0.21 Perl 5 v5.37.8 x86_64-linux-thread-multi-ld
- Status
- Pass
- From
- Andreas J. König (ANDK)
- Dist
-
Net-LDAP-SimpleServer v0.0.21
- Platform
- Perl 5 v5.37.8 x86_64-linux-thread-multi-ld
- Date
- 2023-02-09 15:16:17
- ID
- b3584d5a-a88c-11ed-859e-2e8b11a68ca3
This distribution has been tested as part of the CPAN Testers
project, supporting the Perl programming language. See
http://wiki.cpantesters.org/ for more information or email
questions to cpan-testers-discuss@perl.org
--
Dear Alexei Znamensky,
This is a computer-generated report for Net-LDAP-SimpleServer-0.0.21
on perl 5.37.8, created by CPAN-Reporter-1.2018.
Thank you for uploading your work to CPAN. Congratulations!
All tests were successful.
Sections of this report:
* Tester comments
* Program output
* Prerequisites
* Environment and other context
------------------------------
TESTER COMMENTS
------------------------------
Additional comments from tester:
this report is from an automated smoke testing program
and was not reviewed by a human for accuracy
------------------------------
PROGRAM OUTPUT
------------------------------
Output from '/usr/bin/make test':
PERL_DL_NONLAZY=1 "/tmp/basesmoker-reloperl-UPcq/bin/perl" "-MExtUtils::Command::MM" "-MTest::Harness" "-e" "undef *Test::Harness::Switches; test_harness(0, 'blib/lib', 'blib/arch')" t/*.t
t/00-compile.t ............... ok
t/00-load.t .................. ok
#
# Versions for all modules listed in MYMETA.json (including optional ones):
#
# === Configure Requires ===
#
# Module Want Have
# ------------------- ---- ----
# ExtUtils::MakeMaker any 7.66
#
# === Build Requires ===
#
# Module Want Have
# ------------------- ---- ----
# ExtUtils::MakeMaker any 7.66
#
# === Test Requires ===
#
# Module Want Have
# ------------------- ---- --------
# Authen::SASL any 2.16
# ExtUtils::MakeMaker any 7.66
# File::Spec any 3.88
# IO::Handle any 1.51
# IO::Pipe any 1.51
# IPC::Open3 any 1.22
# Net::LDAP any 0.68
# Proc::Fork any 0.808
# Test::Deep any 1.204
# Test::More any 1.302192
# Test::UseAllModules any 0.17
# Try::Tiny any 0.31
# lib any 0.65
#
# === Test Recommends ===
#
# Module Want Have
# ---------- -------- --------
# CPAN::Meta 2.120900 2.150010
#
# === Runtime Requires ===
#
# Module Want Have
# ---------------------- ----- ----------
# Carp any 1.54
# Digest::MD5 any 2.58
# Exporter any 5.77
# File::Basename any 2.86
# File::HomeDir any 1.006
# File::Path 2.08 2.18
# File::Spec any 3.88
# MIME::Base64 any 3.16
# Net::LDAP::Constant any 0.24
# Net::LDAP::Filter any 0.20
# Net::LDAP::FilterMatch any 0.27
# Net::LDAP::LDIF any 0.27
# Net::LDAP::Server any 0.43
# Net::LDAP::Util any 0.20
# Net::Server 2.003 2.013
# Scalar::Util any 1.63
# UNIVERSAL::isa any 1.20171012
# base any 2.27
# constant any 1.33
# fields any 2.24
# strict any 1.12
# warnings any 1.61
#
t/00-report-prereqs.t ........ ok
t/10-store.t ................. ok
Use of uninitialized value in scalar chomp at /tmp/loop_over_bdir-785584-C8BBxC/Net-LDAP-SimpleServer-0.0.21-0/blib/lib/Net/LDAP/SimpleServer/ProtocolHandler.pm line 73.
Use of uninitialized value in string eq at /tmp/loop_over_bdir-785584-C8BBxC/Net-LDAP-SimpleServer-0.0.21-0/blib/lib/Net/LDAP/SimpleServer/ProtocolHandler.pm line 52.
t/20-handler.t ............... ok
Couldn't open conf "/no/such/file.conf" [No such file or directory]
t/30-param.t ................. ok
t/40-bind.t .................. ok
t/41-bind-user.t ............. ok
t/50-search.t ................ ok
t/51-search-pw_attr.t ........ ok
t/author-critic.t ............ skipped: these tests are for testing by the author
t/author-eol.t ............... skipped: these tests are for testing by the author
t/author-mojibake.t .......... skipped: these tests are for testing by the author
t/author-no-tabs.t ........... skipped: these tests are for testing by the author
t/author-pod-coverage.t ...... skipped: these tests are for testing by the author
t/author-pod-linkcheck.t ..... skipped: these tests are for testing by the author
t/author-pod-syntax.t ........ skipped: these tests are for testing by the author
t/author-portability.t ....... skipped: these tests are for testing by the author
t/author-test-version.t ...... skipped: these tests are for testing by the author
t/release-dist-manifest.t .... skipped: these tests are for release candidate testing
t/release-distmeta.t ......... skipped: these tests are for release candidate testing
t/release-kwalitee.t ......... skipped: these tests are for release candidate testing
t/release-meta-json.t ........ skipped: these tests are for release candidate testing
t/release-minimum-version.t .. skipped: these tests are for release candidate testing
t/release-unused-vars.t ...... skipped: these tests are for release candidate testing
All tests successful.
Files=25, Tests=77, 63 wallclock secs ( 0.10 usr 0.04 sys + 1.90 cusr 0.43 csys = 2.47 CPU)
Result: PASS
------------------------------
PREREQUISITES
------------------------------
Prerequisite modules loaded:
requires:
Module Need Have
---------------------- ----- ----------
base 0 2.27
Carp 0 1.54
constant 0 1.33
Digest::MD5 0 2.58
Exporter 0 5.77
fields 0 2.24
File::Basename 0 2.86
File::HomeDir 0 1.006
File::Path 2.08 2.18
File::Spec 0 3.88
MIME::Base64 0 3.16
Net::LDAP::Constant 0 0.24
Net::LDAP::Filter 0 0.20
Net::LDAP::FilterMatch 0 0.27
Net::LDAP::LDIF 0 0.27
Net::LDAP::Server 0 0.43
Net::LDAP::Util 0 0.20
Net::Server 2.003 2.013
perl 5.014 5.037008
Scalar::Util 0 1.63
strict 0 1.12
UNIVERSAL::isa 0 1.20171012
warnings 0 1.61
build_requires:
Module Need Have
---------------------- ----- ----------
Authen::SASL 0 2.16
ExtUtils::MakeMaker 0 7.66
File::Spec 0 3.88
IO::Handle 0 1.51
IO::Pipe 0 1.51
IPC::Open3 0 1.22
lib 0 0.65
Net::LDAP 0 0.68
Proc::Fork 0 0.808
Test::Deep 0 1.204
Test::More 0 1.302192
Test::UseAllModules 0 0.17
Try::Tiny 0 0.31
configure_requires:
Module Need Have
---------------------- ----- ----------
ExtUtils::MakeMaker 0 7.66
------------------------------
ENVIRONMENT AND OTHER CONTEXT
------------------------------
Environment variables:
AUTOMATED_TESTING = 1
LANG = en_US.UTF-8
LC_ADDRESS = de_DE.UTF-8
LC_IDENTIFICATION = de_DE.UTF-8
LC_MEASUREMENT = de_DE.UTF-8
LC_MONETARY = de_DE.UTF-8
LC_NAME = de_DE.UTF-8
LC_NUMERIC = de_DE.UTF-8
LC_PAPER = de_DE.UTF-8
LC_TELEPHONE = de_DE.UTF-8
LC_TIME = de_DE.UTF-8
PATH = /home/sand/bin:/usr/local/bin:/usr/local/sbin:/usr/sbin:/usr/bin:/sbin:/bin:/usr/games:/usr/local/games:/snap/bin:/usr/local/perl/bin:/usr/X11/bin
PERL5LIB = /tmp/loop_over_bdir-785584-C8BBxC/Net-OpenVPN-DDNS-0.1-0/blib/arch:/tmp/loop_over_bdir-785584-C8BBxC/Net-OpenVPN-DDNS-0.1-0/blib/lib:/tmp/loop_over_bdir-785584-C8BBxC/NoZone-1.3-0/blib/arch:/tmp/loop_over_bdir-785584-C8BBxC/NoZone-1.3-0/blib/lib
PERL5OPT =
PERL5_CPANPLUS_IS_RUNNING = 785719
PERL5_CPAN_IS_RUNNING = 785719
PERL_CANARY_STABILITY_NOPROMPT = 1
PERL_MM_USE_DEFAULT = 1
PERL_USE_UNSAFE_INC = 1
SHELL = /usr/bin/zsh
TERM = screen
Perl special variables (and OS-specific diagnostics, for MSWin32):
$^X = /tmp/basesmoker-reloperl-UPcq/bin/perl
$UID/$EUID = 1005 / 1005
$GID = 1005 1005
$EGID = 1005 1005
Perl module toolchain versions installed:
Module Have
------------------- --------
CPAN 2.34
CPAN::Meta 2.150010
Cwd 3.88
ExtUtils::CBuilder 0.280238
ExtUtils::Command 7.66
ExtUtils::Install 2.22
ExtUtils::MakeMaker 7.66
ExtUtils::Manifest 1.73
ExtUtils::ParseXS 3.49
File::Spec 3.88
JSON 4.10
JSON::PP 4.16
Module::Build 0.4232
Module::Signature 0.88
Parse::CPAN::Meta 2.150010
Test::Harness 3.44
Test::More 1.302192
YAML 1.30
YAML::Syck 1.34
version 0.9929
--
Summary of my perl5 (revision 5 version 37 subversion 8) configuration:
Commit id: aaff26e0f2e98dc425f7514531d35dfec6948f6d
Platform:
osname=linux
osvers=5.15.0-58-generic
archname=x86_64-linux-thread-multi-ld
uname='linux k93jammy 5.15.0-58-generic #64-ubuntu smp thu jan 5 11:43:13 utc 2023 x86_64 x86_64 x86_64 gnulinux '
config_args='-Dprefix=/home/sand/src/perl/repoperls/installed-perls/host/k93jammy/v5.37.8/322f -Dmyhostname=k93jammy -Dinstallusrbinperl=n -Uversiononly -Dusedevel -des -Ui_db -Dlibswanted=cl pthread socket inet nsl gdbm dbm malloc dl ld sun m crypt sec util c cposix posix ucb BSD gdbm_compat -Duseithreads -Duselongdouble -DEBUGGING=-g'
hint=recommended
useposix=true
d_sigaction=define
useithreads=define
usemultiplicity=define
use64bitint=define
use64bitall=define
uselongdouble=define
usemymalloc=n
default_inc_excludes_dot=define
Compiler:
cc='cc'
ccflags ='-D_REENTRANT -D_GNU_SOURCE -fwrapv -fno-strict-aliasing -pipe -fstack-protector-strong -I/usr/local/include -D_LARGEFILE_SOURCE -D_FILE_OFFSET_BITS=64'
optimize='-O2 -g'
cppflags='-D_REENTRANT -D_GNU_SOURCE -fwrapv -fno-strict-aliasing -pipe -fstack-protector-strong -I/usr/local/include'
ccversion=''
gccversion='11.3.0'
gccosandvers=''
intsize=4
longsize=8
ptrsize=8
doublesize=8
byteorder=12345678
doublekind=3
d_longlong=define
longlongsize=8
d_longdbl=define
longdblsize=16
longdblkind=3
ivtype='long'
ivsize=8
nvtype='long double'
nvsize=16
Off_t='off_t'
lseeksize=8
alignbytes=16
prototype=define
Linker and Libraries:
ld='cc'
ldflags =' -fstack-protector-strong -L/usr/local/lib'
libpth=/usr/local/lib /usr/lib/x86_64-linux-gnu /usr/lib /usr/lib64
libs=-lpthread -lnsl -ldl -lm -lcrypt -lutil -lc
perllibs=-lpthread -lnsl -ldl -lm -lcrypt -lutil -lc
libc=/lib/x86_64-linux-gnu/libc.so.6
so=so
useshrplib=false
libperl=libperl.a
gnulibc_version='2.35'
Dynamic Linking:
dlsrc=dl_dlopen.xs
dlext=so
d_dlsymun=undef
ccdlflags='-Wl,-E'
cccdlflags='-fPIC'
lddlflags='-shared -O2 -g -L/usr/local/lib -fstack-protector-strong'
Characteristics of this binary (from libperl):
Compile-time options:
HAS_TIMES
MULTIPLICITY
PERLIO_LAYERS
PERL_COPY_ON_WRITE
PERL_DONT_CREATE_GVSV
PERL_HASH_FUNC_SIPHASH13
PERL_HASH_USE_SBOX32
PERL_MALLOC_WRAP
PERL_OP_PARENT
PERL_PRESERVE_IVUV
PERL_USE_DEVEL
PERL_USE_SAFE_PUTENV
USE_64_BIT_ALL
USE_64_BIT_INT
USE_ITHREADS
USE_LARGE_FILES
USE_LOCALE
USE_LOCALE_COLLATE
USE_LOCALE_CTYPE
USE_LOCALE_NUMERIC
USE_LOCALE_TIME
USE_LONG_DOUBLE
USE_PERLIO
USE_PERL_ATOF
USE_REENTRANT_API
USE_THREAD_SAFE_LOCALE
Built under linux
Compiled at Jan 31 2023 12:17:03
%ENV:
PERL5LIB="/tmp/loop_over_bdir-785584-C8BBxC/Net-OpenVPN-DDNS-0.1-0/blib/arch:/tmp/loop_over_bdir-785584-C8BBxC/Net-OpenVPN-DDNS-0.1-0/blib/lib:/tmp/loop_over_bdir-785584-C8BBxC/NoZone-1.3-0/blib/arch:/tmp/loop_over_bdir-785584-C8BBxC/NoZone-1.3-0/blib/lib"
PERL5OPT=""
PERL5_CPANPLUS_IS_RUNNING="785719"
PERL5_CPAN_IS_RUNNING="785719"
PERL_CANARY_STABILITY_NOPROMPT="1"
PERL_MM_USE_DEFAULT="1"
PERL_USE_UNSAFE_INC="1"
@INC:
/tmp/loop_over_bdir-785584-C8BBxC/Net-OpenVPN-DDNS-0.1-0/blib/arch
/tmp/loop_over_bdir-785584-C8BBxC/Net-OpenVPN-DDNS-0.1-0/blib/lib
/tmp/loop_over_bdir-785584-C8BBxC/NoZone-1.3-0/blib/arch
/tmp/loop_over_bdir-785584-C8BBxC/NoZone-1.3-0/blib/lib
/home/sand/src/perl/repoperls/installed-perls/host/k93jammy/v5.37.8/322f/lib/site_perl/5.37.8/x86_64-linux-thread-multi-ld
/home/sand/src/perl/repoperls/installed-perls/host/k93jammy/v5.37.8/322f/lib/site_perl/5.37.8
/home/sand/src/perl/repoperls/installed-perls/host/k93jammy/v5.37.8/322f/lib/5.37.8/x86_64-linux-thread-multi-ld
/home/sand/src/perl/repoperls/installed-perls/host/k93jammy/v5.37.8/322f/lib/5.37.8
.