utf8-all v0.024 Perl 5 v5.22.4 amd64-freebsd

Status
Pass
From
Slaven Rezić (SREZIC)
Dist
utf8-all v0.024
Platform
Perl 5 v5.22.4 amd64-freebsd
Date
2018-01-09 07:35:44
ID
b367e12e-f50f-11e7-9c7c-816302a5555e
This distribution has been tested as part of the CPAN Testers
project, supporting the Perl programming language.  See
http://wiki.cpantesters.org/ for more information or email
questions to cpan-testers-discuss@perl.org


--
Dear Hayo Baan,

This is a computer-generated report for utf8-all-0.024
on perl 5.22.4, created by CPAN-Reporter-1.2018.

Thank you for uploading your work to CPAN.  Congratulations!
All tests were successful.

Sections of this report:

    * Tester comments
    * Program output
    * Prerequisites
    * Environment and other context

------------------------------
TESTER COMMENTS
------------------------------

Additional comments from tester:

none provided

------------------------------
PROGRAM OUTPUT
------------------------------

Output from '/usr/bin/make test':

PERL_DL_NONLAZY=1 "/usr/perl5.22.4p/bin/perl" "-MExtUtils::Command::MM" "-MTest::Harness" "-e" "undef *Test::Harness::Switches; test_harness(0, 'blib/lib', 'blib/arch')" t/*.t
t/00-compile.t ....... ok
t/ARGV.t ............. ok
t/ARGV_nonmain.t ..... ok
t/ARGV_twice.t ....... ok
t/autodie.t .......... ok
t/charnames.t ........ ok
t/FATAL_utf8.t ....... ok
t/fc.t ............... ok
t/force_global.t ..... ok
t/glob.t ............. ok
t/global_nonmain.t ... ok
t/lexical-again.t .... ok
t/lexical.t .......... ok
t/no_global.t ........ ok
t/open.t ............. ok
t/readdir.t .......... ok
t/readlink.t ......... ok
t/readpipe.t ......... ok
t/threads.t .......... skipped: Requires threads
t/unicode_eval.t ..... ok
t/unicode_strings.t .. ok
t/utf8.t ............. ok
t/utf8_check.t ....... ok
All tests successful.
Files=23, Tests=121,  3 wallclock secs ( 0.06 usr  0.05 sys +  2.30 cusr  0.64 csys =  3.05 CPU)
Result: PASS

------------------------------
PREREQUISITES
------------------------------

Prerequisite modules loaded:

requires:

    Module              Need  Have    
    ------------------- ----- --------
    Carp                0     1.38    
    charnames           0     1.43    
    Encode              0     2.93    
    feature             0     1.40    
    Import::Into        0     1.002005
    open                0     1.10    
    parent              0     0.236   
    perl                5.010 5.022004
    PerlIO::utf8_strict 0     0.007   
    strict              0     1.09    
    Symbol              0     1.07    
    utf8                0     1.17    
    warnings            0     1.34    

build_requires:

    Module              Need  Have    
    ------------------- ----- --------
    autodie             0     2.26    
    blib                1.01  1.06    
    constant            0     1.33    
    ExtUtils::MakeMaker 0     7.30    
    File::Spec          0     3.56_02 
    IO::Handle          0     1.35    
    IPC::Open3          0     1.18    
    PerlIO              0     1.09    
    Test::Exception     0     0.43    
    Test::Fatal         0     0.014   
    Test::More          0.96  1.302120
    Test::Warn          0     0.32    
  ! threads             0     broken  
    threads::shared     0     1.48    
    version             0.77  0.9918  

configure_requires:

    Module              Need  Have    
    ------------------- ----- --------
    ExtUtils::MakeMaker 0     7.30    
    perl                5.010 5.022004


------------------------------
ENVIRONMENT AND OTHER CONTEXT
------------------------------

Environment variables:

    PATH = /usr/local/bin:/usr/bin:/bin:/usr/local/sbin:/usr/sbin:/sbin:/home/cpansand/bin/sh:/home/cpansand/bin:/usr/games:/home/cpansand/devel:/home/eserte/src/srezic-misc/scripts
    PERL5LIB = /home/cpansand/.cpan/build/2018010518/Math-AnyNum-0.20-CDTmPw/blib/arch:/home/cpansand/.cpan/build/2018010518/Math-AnyNum-0.20-CDTmPw/blib/lib
    PERL5OPT = 
    PERL5_CPANPLUS_IS_RUNNING = 51998
    PERL5_CPAN_IS_RUNNING = 51998
    PERL5_CPAN_IS_RUNNING_IN_RECURSION = 51339,51998
    PERL_BATCH = yes
    PERL_CANARY_STABILITY_NOPROMPT = 1
    PERL_CPAN_REPORTER_CONFIG = /var/tmp/cpansmoker-1023/2018010518/cpanreporter_000_config.ini
    PERL_EXTUTILS_AUTOINSTALL = --defaultdeps
    SHELL = /bin/sh
    TMPDIR = /var/tmp/cpansmoker-1023/2018010518

Perl special variables (and OS-specific diagnostics, for MSWin32):

    $^X = /usr/perl5.22.4p/bin/perl
    $UID/$EUID = 1023 / 1023
    $GID = 1023 1023
    $EGID = 1023 1023

Perl module toolchain versions installed:

    Module              Have    
    ------------------- --------
    CPAN                2.11_01 
    CPAN::Meta          2.150010
    Cwd                 3.56_02 
    ExtUtils::CBuilder  0.280230
    ExtUtils::Command   7.30    
    ExtUtils::Install   2.06    
    ExtUtils::MakeMaker 7.30    
    ExtUtils::Manifest  1.70    
    ExtUtils::ParseXS   3.35    
    File::Spec          3.56_02 
    JSON                2.97001 
    JSON::PP            2.97001 
    Module::Build       0.4224  
    Module::Signature   0.81    
    Parse::CPAN::Meta   2.150010
    Test::Harness       3.35_01 
    Test::More          1.302120
    YAML                1.24    
    YAML::Syck          1.30    
    version             0.9918  


--

Summary of my perl5 (revision 5 version 22 subversion 4) configuration:
   
  Platform:
    osname=freebsd, osvers=12.0-current, archname=amd64-freebsd
    uname='freebsd ali1.bbbike.org 12.0-current freebsd 12.0-current #0 bd8385a990e(master)-dirty: fri nov 17 03:13:11 utc 2017 root@ali1.bbbike.org:usrobjhomeprojectsfreebsdamd64.amd64sysgeneric-nodebug amd64 '
    config_args='-ds -e -Dprefix=/usr/perl5.22.4p -Dcf_email=srezic@cpan.org -Doptimize=-O2 -pipe'
    hint=recommended, useposix=true, d_sigaction=define
    useithreads=undef, usemultiplicity=undef
    use64bitint=define, use64bitall=define, uselongdouble=undef
    usemymalloc=n, bincompat5005=undef
  Compiler:
    cc='cc', ccflags ='-DHAS_FPSETMASK -DHAS_FLOATINGPOINT_H -fno-strict-aliasing -pipe -fstack-protector-strong -I/usr/local/include -D_FORTIFY_SOURCE=2',
    optimize='-O2 -pipe',
    cppflags='-DHAS_FPSETMASK -DHAS_FLOATINGPOINT_H -fno-strict-aliasing -pipe -fstack-protector-strong -I/usr/local/include'
    ccversion='', gccversion='4.2.1 Compatible FreeBSD Clang 5.0.0 (tags/RELEASE_500/final 312559)', gccosandvers=''
    intsize=4, longsize=8, ptrsize=8, doublesize=8, byteorder=12345678, doublekind=3
    d_longlong=define, longlongsize=8, d_longdbl=define, longdblsize=16, longdblkind=3
    ivtype='long', ivsize=8, nvtype='double', nvsize=8, Off_t='off_t', lseeksize=8
    alignbytes=8, prototype=define
  Linker and Libraries:
    ld='cc', ldflags ='-pthread -Wl,-E  -fstack-protector-strong -L/usr/local/lib'
    libpth=/usr/lib /usr/local/lib /usr/lib/clang/5.0.0/lib /usr/lib
    libs=-lpthread -lgdbm -lm -lcrypt -lutil -lc
    perllibs=-lpthread -lm -lcrypt -lutil -lc
    libc=, so=so, useshrplib=false, libperl=libperl.a
    gnulibc_version=''
  Dynamic Linking:
    dlsrc=dl_dlopen.xs, dlext=so, d_dlsymun=undef, ccdlflags=' '
    cccdlflags='-DPIC -fPIC', lddlflags='-shared  -L/usr/local/lib -fstack-protector-strong'


Characteristics of this binary (from libperl): 
  Compile-time options: HAS_TIMES PERLIO_LAYERS PERL_DONT_CREATE_GVSV
                        PERL_HASH_FUNC_ONE_AT_A_TIME_HARD PERL_MALLOC_WRAP
                        PERL_NEW_COPY_ON_WRITE PERL_PRESERVE_IVUV
                        USE_64_BIT_ALL USE_64_BIT_INT USE_LARGE_FILES
                        USE_LOCALE USE_LOCALE_COLLATE USE_LOCALE_CTYPE
                        USE_LOCALE_NUMERIC USE_LOCALE_TIME USE_PERLIO
                        USE_PERL_ATOF
  Built under freebsd
  Compiled at Nov 17 2017 05:53:55
  %ENV:
    PERL5LIB="/home/cpansand/.cpan/build/2018010518/Math-AnyNum-0.20-CDTmPw/blib/arch:/home/cpansand/.cpan/build/2018010518/Math-AnyNum-0.20-CDTmPw/blib/lib"
    PERL5OPT=""
    PERL5_CPANPLUS_IS_RUNNING="51998"
    PERL5_CPAN_IS_RUNNING="51998"
    PERL5_CPAN_IS_RUNNING_IN_RECURSION="51339,51998"
    PERL_BATCH="yes"
    PERL_CANARY_STABILITY_NOPROMPT="1"
    PERL_CPAN_REPORTER_CONFIG="/var/tmp/cpansmoker-1023/2018010518/cpanreporter_000_config.ini"
    PERL_EXTUTILS_AUTOINSTALL="--defaultdeps"
  @INC:
    /home/cpansand/.cpan/build/2018010518/Math-AnyNum-0.20-CDTmPw/blib/arch
    /home/cpansand/.cpan/build/2018010518/Math-AnyNum-0.20-CDTmPw/blib/lib
    /usr/perl5.22.4p/lib/site_perl/5.22.4/amd64-freebsd
    /usr/perl5.22.4p/lib/site_perl/5.22.4
    /usr/perl5.22.4p/lib/5.22.4/amd64-freebsd
    /usr/perl5.22.4p/lib/5.22.4
    .