Report for Nginx-Engine-0.12

Back
From: metabase:user:322078bc-2aae-11df-837a-5e0a49663a4f
Subject: PASS Nginx-Engine-0.12 v5.10.0 OpenBSD
Date: 2011-11-29T00:40:14Z

This distribution has been tested as part of the CPAN Testers
project, supporting the Perl programming language.  See
http://wiki.cpantesters.org/ for more information or email
questions to cpan-testers-discuss@perl.org


--

Dear ZZZ,

This is a computer-generated error report created automatically by
CPANPLUS, version 0.9111. Testers personal comments may appear
at the end of this report.

MAKE TEST passed: cc -c  -I. -Inginx/src/core -Inginx/src/event -Inginx/src/event/modules -Inginx/src/os/unix -Inginx/objs -Inginx/src/http -Inginx/src/http/modules -Inginx/src/mail  -fno-strict-aliasing -pipe -I/usr/local/include -O2    -DVERSION=\"0.12\"  -DXS_VERSION=\"0.12\" -DPIC -fPIC "-I/home/cpan/pit/64bit/perl-5.10.0/lib/5.10.0/OpenBSD.i386-openbsd-64int/CORE"   nginx/objs/ngx_modules.c
PERL_DL_NONLAZY=1 /home/cpan/pit/64bit/perl-5.10.0/bin/perl "-MExtUtils::Command::MM" "-e" "test_harness(0, 'blib/lib', 'blib/arch')" t/*.t
t/00-use.t ............... ok
# Spend time: 3
t/01-timers.t ............ ok
t/02-client-server.t ..... ok
t/03-large-data.t ........ ok
t/04-writer-arrayref.t ... ok
t/05-writer-scalarref.t .. ok
t/06-writer-scalar.t ..... ok
t/07-delayed-response.t .. ok
t/08-timeoutless.t ....... ok
t/09-messages.t .......... ok
t/10-buffer-set.t ........ ok
All tests successful.
Files=11, Tests=172,  8 wallclock secs ( 0.05 usr  0.09 sys +  0.31 cusr  0.28 csys =  0.73 CPU)
Result: PASS

[MSG] [Tue Nov 29 00:40:14 2011] Sending test report for 'Nginx-Engine-0.12'

This report was machine-generated by CPANPLUS::Dist::YACSmoke 0.64.
Powered by minismokebox version 0.54

------------------------------
ENVIRONMENT AND OTHER CONTEXT
------------------------------

Environment variables:

    AUTOMATED_TESTING = 1
    PATH = /home/cpan/bin:/bin:/sbin:/usr/bin:/usr/sbin:/usr/X11R6/bin:/usr/local/bin:/usr/local/sbin:/usr/games:.
    PERL5LIB = :/home/cpan/pit/64bit/conf/perl-5.10.0/.cpanplus/5.10.0/build/Nginx-Engine-0.12/blib/lib:/home/cpan/pit/64bit/conf/perl-5.10.0/.cpanplus/5.10.0/build/Nginx-Engine-0.12/blib/arch
    PERL5_CPANPLUS_IS_RUNNING = 16580
    PERL5_CPANPLUS_IS_VERSION = 0.9111
    PERL5_MINISMOKEBOX = 0.54
    PERL5_YACSMOKE_BASE = /home/cpan/pit/64bit/conf/perl-5.10.0
    PERL_EXTUTILS_AUTOINSTALL = --defaultdeps
    PERL_MM_USE_DEFAULT = 1
    SHELL = /usr/local/bin/bash
    TERM = screen

Perl special variables (and OS-specific diagnostics, for MSWin32):

    Perl: $^X = /home/cpan/pit/64bit/perl-5.10.0/bin/perl
    UID:  $<  = 1001
    EUID: $>  = 1001
    GID:  $(  = 1001 1001
    EGID: $)  = 1001 1001


-------------------------------


--

Summary of my perl5 (revision 5 version 10 subversion 0) configuration:
  Platform:
    osname=openbsd, osvers=4.9, archname=OpenBSD.i386-openbsd-64int
    uname='openbsd obadiah.bingosnet.co.uk 4.9 generic#671 i386 '
    config_args='-des -Dprefix=/home/cpan/pit/64bit/perl-5.10.0 -Duse64bitint'
    hint=recommended, useposix=true, d_sigaction=define
    useithreads=undef, usemultiplicity=undef
    useperlio=define, d_sfio=undef, uselargefiles=define, usesocks=undef
    use64bitint=define, use64bitall=undef, uselongdouble=undef
    usemymalloc=y, bincompat5005=undef
  Compiler:
    cc='cc', ccflags ='-fno-strict-aliasing -pipe -I/usr/local/include',
    optimize='-O2',
    cppflags='-fno-strict-aliasing -pipe -I/usr/local/include'
    ccversion='', gccversion='4.2.1 20070719 ', gccosandvers='openbsd4.9'
    intsize=4, longsize=4, ptrsize=4, doublesize=8, byteorder=12345678
    d_longlong=define, longlongsize=8, d_longdbl=define, longdblsize=12
    ivtype='long long', ivsize=8, nvtype='double', nvsize=8, Off_t='off_t', lseeksize=8
    alignbytes=4, prototype=define
  Linker and Libraries:
    ld='cc', ldflags ='-Wl,-E  -L/usr/local/lib'
    libpth=/usr/local/lib /usr/lib
    libs=-lgdbm -lm -lutil -lc
    perllibs=-lm -lutil -lc
    libc=/usr/lib/libc.so.58.0, so=so, useshrplib=false, libperl=libperl.a
    gnulibc_version=''
  Dynamic Linking:
    dlsrc=dl_dlopen.xs, dlext=so, d_dlsymun=undef, ccdlflags=' '
    cccdlflags='-DPIC -fPIC ', lddlflags='-shared -fPIC  -L/usr/local/lib'


Characteristics of this binary (from libperl): 
  Compile-time options: MYMALLOC PERL_DONT_CREATE_GVSV PERL_MALLOC_WRAP
                        USE_64_BIT_INT USE_LARGE_FILES USE_PERLIO
  Built under openbsd
  Compiled at Jul 28 2011 12:13:08
  %ENV:
    PERL5LIB=":/home/cpan/pit/64bit/conf/perl-5.10.0/.cpanplus/5.10.0/build/Nginx-Engine-0.12/blib/lib:/home/cpan/pit/64bit/conf/perl-5.10.0/.cpanplus/5.10.0/build/Nginx-Engine-0.12/blib/arch"
    PERL5_CPANPLUS_IS_RUNNING="16580"
    PERL5_CPANPLUS_IS_VERSION="0.9111"
    PERL5_MINISMOKEBOX="0.54"
    PERL5_YACSMOKE_BASE="/home/cpan/pit/64bit/conf/perl-5.10.0"
    PERL_EXTUTILS_AUTOINSTALL="--defaultdeps"
    PERL_MM_USE_DEFAULT="1"
  @INC:
    /home/cpan/pit/64bit/conf/perl-5.10.0/.cpanplus/5.10.0/build/Nginx-Engine-0.12/blib/lib
    /home/cpan/pit/64bit/conf/perl-5.10.0/.cpanplus/5.10.0/build/Nginx-Engine-0.12/blib/arch
    /home/cpan/pit/64bit/perl-5.10.0/lib/5.10.0/OpenBSD.i386-openbsd-64int
    /home/cpan/pit/64bit/perl-5.10.0/lib/5.10.0
    /home/cpan/pit/64bit/perl-5.10.0/lib/site_perl/5.10.0/OpenBSD.i386-openbsd-64int
    /home/cpan/pit/64bit/perl-5.10.0/lib/site_perl/5.10.0
    .