WebService-HealthGraph v0.000004 Perl 5 v5.34.0 x86_64-linux-ld

Status
Pass
From
Andreas J. König (ANDK)
Dist
WebService-HealthGraph v0.000004
Platform
Perl 5 v5.34.0 x86_64-linux-ld
Date
2022-02-27 01:50:55
ID
b3c05bea-976f-11ec-93f1-08ec3a0cfc7d
This distribution has been tested as part of the CPAN Testers
project, supporting the Perl programming language.  See
http://wiki.cpantesters.org/ for more information or email
questions to cpan-testers-discuss@perl.org


--
Dear Olaf Alders,

This is a computer-generated report for WebService-HealthGraph-0.000004
on perl 5.34.0, created by CPAN-Reporter-1.2018.

Thank you for uploading your work to CPAN.  Congratulations!
All tests were successful.

Sections of this report:

    * Tester comments
    * Program output
    * Prerequisites
    * Environment and other context

------------------------------
TESTER COMMENTS
------------------------------

Additional comments from tester:

this report is from an automated smoke testing program
and was not reviewed by a human for accuracy

------------------------------
PROGRAM OUTPUT
------------------------------

Output from '/usr/bin/make test':

PERL_DL_NONLAZY=1 "/tmp/basesmoker-reloperl-LoMX/bin/perl" "-MExtUtils::Command::MM" "-MTest::Harness" "-e" "undef *Test::Harness::Switches; test_harness(0, 'blib/lib', 'blib/arch')" t/*.t
t/author-pod-coverage.t ... skipped: these tests are for testing by the author
t/author-pod-spell.t ...... skipped: these tests are for testing by the author
t/healthgraph-live.t ...... ok
GET https://api.runkeeper.com/user

.---------------------------------+-----------------------------------------.
| Request (before sending) Header | Value                                   |
+---------------------------------+-----------------------------------------+
| Accept                          | application/vnd.com.runkeeper.User+json |
| User-Agent                      | libwww-perl/6.61                        |
'---------------------------------+-----------------------------------------'

.--------------------------------+-----------------------------------------.
| Request (after sending) Header | Value                                   |
+--------------------------------+-----------------------------------------+
| Accept                         | application/vnd.com.runkeeper.User+json |
| User-Agent                     | libwww-perl/6.61                        |
'--------------------------------+-----------------------------------------'

==> 401 Unauthorized

.-------------------------+------------------------------------------.
| Response Header         | Value                                    |
+-------------------------+------------------------------------------+
| Client-Date             | Sun, 27 Feb 2022 01:47:11 GMT            |
| Client-Peer             | 34.235.246.237:443                       |
| Client-Response-Num     | 1                                        |
| Client-SSL-Cert-Issuer  | /C=US/O=Amazon/OU=Server CA 1B/CN=Amazon |
| Client-SSL-Cert-Subject | /CN=runkeeper.com                        |
| Client-SSL-Cipher       | ECDHE-RSA-AES128-GCM-SHA256              |
| Client-SSL-Socket-Class | IO::Socket::SSL                          |
| Client-SSL-Version      | TLSv1_2                                  |
| Connection              | close                                    |
| Content-Language        | en-US                                    |
| Content-Length          | 0                                        |
| Date                    | Sun, 27 Feb 2022 01:47:11 GMT            |
| WWW-Authenticate        | Bearer                                   |
'-------------------------+------------------------------------------'

t/healthgraph.t ........... ok
t/release-cpan-changes.t .. skipped: these tests are for release candidate testing
t/release-synopsis.t ...... skipped: these tests are for release candidate testing
t/release-tidyall.t ....... skipped: these tests are for release candidate testing
All tests successful.
Files=7, Tests=7,  2 wallclock secs ( 0.02 usr  0.03 sys +  0.90 cusr  0.22 csys =  1.17 CPU)
Result: PASS

------------------------------
PREREQUISITES
------------------------------

Prerequisite modules loaded:

requires:

    Module                    Need     Have    
    ------------------------- -------- --------
    Array::Iterator           0        0.131   
    JSON::MaybeXS             1.003005 1.004003
    LWP::ConsoleLogger::Easy  0        0.000043
    LWP::Protocol::https      0        6.10    
    LWP::UserAgent            6.15     6.61    
    Moo                       2.001001 2.005004
    perl                      5.006    5.034000
    strict                    0        1.12    
    Type::Tiny                1.000005 1.012004
    Types::Standard           0        1.012004
    Types::URI                0        0.007   
    URI                       1.71     5.10    
    URI::FromHash             0        0.05    
    warnings                  0        1.51    

build_requires:

    Module                    Need     Have    
    ------------------------- -------- --------
    Data::Printer             0        1.000004
    DateTime                  0        1.55    
    ExtUtils::MakeMaker       0        7.64    
    List::AllUtils            0        0.19    
    Test2::Bundle::Extended   0        0.000144
    Test2::Plugin::BailOnFail 0        0.000144
    Test::RequiresInternet    0        0.05    

configure_requires:

    Module                    Need     Have    
    ------------------------- -------- --------
    ExtUtils::MakeMaker       0        7.64    
    perl                      5.006    5.034000


------------------------------
ENVIRONMENT AND OTHER CONTEXT
------------------------------

Environment variables:

    AUTOMATED_TESTING = 1
    LANG = en_US.utf8
    PATH = /home/sand/bin:/usr/local/bin:/usr/local/sbin:/usr/sbin:/usr/bin:/sbin:/bin:/usr/games:/usr/local/games:/snap/bin:/usr/local/perl/bin:/usr/X11/bin
    PERL5LIB = /tmp/loop_over_bdir-4052579-1uyIYD/perl-Hardware-UPS-Perl-0.43-0/blib/arch:/tmp/loop_over_bdir-4052579-1uyIYD/perl-Hardware-UPS-Perl-0.43-0/blib/lib:/tmp/loop_over_bdir-4052579-1uyIYD/DBIx-Migration-Directories-0.12-0/blib/arch:/tmp/loop_over_bdir-4052579-1uyIYD/DBIx-Migration-Directories-0.12-0/blib/lib:/tmp/loop_over_bdir-4052579-1uyIYD/App-nrun-v1.1.2-0/blib/arch:/tmp/loop_over_bdir-4052579-1uyIYD/App-nrun-v1.1.2-0/blib/lib:/tmp/loop_over_bdir-4052579-1uyIYD/Captive-Portal-4.10-0/blib/arch:/tmp/loop_over_bdir-4052579-1uyIYD/Captive-Portal-4.10-0/blib/lib:/tmp/loop_over_bdir-4052579-1uyIYD/downsexta-0/blib/arch:/tmp/loop_over_bdir-4052579-1uyIYD/downsexta-0/blib/lib:/tmp/loop_over_bdir-4052579-1uyIYD/HTML-Menu-TreeView-1.22-0/blib/arch:/tmp/loop_over_bdir-4052579-1uyIYD/HTML-Menu-TreeView-1.22-0/blib/lib:/tmp/loop_over_bdir-4052579-1uyIYD/App-oo_modulino_zsh_completion_helper-0.04-0/blib/arch:/tmp/loop_over_bdir-4052579-1uyIYD/App-oo_modulino_zsh_completion_helper-0.04-0/blib/lib:/tmp/loop_over_bdir-4052579-1uyIYD/Net-OpenVPN-DDNS-0.1-0/blib/arch:/tmp/loop_over_bdir-4052579-1uyIYD/Net-OpenVPN-DDNS-0.1-0/blib/lib:/tmp/loop_over_bdir-4052579-1uyIYD/OSDial-3.0.2.124-0/blib/arch:/tmp/loop_over_bdir-4052579-1uyIYD/OSDial-3.0.2.124-0/blib/lib:/tmp/loop_over_bdir-4052579-1uyIYD/Dpkg-1.21.1-0/blib/arch:/tmp/loop_over_bdir-4052579-1uyIYD/Dpkg-1.21.1-0/blib/lib:/tmp/loop_over_bdir-4052579-1uyIYD/NoZone-1.3-0/blib/arch:/tmp/loop_over_bdir-4052579-1uyIYD/NoZone-1.3-0/blib/lib
    PERL5OPT = 
    PERL5_CPANPLUS_IS_RUNNING = 4052589
    PERL5_CPAN_IS_RUNNING = 4052589
    PERL_CANARY_STABILITY_NOPROMPT = 1
    PERL_MM_USE_DEFAULT = 1
    PERL_USE_UNSAFE_INC = 1
    SHELL = /usr/bin/zsh
    TERM = screen

Perl special variables (and OS-specific diagnostics, for MSWin32):

    $^X = /tmp/basesmoker-reloperl-LoMX/bin/perl
    $UID/$EUID = 1005 / 1005
    $GID = 1005 1005
    $EGID = 1005 1005

Perl module toolchain versions installed:

    Module              Have    
    ------------------- --------
    CPAN                2.33    
    CPAN::Meta          2.150010
    Cwd                 3.80    
    ExtUtils::CBuilder  0.280236
    ExtUtils::Command   7.64    
    ExtUtils::Install   2.20    
    ExtUtils::MakeMaker 7.64    
    ExtUtils::Manifest  1.73    
    ExtUtils::ParseXS   3.43    
    File::Spec          3.80    
    JSON                4.05    
    JSON::PP            4.07    
    Module::Build       0.4231  
    Module::Signature   0.88    
    Parse::CPAN::Meta   2.150010
    Test::Harness       3.43    
    Test::More          1.302188
    YAML                1.30    
    YAML::Syck          1.34    
    version             0.9929  


--

Summary of my perl5 (revision 5 version 34 subversion 0) configuration:
  Commit id: 79a7b254d85a10b65126ad99bf10e70480569d68
  Platform:
    osname=linux
    osvers=5.4.0-100-generic
    archname=x86_64-linux-ld
    uname='linux k93focal 5.4.0-100-generic #113-ubuntu smp thu feb 3 18:43:29 utc 2022 x86_64 x86_64 x86_64 gnulinux '
    config_args='-Dprefix=/home/sand/src/perl/repoperls/installed-perls/host/k93focal/v5.34.0/7dc8 -Dmyhostname=k93focal -Dinstallusrbinperl=n -Uversiononly -Dusedevel -des -Ui_db -Dlibswanted=cl pthread socket inet nsl gdbm dbm malloc dl ld sun m crypt sec util c cposix posix ucb BSD gdbm_compat -Uuseithreads -Duselongdouble -DEBUGGING=-g'
    hint=recommended
    useposix=true
    d_sigaction=define
    useithreads=undef
    usemultiplicity=undef
    use64bitint=define
    use64bitall=define
    uselongdouble=define
    usemymalloc=n
    default_inc_excludes_dot=define
  Compiler:
    cc='cc'
    ccflags ='-fwrapv -fno-strict-aliasing -pipe -fstack-protector-strong -I/usr/local/include -D_LARGEFILE_SOURCE -D_FILE_OFFSET_BITS=64'
    optimize='-O2 -g'
    cppflags='-fwrapv -fno-strict-aliasing -pipe -fstack-protector-strong -I/usr/local/include'
    ccversion=''
    gccversion='9.3.0'
    gccosandvers=''
    intsize=4
    longsize=8
    ptrsize=8
    doublesize=8
    byteorder=12345678
    doublekind=3
    d_longlong=define
    longlongsize=8
    d_longdbl=define
    longdblsize=16
    longdblkind=3
    ivtype='long'
    ivsize=8
    nvtype='long double'
    nvsize=16
    Off_t='off_t'
    lseeksize=8
    alignbytes=16
    prototype=define
  Linker and Libraries:
    ld='cc'
    ldflags =' -fstack-protector-strong -L/usr/local/lib'
    libpth=/usr/local/lib /usr/lib/x86_64-linux-gnu /usr/lib /usr/lib64
    libs=-lpthread -lnsl -ldl -lm -lcrypt -lutil -lc
    perllibs=-lpthread -lnsl -ldl -lm -lcrypt -lutil -lc
    libc=libc-2.31.so
    so=so
    useshrplib=false
    libperl=libperl.a
    gnulibc_version='2.31'
  Dynamic Linking:
    dlsrc=dl_dlopen.xs
    dlext=so
    d_dlsymun=undef
    ccdlflags='-Wl,-E'
    cccdlflags='-fPIC'
    lddlflags='-shared -O2 -g -L/usr/local/lib -fstack-protector-strong'


Characteristics of this binary (from libperl): 
  Compile-time options:
    HAS_TIMES
    PERLIO_LAYERS
    PERL_COPY_ON_WRITE
    PERL_DONT_CREATE_GVSV
    PERL_MALLOC_WRAP
    PERL_OP_PARENT
    PERL_PRESERVE_IVUV
    PERL_USE_DEVEL
    USE_64_BIT_ALL
    USE_64_BIT_INT
    USE_LARGE_FILES
    USE_LOCALE
    USE_LOCALE_COLLATE
    USE_LOCALE_CTYPE
    USE_LOCALE_NUMERIC
    USE_LOCALE_TIME
    USE_LONG_DOUBLE
    USE_PERLIO
    USE_PERL_ATOF
  Built under linux
  Compiled at Feb 20 2022 20:10:42
  %ENV:
    PERL5LIB="/tmp/loop_over_bdir-4052579-1uyIYD/perl-Hardware-UPS-Perl-0.43-0/blib/arch:/tmp/loop_over_bdir-4052579-1uyIYD/perl-Hardware-UPS-Perl-0.43-0/blib/lib:/tmp/loop_over_bdir-4052579-1uyIYD/DBIx-Migration-Directories-0.12-0/blib/arch:/tmp/loop_over_bdir-4052579-1uyIYD/DBIx-Migration-Directories-0.12-0/blib/lib:/tmp/loop_over_bdir-4052579-1uyIYD/App-nrun-v1.1.2-0/blib/arch:/tmp/loop_over_bdir-4052579-1uyIYD/App-nrun-v1.1.2-0/blib/lib:/tmp/loop_over_bdir-4052579-1uyIYD/Captive-Portal-4.10-0/blib/arch:/tmp/loop_over_bdir-4052579-1uyIYD/Captive-Portal-4.10-0/blib/lib:/tmp/loop_over_bdir-4052579-1uyIYD/downsexta-0/blib/arch:/tmp/loop_over_bdir-4052579-1uyIYD/downsexta-0/blib/lib:/tmp/loop_over_bdir-4052579-1uyIYD/HTML-Menu-TreeView-1.22-0/blib/arch:/tmp/loop_over_bdir-4052579-1uyIYD/HTML-Menu-TreeView-1.22-0/blib/lib:/tmp/loop_over_bdir-4052579-1uyIYD/App-oo_modulino_zsh_completion_helper-0.04-0/blib/arch:/tmp/loop_over_bdir-4052579-1uyIYD/App-oo_modulino_zsh_completion_helper-0.04-0/blib/lib:/tmp/loop_over_bdir-4052579-1uyIYD/Net-OpenVPN-DDNS-0.1-0/blib/arch:/tmp/loop_over_bdir-4052579-1uyIYD/Net-OpenVPN-DDNS-0.1-0/blib/lib:/tmp/loop_over_bdir-4052579-1uyIYD/OSDial-3.0.2.124-0/blib/arch:/tmp/loop_over_bdir-4052579-1uyIYD/OSDial-3.0.2.124-0/blib/lib:/tmp/loop_over_bdir-4052579-1uyIYD/Dpkg-1.21.1-0/blib/arch:/tmp/loop_over_bdir-4052579-1uyIYD/Dpkg-1.21.1-0/blib/lib:/tmp/loop_over_bdir-4052579-1uyIYD/NoZone-1.3-0/blib/arch:/tmp/loop_over_bdir-4052579-1uyIYD/NoZone-1.3-0/blib/lib"
    PERL5OPT=""
    PERL5_CPANPLUS_IS_RUNNING="4052589"
    PERL5_CPAN_IS_RUNNING="4052589"
    PERL_CANARY_STABILITY_NOPROMPT="1"
    PERL_MM_USE_DEFAULT="1"
    PERL_USE_UNSAFE_INC="1"
  @INC:
    /tmp/loop_over_bdir-4052579-1uyIYD/perl-Hardware-UPS-Perl-0.43-0/blib/arch
    /tmp/loop_over_bdir-4052579-1uyIYD/perl-Hardware-UPS-Perl-0.43-0/blib/lib
    /tmp/loop_over_bdir-4052579-1uyIYD/DBIx-Migration-Directories-0.12-0/blib/arch
    /tmp/loop_over_bdir-4052579-1uyIYD/DBIx-Migration-Directories-0.12-0/blib/lib
    /tmp/loop_over_bdir-4052579-1uyIYD/App-nrun-v1.1.2-0/blib/arch
    /tmp/loop_over_bdir-4052579-1uyIYD/App-nrun-v1.1.2-0/blib/lib
    /tmp/loop_over_bdir-4052579-1uyIYD/Captive-Portal-4.10-0/blib/arch
    /tmp/loop_over_bdir-4052579-1uyIYD/Captive-Portal-4.10-0/blib/lib
    /tmp/loop_over_bdir-4052579-1uyIYD/downsexta-0/blib/arch
    /tmp/loop_over_bdir-4052579-1uyIYD/downsexta-0/blib/lib
    /tmp/loop_over_bdir-4052579-1uyIYD/HTML-Menu-TreeView-1.22-0/blib/arch
    /tmp/loop_over_bdir-4052579-1uyIYD/HTML-Menu-TreeView-1.22-0/blib/lib
    /tmp/loop_over_bdir-4052579-1uyIYD/App-oo_modulino_zsh_completion_helper-0.04-0/blib/arch
    /tmp/loop_over_bdir-4052579-1uyIYD/App-oo_modulino_zsh_completion_helper-0.04-0/blib/lib
    /tmp/loop_over_bdir-4052579-1uyIYD/Net-OpenVPN-DDNS-0.1-0/blib/arch
    /tmp/loop_over_bdir-4052579-1uyIYD/Net-OpenVPN-DDNS-0.1-0/blib/lib
    /tmp/loop_over_bdir-4052579-1uyIYD/OSDial-3.0.2.124-0/blib/arch
    /tmp/loop_over_bdir-4052579-1uyIYD/OSDial-3.0.2.124-0/blib/lib
    /tmp/loop_over_bdir-4052579-1uyIYD/Dpkg-1.21.1-0/blib/arch
    /tmp/loop_over_bdir-4052579-1uyIYD/Dpkg-1.21.1-0/blib/lib
    /tmp/loop_over_bdir-4052579-1uyIYD/NoZone-1.3-0/blib/arch
    /tmp/loop_over_bdir-4052579-1uyIYD/NoZone-1.3-0/blib/lib
    /home/sand/src/perl/repoperls/installed-perls/host/k93focal/v5.34.0/7dc8/lib/site_perl/5.34.0/x86_64-linux-ld
    /home/sand/src/perl/repoperls/installed-perls/host/k93focal/v5.34.0/7dc8/lib/site_perl/5.34.0
    /home/sand/src/perl/repoperls/installed-perls/host/k93focal/v5.34.0/7dc8/lib/5.34.0/x86_64-linux-ld
    /home/sand/src/perl/repoperls/installed-perls/host/k93focal/v5.34.0/7dc8/lib/5.34.0
    .