Back
From: metabase:user:b53c7f44-4c0e-11e4-9ced-a04ade49192c
Subject: PASS Dist-Zilla-PluginBundle-Author-LESPEA-1.008000 v5.21.9 GNU/Linux
Date: 2015-02-22T19:55:07Z
This distribution has been tested as part of the CPAN Testers
project, supporting the Perl programming language. See
http://wiki.cpantesters.org/ for more information or email
questions to cpan-testers-discuss@perl.org
--
Dear Adam Lesperance,
This is a computer-generated report for Dist-Zilla-PluginBundle-Author-LESPEA-1.008000
on perl 5.21.9, created by CPAN-Reporter-1.2011.
Thank you for uploading your work to CPAN. Congratulations!
All tests were successful.
Sections of this report:
* Tester comments
* Program output
* Prerequisites
* Environment and other context
------------------------------
TESTER COMMENTS
------------------------------
Additional comments from tester:
this report is from an automated smoke testing program
and was not reviewed by a human for accuracy
------------------------------
PROGRAM OUTPUT
------------------------------
Output from '/usr/bin/make test':
Skip blib/lib/auto/share/dist/Dist-Zilla-PluginBundle-Author-LESPEA/profiles/default/profile.ini (unchanged)
Skip blib/lib/auto/share/dist/Dist-Zilla-PluginBundle-Author-LESPEA/profiles/default/Module.template (unchanged)
Skip blib/lib/auto/share/dist/Dist-Zilla-PluginBundle-Author-LESPEA/profiles/default/skel/weaver.ini (unchanged)
Skip blib/lib/auto/share/dist/Dist-Zilla-PluginBundle-Author-LESPEA/profiles/default/skel/MANIFEST.SKIP (unchanged)
Skip blib/lib/auto/share/dist/Dist-Zilla-PluginBundle-Author-LESPEA/profiles/default/skel/Changes (unchanged)
Skip blib/lib/auto/share/dist/Dist-Zilla-PluginBundle-Author-LESPEA/profiles/default/skel/perlcritic.rc (unchanged)
Skip blib/lib/auto/share/dist/Dist-Zilla-PluginBundle-Author-LESPEA/profiles/default/skel/dist.ini (unchanged)
Skip blib/lib/auto/share/module/Dist-Zilla-MintingProfile-Author-LESPEA/default/skel/weaver.ini (unchanged)
Skip blib/lib/auto/share/module/Dist-Zilla-MintingProfile-Author-LESPEA/default/skel/Changes (unchanged)
Skip blib/lib/auto/share/module/Dist-Zilla-MintingProfile-Author-LESPEA/default/skel/MANIFEST.SKIP (unchanged)
Skip blib/lib/auto/share/module/Dist-Zilla-MintingProfile-Author-LESPEA/default/skel/perlcritic.rc (unchanged)
Skip blib/lib/auto/share/module/Dist-Zilla-MintingProfile-Author-LESPEA/default/Module.template (unchanged)
Skip blib/lib/auto/share/module/Dist-Zilla-MintingProfile-Author-LESPEA/default/profile.ini (unchanged)
Skip blib/lib/auto/share/module/Dist-Zilla-MintingProfile-Author-LESPEA/default/skel/dist.ini (unchanged)
PERL_DL_NONLAZY=1 "/opt/perl492-32-O0-5.21.9/bin/perl" "-MExtUtils::Command::MM" "-MTest::Harness" "-e" "undef *Test::Harness::Switches; test_harness(0, 'blib/lib', 'blib/arch')" t/*.t
t/00-compile.t .................. ok
#
Constants from lexical variables potentially modified elsewhere are deprecated at /opt/perl492-32-O0-5.21.9/lib/5.21.9/constant.pm line 140.
#
# Generated by Dist::Zilla::Plugin::ReportVersions::Tiny v1.10
# perl: 5.021009 (wanted 5.010) on linux from /opt/perl492-32-O0-5.21.9/bin/perl
#
# CPAN::Meta::YAML => 0.012 (want any version)
# Carp => 1.3301 (want any version)
# Dist::Zilla => 5.032 (want 4.300000)
# Dist::Zilla::Plugin::ArchiveRelease => 4.26 (want any version)
# Dist::Zilla::Plugin::Authority => 1.009 (want any version)
# Dist::Zilla::Plugin::AutoMetaResources => 1.20 (want any version)
# Dist::Zilla::Plugin::AutoPrereqs => 5.032 (want any version)
# Dist::Zilla::Plugin::Bootstrap::lib => 1.001000 (want any version)
# Dist::Zilla::Plugin::ConfirmRelease => 5.032 (want any version)
# Dist::Zilla::Plugin::ConsistentVersionTest => 0.02 (want any version)
# Dist::Zilla::Plugin::CopyFilesFromBuild => 0.150250 (want any version)
# Dist::Zilla::Plugin::DualBuilders => 1.002 (want any version)
# Dist::Zilla::Plugin::ExecDir => 5.032 (want any version)
# Dist::Zilla::Plugin::ExtraTests => 5.032 (want any version)
# Dist::Zilla::Plugin::FakeRelease => 5.032 (want any version)
# Dist::Zilla::Plugin::GatherDir => 5.032 (want any version)
# Dist::Zilla::Plugin::HasVersionTests => 1.101420 (want any version)
# Dist::Zilla::Plugin::InstallGuide => 1.200006 (want any version)
# Dist::Zilla::Plugin::License => 5.032 (want any version)
# Dist::Zilla::Plugin::MakeMaker => 5.032 (want any version)
# Dist::Zilla::Plugin::Manifest => 5.032 (want any version)
# Dist::Zilla::Plugin::ManifestSkip => 5.032 (want any version)
# Dist::Zilla::Plugin::MetaConfig => 5.032 (want any version)
# Dist::Zilla::Plugin::MetaJSON => 5.032 (want any version)
# Dist::Zilla::Plugin::MetaNoIndex => 5.032 (want any version)
# Dist::Zilla::Plugin::MetaTests => 5.032 (want any version)
# Dist::Zilla::Plugin::MetaYAML => 5.032 (want any version)
# Dist::Zilla::Plugin::MinimumPerl => 1.006 (want any version)
# Dist::Zilla::Plugin::ModuleBuild => 5.032 (want any version)
# Dist::Zilla::Plugin::NextRelease => 5.032 (want any version)
# Dist::Zilla::Plugin::PkgVersion => 5.032 (want any version)
# Dist::Zilla::Plugin::PodCoverageTests => 5.032 (want any version)
# Dist::Zilla::Plugin::PodSyntaxTests => 5.032 (want any version)
# Dist::Zilla::Plugin::PodWeaver => 4.006 (want any version)
# Dist::Zilla::Plugin::PruneCruft => 5.032 (want any version)
# Dist::Zilla::Plugin::ReadmeAnyFromPod => 0.150250 (want any version)
# Dist::Zilla::Plugin::ReportVersions::Tiny => 1.10 (want any version)
# Dist::Zilla::Plugin::ShareDir => 5.032 (want any version)
# Dist::Zilla::Plugin::SpellingCommonMistakesTests => 1.001000 (want any version)
# Dist::Zilla::Plugin::Test::CPAN::Changes => 0.009 (want 0.005)
# Dist::Zilla::Plugin::Test::Compile => 2.051 (want 1.112400)
# Dist::Zilla::Plugin::Test::DistManifest => 2.000005 (want v2.0.1)
# Dist::Zilla::Plugin::Test::EOL => 0.17 (want 0.12)
# Dist::Zilla::Plugin::Test::Kwalitee => 2.11 (want any version)
# Dist::Zilla::Plugin::Test::MinimumVersion => 2.000006 (want v2.0.1)
# Dist::Zilla::Plugin::Test::NoTabs => 0.13 (want any version)
# Dist::Zilla::Plugin::Test::Perl::Critic => 3.000 (want 2.112410)
# Dist::Zilla::Plugin::Test::Portability => 2.000006 (want v2.0.1)
# Dist::Zilla::Plugin::Test::Synopsis => 2.000006 (want v2.0.1)
# Dist::Zilla::Plugin::TestRelease => 5.032 (want any version)
# Dist::Zilla::Plugin::UploadToCPAN => 5.032 (want any version)
# Dist::Zilla::Role::MintingProfile::ShareDir => 5.032 (want any version)
# Dist::Zilla::Role::PluginBundle::Easy => 5.032 (want any version)
# File::ShareDir::Install => 0.10 (want 0.03)
# File::Spec => 3.47 (want any version)
# IO::Handle => 1.28 (want any version)
# IPC::Open3 => 1.18 (want any version)
# Module::Build => 0.4211 (want 0.3601)
# Moose => 2.1403 (want 2.0)
# Perl::Critic => 1.123 (want 1.118)
# Perl::Critic::Bangs => 1.10 (want 1.08)
# Perl::Critic::Lax => 0.011 (want any version)
# Perl::Critic::Pulp => module not found. (want any version)
# Perl::Critic::StricterSubs => 0.05 (want any version)
# Perl::Critic::Swift => v1.0.3 (want any version)
# Perl::MinimumVersion => 1.38 (want any version)
# Perl::OSType => 1.008 (want any version)
# Perl::PrereqScanner => 1.022 (want any version)
# Pod::Coverage::TrustPod => 0.100003 (want any version)
# Pod::Elemental::Transformer::List => 0.102000 (want any version)
# Pod::Spell => 1.15 (want any version)
# Pod::Weaver => 4.010 (want 3.101632)
# Pod::Weaver::Config::Assembler => 4.010 (want any version)
# Pod::Weaver::Section::Installation => 1.101421 (want any version)
# Pod::Weaver::Section::SeeAlso => 1.003 (want any version)
# Pod::Weaver::Section::Support => 1.007 (want any version)
# Pod::Weaver::Section::WarrantyDisclaimer => 0.121290 (want any version)
# Test::CPAN::Meta => 0.24 (want any version)
# Test::More => 1.001014 (want 0.88)
# Test::Perl::Critic => 1.03 (want any version)
# Test::Pod::Content => 0.0.6 (want any version)
# namespace::autoclean => 0.24 (want any version)
# strict => 1.09 (want any version)
# utf8 => 1.14 (want any version)
# warnings => 1.31 (want any version)
#
# Thanks for using my code. I hope it works for you.
# If not, please try and include this output in the bug report.
# That will help me reproduce the issue and solve your problem.
#
t/000-report-versions-tiny.t .... ok
t/author-critic.t ............... skipped: these tests are for testing by the author
t/author-test-eol.t ............. skipped: these tests are for testing by the author
t/release-common_spelling.t ..... skipped: these tests are for release candidate testing
t/release-consistent-version.t .. skipped: these tests are for release candidate testing
t/release-cpan-changes.t ........ skipped: these tests are for release candidate testing
t/release-dist-manifest.t ....... skipped: these tests are for release candidate testing
t/release-distmeta.t ............ skipped: these tests are for release candidate testing
t/release-has-version.t ......... skipped: these tests are for release candidate testing
t/release-kwalitee.t ............ skipped: these tests are for release candidate testing
t/release-minimum-version.t ..... skipped: these tests are for release candidate testing
t/release-no-tabs.t ............. skipped: these tests are for release candidate testing
t/release-pod-coverage.t ........ skipped: these tests are for release candidate testing
t/release-pod-syntax.t .......... skipped: these tests are for release candidate testing
All tests successful.
Files=15, Tests=4, 40 wallclock secs ( 0.32 usr 0.05 sys + 29.26 cusr 1.51 csys = 31.14 CPU)
Result: PASS
------------------------------
PREREQUISITES
------------------------------
Prerequisite modules loaded:
requires:
Module Need Have
------------------------------------------------ -------- --------
Carp 0 1.3301
CPAN::Meta::YAML 0 0.012
Dist::Zilla 4.300000 5.032
Dist::Zilla::Plugin::ArchiveRelease 0 4.26
Dist::Zilla::Plugin::Authority 0 1.009
Dist::Zilla::Plugin::AutoMetaResources 0 1.20
Dist::Zilla::Plugin::AutoPrereqs 0 5.032
Dist::Zilla::Plugin::ConfirmRelease 0 5.032
Dist::Zilla::Plugin::ConsistentVersionTest 0 0.02
Dist::Zilla::Plugin::CopyFilesFromBuild 0 0.150250
Dist::Zilla::Plugin::DualBuilders 0 1.002
Dist::Zilla::Plugin::ExecDir 0 5.032
Dist::Zilla::Plugin::ExtraTests 0 5.032
Dist::Zilla::Plugin::FakeRelease 0 5.032
Dist::Zilla::Plugin::GatherDir 0 5.032
Dist::Zilla::Plugin::HasVersionTests 0 1.101420
Dist::Zilla::Plugin::InstallGuide 0 1.200006
Dist::Zilla::Plugin::License 0 5.032
Dist::Zilla::Plugin::MakeMaker 0 5.032
Dist::Zilla::Plugin::Manifest 0 5.032
Dist::Zilla::Plugin::ManifestSkip 0 5.032
Dist::Zilla::Plugin::MetaConfig 0 5.032
Dist::Zilla::Plugin::MetaJSON 0 5.032
Dist::Zilla::Plugin::MetaNoIndex 0 5.032
Dist::Zilla::Plugin::MetaTests 0 5.032
Dist::Zilla::Plugin::MetaYAML 0 5.032
Dist::Zilla::Plugin::MinimumPerl 0 1.006
Dist::Zilla::Plugin::ModuleBuild 0 5.032
Dist::Zilla::Plugin::NextRelease 0 5.032
Dist::Zilla::Plugin::PkgVersion 0 5.032
Dist::Zilla::Plugin::PodCoverageTests 0 5.032
Dist::Zilla::Plugin::PodSyntaxTests 0 5.032
Dist::Zilla::Plugin::PodWeaver 0 4.006
Dist::Zilla::Plugin::PruneCruft 0 5.032
Dist::Zilla::Plugin::ReadmeAnyFromPod 0 0.150250
Dist::Zilla::Plugin::ReportVersions::Tiny 0 1.10
Dist::Zilla::Plugin::ShareDir 0 5.032
Dist::Zilla::Plugin::SpellingCommonMistakesTests 0 1.001000
Dist::Zilla::Plugin::Test::Compile 1.112400 2.051
Dist::Zilla::Plugin::Test::CPAN::Changes 0.005 0.009
Dist::Zilla::Plugin::Test::DistManifest v2.0.1 2.000005
Dist::Zilla::Plugin::Test::EOL 0.12 0.17
Dist::Zilla::Plugin::Test::Kwalitee 0 2.11
Dist::Zilla::Plugin::Test::MinimumVersion v2.0.1 2.000006
Dist::Zilla::Plugin::Test::NoTabs 0 0.13
Dist::Zilla::Plugin::Test::Perl::Critic 2.112410 3.000
Dist::Zilla::Plugin::Test::Portability v2.0.1 2.000006
Dist::Zilla::Plugin::Test::Synopsis v2.0.1 2.000006
Dist::Zilla::Plugin::TestRelease 0 5.032
Dist::Zilla::Plugin::UploadToCPAN 0 5.032
Dist::Zilla::Role::MintingProfile::ShareDir 0 5.032
Dist::Zilla::Role::PluginBundle::Easy 0 5.032
Moose 2.0 2.1403
namespace::autoclean 0 0.24
Perl::Critic 1.118 1.123
Perl::Critic::Bangs 1.08 1.10
Perl::Critic::Lax 0 0.011
! Perl::Critic::Pulp 0 n/a
Perl::Critic::StricterSubs 0 0.05
Perl::Critic::Swift 0 v1.0.3
Perl::MinimumVersion 0 1.38
Perl::OSType 0 1.008
Perl::PrereqScanner 0 1.022
Pod::Coverage::TrustPod 0 0.100003
Pod::Elemental::Transformer::List 0 0.102000
Pod::Spell 0 1.15
Pod::Weaver 3.101632 4.010
Pod::Weaver::Config::Assembler 0 4.010
Pod::Weaver::Section::Installation 0 1.101421
Pod::Weaver::Section::SeeAlso 0 1.003
Pod::Weaver::Section::Support 0 1.007
Pod::Weaver::Section::WarrantyDisclaimer 0 0.121290
strict 0 1.09
Test::CPAN::Meta 0 0.24
Test::Perl::Critic 0 1.03
Test::Pod::Content 0 0.0.6
utf8 0 1.14
warnings 0 1.31
build_requires:
Module Need Have
------------------------------------------------ -------- --------
Dist::Zilla::Plugin::Bootstrap::lib 0 1.001000
File::Spec 0 3.47
IO::Handle 0 1.28
IPC::Open3 0 1.18
Module::Build 0.3601 0.4211
Test::More 0.88 1.001014
configure_requires:
Module Need Have
------------------------------------------------ -------- --------
File::ShareDir::Install 0.03 0.10
Module::Build 0.3601 0.4211
------------------------------
ENVIRONMENT AND OTHER CONTEXT
------------------------------
Environment variables:
AUTOMATED_TESTING = 1
LANG = en_US.utf8
MB_TEST_EXPERIMENTAL = 1
NONINTERACTIVE_TESTING = 1
PATH = /usr/lib/qt-3.3/bin:/usr/kerberos/sbin:/usr/kerberos/bin:/usr/lib/ccache:/usr/local/sbin:/usr/sbin:/sbin:/usr/local/bin:/usr/bin:/bin:/usr/lib/firebird/bin:/opt/real/RealPlayer:/root/bin:/usr/lib/firebird/bin:/opt/real/RealPlayer
PERL5LIB =
PERL5OPT =
PERL5_CPANPLUS_IS_RUNNING = 3847
PERL5_CPAN_IS_RUNNING = 3847
PERL_EXTUTILS_AUTOINSTALL = --defaultdeps
PERL_MM_USE_DEFAULT = 1
SHELL = /bin/bash
TERM = xterm
Perl special variables (and OS-specific diagnostics, for MSWin32):
$^X = /opt/perl492-32-O0-5.21.9/bin/perl
$UID/$EUID = 0 / 0
$GID = 0 0 1 2 3 4 6 10
$EGID = 0 0 1 2 3 4 6 10
Perl module toolchain versions installed:
Module Have
------------------- --------
CPAN 2.05
CPAN::Meta 2.143240
Cwd 3.47
ExtUtils::CBuilder 0.280220
ExtUtils::Command 1.20
ExtUtils::Install 2.04
ExtUtils::MakeMaker 7.04
ExtUtils::Manifest 1.70
ExtUtils::ParseXS 3.24
File::Spec 3.47
JSON 2.90
JSON::PP 2.27300
Module::Build 0.4211
Module::Signature 0.73
Parse::CPAN::Meta 1.4414
Test::Harness 3.35
Test::More 1.001014
YAML 1.14
YAML::Syck 1.29
version 0.9912
--
Summary of my perl5 (revision 5 version 21 subversion 9) configuration:
Platform:
osname=linux, osvers=2.6.32.63, archname=i686-linux-thread-multi-64int-ld
uname='linux localhost.localdomain 2.6.32.63 #2 smp fri jan 30 10:45:01 pst 2015 i686 i686 i386 gnulinux '
config_args='-Dcc=/opt/492/bin/gcc -Dprefix=/opt/perl492-32-O0-5.21.9 -DDEBUGGING'
hint=recommended, useposix=true, d_sigaction=define
useithreads=define, usemultiplicity=define
use64bitint=define, use64bitall=undef, uselongdouble=define
usemymalloc=y, bincompat5005=undef
Compiler:
cc='/opt/492/bin/gcc', ccflags ='-D_REENTRANT -D_GNU_SOURCE -fwrapv -DDEBUGGING -fno-strict-aliasing -pipe -fstack-protector-strong -I/usr/local/include -D_LARGEFILE_SOURCE -D_FILE_OFFSET_BITS=64 -D_FORTIFY_SOURCE=2',
optimize='-O0 -g',
cppflags='-D_REENTRANT -D_GNU_SOURCE -fwrapv -DDEBUGGING -fno-strict-aliasing -pipe -fstack-protector-strong -I/usr/local/include'
ccversion='', gccversion='4.9.2', gccosandvers=''
intsize=4, longsize=4, ptrsize=4, doublesize=8, byteorder=12345678, doublekind=3
d_longlong=define, longlongsize=8, d_longdbl=define, longdblsize=12, longdblkind=3
ivtype='long long', ivsize=8, nvtype='long double', nvsize=12, Off_t='off_t', lseeksize=8
alignbytes=4, prototype=define
Linker and Libraries:
ld='/opt/492/bin/gcc', ldflags =' -fstack-protector-strong -L/usr/local/lib'
libpth=/usr/local/lib /opt/492/lib /opt/492/lib/gcc/i686-pc-linux-gnu/4.9.2/include-fixed /usr/lib /lib
libs=-lpthread -lnsl -lgdbm -ldb -ldl -lm -lcrypt -lutil -lc
perllibs=-lpthread -lnsl -ldl -lm -lcrypt -lutil -lc
libc=libc-2.8.so, so=so, useshrplib=true, libperl=libperl.so
gnulibc_version='2.8'
Dynamic Linking:
dlsrc=dl_dlopen.xs, dlext=so, d_dlsymun=undef, ccdlflags='-Wl,-E -Wl,-rpath,/opt/perl492-32-O0-5.21.9/lib/5.21.9/i686-linux-thread-multi-64int-ld/CORE'
cccdlflags='-fPIC', lddlflags='-shared -O0 -g -L/usr/local/lib -fstack-protector-strong'
Characteristics of this binary (from libperl):
Compile-time options: DEBUGGING HAS_TIMES MULTIPLICITY MYMALLOC
PERLIO_LAYERS PERL_DONT_CREATE_GVSV
PERL_HASH_FUNC_ONE_AT_A_TIME_HARD
PERL_IMPLICIT_CONTEXT PERL_MALLOC_WRAP
PERL_NEW_COPY_ON_WRITE PERL_PRESERVE_IVUV
PERL_TRACK_MEMPOOL USE_64_BIT_INT USE_FAST_STDIO
USE_ITHREADS USE_LARGE_FILES USE_LOCALE
USE_LOCALE_COLLATE USE_LOCALE_CTYPE
USE_LOCALE_NUMERIC USE_LOCALE_TIME USE_LONG_DOUBLE
USE_PERLIO USE_PERL_ATOF USE_REENTRANT_API
Built under linux
Compiled at Feb 21 2015 00:12:44
%ENV:
PERL5LIB=""
PERL5OPT=""
PERL5_CPANPLUS_IS_RUNNING="3847"
PERL5_CPAN_IS_RUNNING="3847"
PERL_EXTUTILS_AUTOINSTALL="--defaultdeps"
PERL_MM_USE_DEFAULT="1"
@INC:
/opt/perl492-32-O0-5.21.9/lib/site_perl/5.21.9/i686-linux-thread-multi-64int-ld
/opt/perl492-32-O0-5.21.9/lib/site_perl/5.21.9
/opt/perl492-32-O0-5.21.9/lib/5.21.9/i686-linux-thread-multi-64int-ld
/opt/perl492-32-O0-5.21.9/lib/5.21.9
.