Dist-Zilla-Plugin-CheckBin v0.008 Perl 5 v5.22.1 x86_64-linux-thread-multi

Status
Pass
From
Serguei Trouchelle (STRO)
Dist
Dist-Zilla-Plugin-CheckBin v0.008
Platform
Perl 5 v5.22.1 x86_64-linux-thread-multi
Date
2017-11-03 06:17:43
ID
b3d1b42c-c05e-11e7-b5c4-50a4c611a03b
This distribution has been tested as part of the CPAN Testers
project, supporting the Perl programming language.  See
http://wiki.cpantesters.org/ for more information or email
questions to cpan-testers-discuss@perl.org


--
Dear Karen Etheridge,

This is a computer-generated report for Dist-Zilla-Plugin-CheckBin-0.008
on perl 5.22.1, created by CPAN-Reporter-1.2018.

Thank you for uploading your work to CPAN.  Congratulations!
All tests were successful.

Sections of this report:

    * Tester comments
    * Program output
    * Prerequisites
    * Environment and other context

------------------------------
TESTER COMMENTS
------------------------------

Additional comments from tester:

this report is from an automated smoke testing program
and was not reviewed by a human for accuracy

------------------------------
PROGRAM OUTPUT
------------------------------

Output from '/usr/bin/make test':

PERL_DL_NONLAZY=1 "/home/stro/perl/5.22.1t/bin/perl" "-MExtUtils::Command::MM" "-MTest::Harness" "-e" "undef *Test::Harness::Switches; test_harness(0, 'blib/lib', 'blib/arch')" t/*.t
# 
# Versions for all modules listed in MYMETA.json (including optional ones):
# 
# === Configure Requires ===
# 
#     Module                       Want     Have
#     ------------------------ -------- --------
#     CPAN::Meta::Requirements 2.120620    2.140
#     ExtUtils::MakeMaker           any     7.24
#     Module::Metadata              any 1.000033
# 
# === Build Requires ===
# 
#     Module              Want Have
#     ------------------- ---- ----
#     ExtUtils::MakeMaker  any 7.24
# 
# === Test Requires ===
# 
#     Module              Want     Have
#     ------------------- ---- --------
#     ExtUtils::MakeMaker  any     7.24
#     File::Spec           any     3.62
#     Path::Tiny           any    0.104
#     Test::DZil           any    6.008
#     Test::Deep           any    1.127
#     Test::Fatal          any    0.014
#     Test::More          0.88 1.302096
#     Test::Needs          any 0.002005
#     if                   any   0.0604
# 
# === Test Recommends ===
# 
#     Module         Want     Have
#     ---------- -------- --------
#     CPAN::Meta 2.120900 2.150010
# 
# === Runtime Requires ===
# 
#     Module                                   Want   Have
#     ------------------------------------ -------- ------
#     Devel::CheckBin                           any   0.04
#     Dist::Zilla                          4.300039  6.008
#     Dist::Zilla::Plugin::ModuleBuildTiny    0.007  0.015
#     Dist::Zilla::Role::FileMunger             any  6.008
#     Dist::Zilla::Role::InstallTool            any  6.008
#     Dist::Zilla::Role::PrereqSource           any  6.008
#     Moose                                     any 2.1807
#     Scalar::Util                              any   1.47
#     namespace::autoclean                      any   0.28
#     strict                                    any   1.09
#     warnings                                  any   1.34
# 
# === Other Modules ===
# 
#     Module                                             Have
#     ---------------------------------------------- --------
#     CPAN::Meta::Validator                          2.150010
#     Dist::Zilla::Plugin::MakeMaker                    6.008
#     Dist::Zilla::Plugin::MakeMaker::Awesome            0.39
#     Dist::Zilla::Plugin::MakeMaker::Fallback          0.024
#     Dist::Zilla::Plugin::ModuleBuildTiny              0.015
#     Dist::Zilla::Plugin::ModuleBuildTiny::Fallback    0.023
#     ExtUtils::MakeMaker                                7.24
#     JSON::PP                                           2.94
#     Module::Build                                    0.4224
#     Module::Build::Tiny                               0.039
#     Pod::Coverage                                      0.23
#     Sub::Name                                          0.21
#     YAML                                               1.23
#     autodie                                            2.29
# 
t/00-report-prereqs.t ............ ok
t/01-basic.t ..................... ok
t/02-module-build.t .............. ok
t/03-module-build-tiny.t ......... ok
t/04-makemaker-awesome.t ......... ok
t/05-makemaker-fallback.t ........ ok
t/06-modulebuildtiny-fallback.t .. ok
t/zzz-check-breaks.t ............. ok
All tests successful.
Files=8, Tests=34, 16 wallclock secs ( 0.02 usr  0.01 sys +  6.60 cusr  0.34 csys =  6.97 CPU)
Result: PASS

------------------------------
PREREQUISITES
------------------------------

Prerequisite modules loaded:

requires:

    Module                               Need     Have    
    ------------------------------------ -------- --------
    Devel::CheckBin                      0        0.04    
    Dist::Zilla                          4.300039 6.008   
    Dist::Zilla::Plugin::ModuleBuildTiny 0.007    0.015   
    Dist::Zilla::Role::FileMunger        0        6.008   
    Dist::Zilla::Role::InstallTool       0        6.008   
    Dist::Zilla::Role::PrereqSource      0        6.008   
    Moose                                0        2.1807  
    namespace::autoclean                 0        0.28    
    perl                                 5.009005 5.022001
    Scalar::Util                         0        1.47    
    strict                               0        1.09    
    warnings                             0        1.34    

build_requires:

    Module                               Need     Have    
    ------------------------------------ -------- --------
    ExtUtils::MakeMaker                  0        7.24    
    File::Spec                           0        3.62    
    if                                   0        0.0604  
    Path::Tiny                           0        0.104   
    Test::Deep                           0        1.127   
    Test::DZil                           0        6.008   
    Test::Fatal                          0        0.014   
    Test::More                           0.88     1.302096
    Test::Needs                          0        0.002005

configure_requires:

    Module                               Need     Have    
    ------------------------------------ -------- --------
    CPAN::Meta::Requirements             2.120620 2.140   
    ExtUtils::MakeMaker                  0        7.24    
    Module::Metadata                     0        1.000033
    perl                                 5.006    5.022001

opt_build_requires:

    Module                               Need     Have    
    ------------------------------------ -------- --------
    CPAN::Meta                           2.120900 2.150010


------------------------------
ENVIRONMENT AND OTHER CONTEXT
------------------------------

Environment variables:

    AUTOMATED_TESTING = 1
    LANG = en_US.UTF-8
    PATH = /usr/local/bin:/usr/bin:/bin:/usr/local/games:/usr/games
    PERL5LIB = 
    PERL5OPT = 
    PERL5_CPANPLUS_IS_RUNNING = 9162
    PERL5_CPAN_IS_RUNNING = 9162
    PERL5_CPAN_IS_RUNNING_IN_RECURSION = 973,9162
    PERL_CR_SMOKER_CURRENT = Dist-Zilla-Plugin-CheckBin-0.008
    PERL_EXTUTILS_AUTOINSTALL = --defaultdeps
    PERL_MM_USE_DEFAULT = 1
    SHELL = /bin/bash
    TERM = xterm-256color

Perl special variables (and OS-specific diagnostics, for MSWin32):

    $^X = /home/stro/perl/5.22.1t/bin/perl
    $UID/$EUID = 1000 / 1000
    $GID = 1000 24 25 29 30 44 46 108 114 1000
    $EGID = 1000 24 25 29 30 44 46 108 114 1000

Perl module toolchain versions installed:

    Module              Have    
    ------------------- --------
    CPAN                2.16    
    CPAN::Meta          2.150010
    Cwd                 3.62    
    ExtUtils::CBuilder  0.280226
    ExtUtils::Command   7.24    
    ExtUtils::Install   2.04    
    ExtUtils::MakeMaker 7.24    
    ExtUtils::Manifest  1.70    
    ExtUtils::ParseXS   3.30    
    File::Spec          3.62    
    JSON                2.94    
    JSON::PP            2.94    
    Module::Build       0.4224  
    Module::Signature   0.81    
    Parse::CPAN::Meta   2.150010
    Test::Harness       3.39    
    Test::More          1.302096
    YAML                1.23    
    YAML::Syck          1.30    
    version             0.9917  


--

Summary of my perl5 (revision 5 version 22 subversion 1) configuration:
   
  Platform:
    osname=linux, osvers=3.16.0-4-amd64, archname=x86_64-linux-thread-multi
    uname='linux vm-debian-001 3.16.0-4-amd64 #1 smp debian 3.16.7-ckt11-1 (2015-05-24) x86_64 gnulinux '
    config_args=''
    hint=recommended, useposix=true, d_sigaction=define
    useithreads=define, usemultiplicity=define
    use64bitint=define, use64bitall=define, uselongdouble=undef
    usemymalloc=n, bincompat5005=undef
  Compiler:
    cc='cc', ccflags ='-D_REENTRANT -D_GNU_SOURCE -fwrapv -fno-strict-aliasing -pipe -fstack-protector-strong -I/usr/local/include -D_LARGEFILE_SOURCE -D_FILE_OFFSET_BITS=64 -D_FORTIFY_SOURCE=2',
    optimize='-O2',
    cppflags='-D_REENTRANT -D_GNU_SOURCE -fwrapv -fno-strict-aliasing -pipe -fstack-protector-strong -I/usr/local/include'
    ccversion='', gccversion='4.9.2', gccosandvers=''
    intsize=4, longsize=8, ptrsize=8, doublesize=8, byteorder=12345678, doublekind=3
    d_longlong=define, longlongsize=8, d_longdbl=define, longdblsize=16, longdblkind=3
    ivtype='long', ivsize=8, nvtype='double', nvsize=8, Off_t='off_t', lseeksize=8
    alignbytes=8, prototype=define
  Linker and Libraries:
    ld='cc', ldflags =' -fstack-protector-strong -L/usr/local/lib'
    libpth=/usr/local/lib /usr/lib/gcc/x86_64-linux-gnu/4.9/include-fixed /usr/include/x86_64-linux-gnu /usr/lib /lib/x86_64-linux-gnu /lib/../lib /usr/lib/x86_64-linux-gnu /usr/lib/../lib /lib
    libs=-lpthread -lnsl -ldl -lm -lcrypt -lutil -lc
    perllibs=-lpthread -lnsl -ldl -lm -lcrypt -lutil -lc
    libc=libc-2.19.so, so=so, useshrplib=false, libperl=libperl.a
    gnulibc_version='2.19'
  Dynamic Linking:
    dlsrc=dl_dlopen.xs, dlext=so, d_dlsymun=undef, ccdlflags='-Wl,-E'
    cccdlflags='-fPIC', lddlflags='-shared -O2 -L/usr/local/lib -fstack-protector-strong'


Characteristics of this binary (from libperl): 
  Compile-time options: HAS_TIMES MULTIPLICITY PERLIO_LAYERS
                        PERL_DONT_CREATE_GVSV
                        PERL_HASH_FUNC_ONE_AT_A_TIME_HARD
                        PERL_IMPLICIT_CONTEXT PERL_MALLOC_WRAP
                        PERL_NEW_COPY_ON_WRITE PERL_PRESERVE_IVUV
                        USE_64_BIT_ALL USE_64_BIT_INT USE_ITHREADS
                        USE_LARGE_FILES USE_LOCALE USE_LOCALE_COLLATE
                        USE_LOCALE_CTYPE USE_LOCALE_NUMERIC USE_LOCALE_TIME
                        USE_PERLIO USE_PERL_ATOF USE_REENTRANT_API
  Built under linux
  Compiled at Dec 13 2015 19:04:04
  %ENV:
    PERL5LIB=""
    PERL5OPT=""
    PERL5_CPANPLUS_IS_RUNNING="9162"
    PERL5_CPAN_IS_RUNNING="9162"
    PERL5_CPAN_IS_RUNNING_IN_RECURSION="973,9162"
    PERL_CR_SMOKER_CURRENT="Dist-Zilla-Plugin-CheckBin-0.008"
    PERL_EXTUTILS_AUTOINSTALL="--defaultdeps"
    PERL_MM_USE_DEFAULT="1"
  @INC:
    /home/stro/perl/5.22.1t/lib/site_perl/5.22.1/x86_64-linux-thread-multi
    /home/stro/perl/5.22.1t/lib/site_perl/5.22.1
    /home/stro/perl/5.22.1t/lib/5.22.1/x86_64-linux-thread-multi
    /home/stro/perl/5.22.1t/lib/5.22.1
    .