Back
From: metabase:user:30ae4450-2aae-11df-837a-5e0a49663a4f
Subject: PASS Gtk2-Ex-WidgetBits-48 v5.16.2 GNU/Linux
Date: 2013-06-22T11:13:01Z
This distribution has been tested as part of the CPAN Testers
project, supporting the Perl programming language. See
http://wiki.cpantesters.org/ for more information or email
questions to cpan-testers-discuss@perl.org
--
Dear Kevin Ryde,
This is a computer-generated report for Gtk2-Ex-WidgetBits-48
on perl 5.16.2, created by CPAN-Reporter-1.2010.
Thank you for uploading your work to CPAN. Congratulations!
All tests were successful.
Sections of this report:
* Tester comments
* Program output
* Prerequisites
* Environment and other context
------------------------------
TESTER COMMENTS
------------------------------
Additional comments from tester:
this report is from an automated smoke testing program
and was not reviewed by a human for accuracy
------------------------------
PROGRAM OUTPUT
------------------------------
Output from '/usr/bin/make test':
PERL_DL_NONLAZY=1 /home/c/perl5/perlbrew/perls/5.16.2i/bin/perl "-MExtUtils::Command::MM" "-e" "test_harness(0, 'blib/lib', 'blib/arch')" t/*.t
# Perl-Gtk2 version 1.247
# Perl-Glib version 1.280
# Compiled against Glib version 2.24.2.
# Running on Glib version 2.24.2.
# Compiled against Gtk version 2.20.1.
# Running on Gtk version 2.20.1.
t/ActionTooltips-import.t .............. ok
# Perl-Gtk2 version 1.247
# Perl-Glib version 1.280
# Compiled against Glib version 2.24.2.
# Running on Glib version 2.24.2.
# Compiled against Gtk version 2.20.1.
# Running on Gtk version 2.20.1.
t/ActionTooltips.t ..................... ok
# Perl-Gtk2 version 1.247
# Perl-Glib version 1.280
# Compiled against Glib version 2.24.2.
# Running on Glib version 2.24.2.
# Compiled against Gtk version 2.20.1.
# Running on Gtk version 2.20.1.
# notify page_size
# changed
# value_changed
# notify value
# notify lower
# notify upper
# changed
# value_changed
# notify lower
# notify value
# changed
# value_changed
# notify step_increment
# notify lower
# notify value
# notify upper
# notify page_size
# notify page_increment
# changed
t/AdjustmentBits.t ..................... ok
t/ContainerBits-import.t ............... ok
t/ContainerBits-subclass.t ............. ok
# Perl-Gtk2 version 1.247
# Perl-Glib version 1.280
# Compiled against Glib version 2.24.2.
# Running on Glib version 2.24.2.
# Compiled against Gtk version 2.20.1.
# Running on Gtk version 2.20.1.
t/ContainerBits.t ...................... ok
# Perl-Gtk2 version 1.247
# Perl-Glib version 1.280
# Compiled against Glib version 2.24.2.
# Running on Glib version 2.24.2.
# Compiled against Gtk version 2.20.1.
# Running on Gtk version 2.20.1.
# [ sensitive parent-sensitive can-focus double-buffered ]
# [ sensitive parent-sensitive double-buffered ]
t/EntryBits.t .......................... ok
# Perl-Gtk2 version 1.247
# Perl-Glib version 1.280
# Compiled against Glib version 2.24.2.
# Running on Glib version 2.24.2.
# Compiled against Gtk version 2.20.1.
# Running on Gtk version 2.20.1.
t/FreezeChildNotify.t .................. ok
t/GdkBits-import.t ..................... ok
# Perl-Gtk2 version 1.247
# Perl-Glib version 1.280
# Compiled against Glib version 2.24.2.
# Running on Glib version 2.24.2.
# Compiled against Gtk version 2.20.1.
# Running on Gtk version 2.20.1.
t/GdkBits.t ............................ ok
# Perl-Gtk2 version 1.247
# Perl-Glib version 1.280
# Compiled against Glib version 2.24.2.
# Running on Glib version 2.24.2.
# Compiled against Gtk version 2.20.1.
# Running on Gtk version 2.20.1.
t/KeySnooper.t ......................... ok
t/LayoutBits.t ......................... ok
t/MenuBits-import.t .................... ok
t/MenuBits-load.t ...................... ok
t/MenuBits.t ........................... ok
# Gtk2::Ex::MenuItem::Subclass Glib::Object::Subclass Gtk2::CheckMenuItem Glib::Object::_Unregistered::AtkImplementorIface Gtk2::Buildable Gtk2::Activatable
# subclass CODE(0x9f03850)
# gobject CODE(0x9efec20)
# testwidg CODE(0x9f03850)
t/MenuItem-Subclass.t .................. ok
t/PixbufBits-load.t .................... ok
# Perl-Gtk2 version 1.247
# Perl-Glib version 1.280
# Compiled against Glib version 2.24.2.
# Running on Glib version 2.24.2.
# Compiled against Gtk version 2.20.1.
# Running on Gtk version 2.20.1.
t/PixbufBits.t ......................... ok
# re-create id 2 str Gtk2::Ex::Statusbar::DynamicContext.2
t/Statusbar-DynamicContext.t ........... ok
# Perl-Gtk2 version 1.247
# Perl-Glib version 1.280
# Compiled against Glib version 2.24.2.
# Running on Glib version 2.24.2.
# Compiled against Gtk version 2.20.1.
# Running on Gtk version 2.20.1.
# main_iterations(): ran 3 events/iterations
t/Statusbar-Message.t .................. ok
t/Statusbar-MessageUntilKey.t .......... ok
# Perl-Gtk2 version 1.247
# Perl-Glib version 1.280
# Compiled against Glib version 2.24.2.
# Running on Glib version 2.24.2.
# Compiled against Gtk version 2.20.1.
# Running on Gtk version 2.20.1.
t/SyncCall.t ........................... ok
# Perl-Gtk2 version 1.247
# Perl-Glib version 1.280
# Compiled against Glib version 2.24.2.
# Running on Glib version 2.24.2.
# Compiled against Gtk version 2.20.1.
# Running on Gtk version 2.20.1.
t/TableBits.t .......................... ok
t/Test-Weaken-Gtk2-ignore-display.t .... ok
t/Test-Weaken-Gtk2-ignore-root.t ....... ok
t/Test-Weaken-Gtk2-ignore-screen.t ..... ok
t/Test-Weaken-Gtk2-load.t .............. ok
# Perl-Gtk2 version 1.247
# Perl-Glib version 1.280
# Compiled against Glib version 2.24.2.
# Running on Glib version 2.24.2.
# Compiled against Gtk version 2.20.1.
# Running on Gtk version 2.20.1.
t/Test-Weaken-Gtk2.t ................... ok
Test::Without::Gtk2Things -- without Gtk2::CellLayout get_cells() method, per Gtk before 2.12
Test::Without::Gtk2Things -- without CursorType blank-cursor, per Gtk before 2.16
Test::Without::Gtk2Things -- without Gtk2::CheckMenuItem/ToggleAction draw-as-radio property, per Gtk before 2.4
Test::Without::Gtk2Things -- without ListStore,TreeStore insert_with_values(), per Gtk before 2.6
Test::Without::Gtk2Things -- without Gtk2::Gdk::Display warp_pointer() method, per Gtk before 2.8
Test::Without::Gtk2Things -- without Gdk2::Gdk::Display and Gtk2::Gdk::Screen, per Gtk 2.0.x
Test::Without::Gtk2Things -- without Gtk2::Widget tooltips, per Gtk before 2.12
Test::Without::Gtk2Things -- without Gtk2::Builder and Buildable interface, per Gtk before 2.12
Test::Without::Gtk2Things -- without Gtk2::MenuItem label and use-underline properties, per Gtk before 2.16
Test::Without::Gtk2Things -- count without 9 things
t/Test-Without-Gtk2Things.t ............ ok
t/TextBufferBits.t ..................... ok
t/ToolbarBits-load.t ................... ok
# Perl-Gtk2 version 1.247
# Perl-Glib version 1.280
# Compiled against Glib version 2.24.2.
# Running on Glib version 2.24.2.
# Compiled against Gtk version 2.20.1.
# Running on Gtk version 2.20.1.
t/ToolItem-CheckButton-builder.t ....... ok
t/ToolItem-CheckButton-load.t .......... ok
t/ToolItem-CheckButton-weaken.t ........ ok
# Perl-Gtk2 version 1.247
# Perl-Glib version 1.280
# Compiled against Glib version 2.24.2.
# Running on Glib version 2.24.2.
# Compiled against Gtk version 2.20.1.
# Running on Gtk version 2.20.1.
t/ToolItem-CheckButton.t ............... ok
t/ToolItem-OverflowToDialog-builder.t .. ok
# main_iterations(): ran 15 events/iterations
t/ToolItem-OverflowToDialog-weaken.t ... ok
# main_iterations(): ran 2 events/iterations
# main_iterations(): ran 1 events/iterations
# main_iterations(): ran 1 events/iterations
# main_iterations(): ran 15 events/iterations
t/ToolItem-OverflowToDialog.t .......... ok
t/TreeModel-ImplBits-import.t .......... ok
t/TreeModel-ImplBits.t ................. ok
t/TreeModelBits-import.t ............... ok
# Perl-Gtk2 version 1.247
# Perl-Glib version 1.280
# Compiled against Glib version 2.24.2.
# Running on Glib version 2.24.2.
# Compiled against Gtk version 2.20.1.
# Running on Gtk version 2.20.1.
t/TreeModelBits.t ...................... ok
# MyOneRemovesAll remove() all
t/TreeModelFilter-Change.t ............. ok
t/TreeViewBits.t ....................... ok
t/Units-import.t ....................... ok
# Perl-Gtk2 version 1.247
# Perl-Glib version 1.280
# Compiled against Glib version 2.24.2.
# Running on Glib version 2.24.2.
# Compiled against Gtk version 2.20.1.
# Running on Gtk version 2.20.1.
# em=11, ex=7, char=7.591796875, digit=8
t/Units.t .............................. ok
# Perl-Gtk2 version 1.247
# Perl-Glib version 1.280
# Compiled against Glib version 2.24.2.
# Running on Glib version 2.24.2.
# Compiled against Gtk version 2.20.1.
# Running on Gtk version 2.20.1.
# wait_for_event(): 'map-event' ran 2 events/iterations
# toplevel at 0, 0
# wait_for_event(): 'size-allocate' ran 3 events/iterations
# layout win relative position 0,0
# toplevel at 0, 0
# layout at 0, 0
# main_iterations(): ran 1 events/iterations
# toplevel at 0, 0
# label at 20, 30
# wait_for_event(): 'map-event' ran 7 events/iterations
t/WidgetBits.t ......................... ok
# Perl-Gtk2 version 1.247
# Perl-Glib version 1.280
# Compiled against Glib version 2.24.2.
# Running on Glib version 2.24.2.
# Compiled against Gtk version 2.20.1.
# Running on Gtk version 2.20.1.
t/WidgetEvents.t ....................... ok
All tests successful.
Files=48, Tests=792, 6 wallclock secs ( 0.03 usr 0.46 sys + 2.32 cusr 1.66 csys = 4.47 CPU)
Result: PASS
------------------------------
PREREQUISITES
------------------------------
Prerequisite modules loaded:
requires:
Module Need Have
---------------------- ----- --------
Glib 0 1.280
Glib::Ex::FreezeNotify 1 15
Glib::Ex::SignalIds 1 15
Glib::Object::Subclass 0 0.03
Gtk2 1.200 1.247
Gtk2::Pango 0 0.01
perl 5.008 5.016002
Scope::Guard 0 0.20
build_requires:
Module Need Have
---------------------- ----- --------
ExtUtils::MakeMaker 0 6.63_02
configure_requires:
Module Need Have
---------------------- ----- --------
ExtUtils::MakeMaker 0 6.63_02
------------------------------
ENVIRONMENT AND OTHER CONTEXT
------------------------------
Environment variables:
AUTOMATED_TESTING = 1
LANG = ru_RU.utf8
PATH = /home/c/perl5/perlbrew/bin:/home/c/perl5/perlbrew/perls/5.16.2i/bin:/usr/local/bin:/usr/bin:/bin:/usr/local/games:/usr/games
PERL5LIB = /home/c/.cpan/build/Glib-Ex-ObjectBits-15-8S9mhn/blib/arch:/home/c/.cpan/build/Glib-Ex-ObjectBits-15-8S9mhn/blib/lib
PERL5OPT =
PERL5_CPANPLUS_IS_RUNNING = 29948
PERL5_CPAN_IS_RUNNING = 29948
PERL5_CPAN_IS_RUNNING_IN_RECURSION = 4184,29948
PERLBREW_MANPATH = /home/c/perl5/perlbrew/perls/5.16.2i/man
PERLBREW_PATH = /home/c/perl5/perlbrew/bin:/home/c/perl5/perlbrew/perls/5.16.2i/bin
PERLBREW_PERL = 5.16.2i
PERLBREW_ROOT = /home/c/perl5/perlbrew
PERLBREW_SKIP_INIT = 1
PERLBREW_VERSION = 0.58
PERL_CR_SMOKER_CURRENT = Gtk2-Ex-WidgetBits-48
PERL_EXTUTILS_AUTOINSTALL = --defaultdeps
PERL_MM_USE_DEFAULT = 1
SHELL = /bin/bash
TERM = xterm
Perl special variables (and OS-specific diagnostics, for MSWin32):
$^X = /home/c/perl5/perlbrew/perls/5.16.2i/bin/perl
$UID/$EUID = 1000 / 1000
$GID = 1000 24 25 27 29 30 44 46 108 109 115 1000 1001
$EGID = 1000 24 25 27 29 30 44 46 108 109 115 1000 1001
Perl module toolchain versions installed:
Module Have
------------------- --------
CPAN 2.00
CPAN::Meta 2.120921
Cwd 3.40
ExtUtils::CBuilder 0.280206
ExtUtils::Command 1.17
ExtUtils::Install 1.58
ExtUtils::MakeMaker 6.63_02
ExtUtils::Manifest 1.61
ExtUtils::ParseXS 3.16
File::Spec 3.40
JSON 2.53
JSON::PP 2.27200
Module::Build 0.4005
Module::Signature 0.70
Parse::CPAN::Meta 1.4404
Test::Harness 3.28
Test::More 0.98
YAML 0.84
YAML::Syck 1.22
version 0.9901
--
Summary of my perl5 (revision 5 version 16 subversion 2) configuration:
Platform:
osname=linux, osvers=2.6.32-5-686, archname=i686-linux-thread-multi
uname='linux deb1 2.6.32-5-686 #1 smp sun sep 23 09:49:36 utc 2012 i686 gnulinux '
config_args='-de -Dprefix=/home/c/perl5/perlbrew/perls/5.16.2i -Dusethreads -Aeval:scriptdir=/home/c/perl5/perlbrew/perls/5.16.2i/bin'
hint=recommended, useposix=true, d_sigaction=define
useithreads=define, usemultiplicity=define
useperlio=define, d_sfio=undef, uselargefiles=define, usesocks=undef
use64bitint=undef, use64bitall=undef, uselongdouble=undef
usemymalloc=n, bincompat5005=undef
Compiler:
cc='cc', ccflags ='-D_REENTRANT -D_GNU_SOURCE -fno-strict-aliasing -pipe -fstack-protector -I/usr/local/include -D_LARGEFILE_SOURCE -D_FILE_OFFSET_BITS=64',
optimize='-O2',
cppflags='-D_REENTRANT -D_GNU_SOURCE -fno-strict-aliasing -pipe -fstack-protector -I/usr/local/include'
ccversion='', gccversion='4.4.5', gccosandvers=''
intsize=4, longsize=4, ptrsize=4, doublesize=8, byteorder=1234
d_longlong=define, longlongsize=8, d_longdbl=define, longdblsize=12
ivtype='long', ivsize=4, nvtype='double', nvsize=8, Off_t='off_t', lseeksize=8
alignbytes=4, prototype=define
Linker and Libraries:
ld='cc', ldflags =' -fstack-protector -L/usr/local/lib'
libpth=/usr/local/lib /lib/../lib /usr/lib/../lib /lib /usr/lib /usr/lib/i486-linux-gnu /usr/lib64
libs=-lnsl -lgdbm -ldb -ldl -lm -lcrypt -lutil -lpthread -lc -lgdbm_compat
perllibs=-lnsl -ldl -lm -lcrypt -lutil -lpthread -lc
libc=/lib/libc-2.11.3.so, so=so, useshrplib=false, libperl=libperl.a
gnulibc_version='2.11.3'
Dynamic Linking:
dlsrc=dl_dlopen.xs, dlext=so, d_dlsymun=undef, ccdlflags='-Wl,-E'
cccdlflags='-fPIC', lddlflags='-shared -O2 -L/usr/local/lib -fstack-protector'
Characteristics of this binary (from libperl):
Compile-time options: HAS_TIMES MULTIPLICITY PERLIO_LAYERS
PERL_DONT_CREATE_GVSV PERL_IMPLICIT_CONTEXT
PERL_MALLOC_WRAP PERL_PRESERVE_IVUV USE_ITHREADS
USE_LARGE_FILES USE_LOCALE USE_LOCALE_COLLATE
USE_LOCALE_CTYPE USE_LOCALE_NUMERIC USE_PERLIO
USE_PERL_ATOF USE_REENTRANT_API
Built under linux
Compiled at Jan 26 2013 16:12:36
%ENV:
PERL5LIB="/home/c/.cpan/build/Glib-Ex-ObjectBits-15-8S9mhn/blib/arch:/home/c/.cpan/build/Glib-Ex-ObjectBits-15-8S9mhn/blib/lib"
PERL5OPT=""
PERL5_CPANPLUS_IS_RUNNING="29948"
PERL5_CPAN_IS_RUNNING="29948"
PERL5_CPAN_IS_RUNNING_IN_RECURSION="4184,29948"
PERLBREW_MANPATH="/home/c/perl5/perlbrew/perls/5.16.2i/man"
PERLBREW_PATH="/home/c/perl5/perlbrew/bin:/home/c/perl5/perlbrew/perls/5.16.2i/bin"
PERLBREW_PERL="5.16.2i"
PERLBREW_ROOT="/home/c/perl5/perlbrew"
PERLBREW_SKIP_INIT="1"
PERLBREW_VERSION="0.58"
PERL_CR_SMOKER_CURRENT="Gtk2-Ex-WidgetBits-48"
PERL_EXTUTILS_AUTOINSTALL="--defaultdeps"
PERL_MM_USE_DEFAULT="1"
@INC:
/home/c/.cpan/build/Glib-Ex-ObjectBits-15-8S9mhn/blib/arch
/home/c/.cpan/build/Glib-Ex-ObjectBits-15-8S9mhn/blib/lib
/home/c/perl5/perlbrew/perls/5.16.2i/lib/site_perl/5.16.2/i686-linux-thread-multi
/home/c/perl5/perlbrew/perls/5.16.2i/lib/site_perl/5.16.2
/home/c/perl5/perlbrew/perls/5.16.2i/lib/5.16.2/i686-linux-thread-multi
/home/c/perl5/perlbrew/perls/5.16.2i/lib/5.16.2
.