MooseX-AbstractFactory v0.004003 Perl 5 v5.39.6 x86_64-linux
- Status
- Pass
- From
- Andreas J. König (ANDK)
- Dist
-
MooseX-AbstractFactory v0.004003
- Platform
- Perl 5 v5.39.6 x86_64-linux
- Date
- 2024-01-14 13:06:17
- ID
- b4087b56-b2dd-11ee-9fc7-ae0b51b37f5c
This distribution has been tested as part of the CPAN Testers
project, supporting the Perl programming language. See
http://wiki.cpantesters.org/ for more information or email
questions to cpan-testers-discuss@perl.org
--
Dear Caleb Cushing,
This is a computer-generated report for MooseX-AbstractFactory-0.004003
on perl 5.39.6, created by CPAN-Reporter-1.2019.
Thank you for uploading your work to CPAN. Congratulations!
All tests were successful.
Sections of this report:
* Tester comments
* Program output
* Prerequisites
* Environment and other context
------------------------------
TESTER COMMENTS
------------------------------
Additional comments from tester:
this report is from an automated smoke testing program
and was not reviewed by a human for accuracy
------------------------------
PROGRAM OUTPUT
------------------------------
Output from '/usr/bin/make test':
PERL_DL_NONLAZY=1 "/tmp/basesmoker-reloperl-0IQx/bin/perl" "-MExtUtils::Command::MM" "-MTest::Harness" "-e" "undef *Test::Harness::Switches; test_harness(0, 'blib/lib', 'blib/arch')" t/*.t
Smartmatch is deprecated at (eval 177) line 8.
Smartmatch is deprecated at (eval 177) line 15.
Smartmatch is deprecated at (eval 178) line 8.
Smartmatch is deprecated at (eval 178) line 15.
Smartmatch is deprecated at (eval 179) line 8.
Smartmatch is deprecated at (eval 179) line 15.
Smartmatch is deprecated at (eval 180) line 11.
Smartmatch is deprecated at (eval 180) line 21.
t/00-compile.t ............. ok
#
# Versions for all modules listed in MYMETA.json (including optional ones):
# Version Module
# -------- ------------------------
# 2.150010 CPAN::Meta
# 2.143 CPAN::Meta::Requirements
# 7.70 ExtUtils::MakeMaker
# 3.90 File::Spec
# 3.91 File::Spec::Functions
# 1.55 IO::Handle
# 1.22 IPC::Open3
# 1.63 List::Util
# 0.016 Module::Runtime
# 2.2206 Moose
# 0.16 Moose::Autobox
# 2.2206 Moose::Exporter
# 2.2206 Moose::Meta::Class
# 2.2206 Moose::Role
# 0.017 Test::Fatal
# 2.2206 Test::Moose
# 1.302198 Test::More
# 0.31 Try::Tiny
# 1.13 strict
# 0.9930 version
# 1.67 warnings
t/00-report-prereqs.t ...... ok
Smartmatch is deprecated at (eval 192) line 8.
Smartmatch is deprecated at (eval 192) line 15.
Smartmatch is deprecated at (eval 193) line 8.
Smartmatch is deprecated at (eval 193) line 15.
Smartmatch is deprecated at (eval 194) line 8.
Smartmatch is deprecated at (eval 194) line 15.
Smartmatch is deprecated at (eval 195) line 11.
Smartmatch is deprecated at (eval 195) line 21.
t/accept_any_parameters.t .. ok
t/author-critic.t .......... skipped: these tests are for testing by the author
t/author-pod-spell.t ....... skipped: these tests are for testing by the author
t/author-test-eol.t ........ skipped: these tests are for testing by the author
Smartmatch is deprecated at (eval 190) line 8.
Smartmatch is deprecated at (eval 190) line 15.
Smartmatch is deprecated at (eval 191) line 8.
Smartmatch is deprecated at (eval 191) line 15.
Smartmatch is deprecated at (eval 192) line 8.
Smartmatch is deprecated at (eval 192) line 15.
Smartmatch is deprecated at (eval 193) line 11.
Smartmatch is deprecated at (eval 193) line 21.
t/factory.t ................ ok
Smartmatch is deprecated at (eval 192) line 8.
Smartmatch is deprecated at (eval 192) line 15.
Smartmatch is deprecated at (eval 193) line 8.
Smartmatch is deprecated at (eval 193) line 15.
Smartmatch is deprecated at (eval 194) line 8.
Smartmatch is deprecated at (eval 194) line 15.
Smartmatch is deprecated at (eval 195) line 11.
Smartmatch is deprecated at (eval 195) line 21.
t/factory_validate.t ....... ok
Smartmatch is deprecated at (eval 192) line 8.
Smartmatch is deprecated at (eval 192) line 15.
Smartmatch is deprecated at (eval 193) line 8.
Smartmatch is deprecated at (eval 193) line 15.
Smartmatch is deprecated at (eval 194) line 8.
Smartmatch is deprecated at (eval 194) line 15.
Smartmatch is deprecated at (eval 195) line 11.
Smartmatch is deprecated at (eval 195) line 21.
t/impl-does-arrayref.t ..... ok
Smartmatch is deprecated at (eval 190) line 8.
Smartmatch is deprecated at (eval 190) line 15.
Smartmatch is deprecated at (eval 191) line 8.
Smartmatch is deprecated at (eval 191) line 15.
Smartmatch is deprecated at (eval 192) line 8.
Smartmatch is deprecated at (eval 192) line 15.
Smartmatch is deprecated at (eval 193) line 11.
Smartmatch is deprecated at (eval 193) line 21.
t/override-get_imp.t ....... ok
Smartmatch is deprecated at (eval 190) line 8.
Smartmatch is deprecated at (eval 190) line 15.
Smartmatch is deprecated at (eval 191) line 8.
Smartmatch is deprecated at (eval 191) line 15.
Smartmatch is deprecated at (eval 192) line 8.
Smartmatch is deprecated at (eval 192) line 15.
Smartmatch is deprecated at (eval 193) line 11.
Smartmatch is deprecated at (eval 193) line 21.
t/override-validate-imp.t .. ok
t/release-cpan-changes.t ... skipped: these tests are for release candidate testing
t/release-distmeta.t ....... skipped: these tests are for release candidate testing
t/release-meta-json.t ...... skipped: these tests are for release candidate testing
t/release-mojibake.t ....... skipped: these tests are for release candidate testing
t/release-pod-coverage.t ... skipped: these tests are for release candidate testing
t/release-portability.t .... skipped: these tests are for release candidate testing
t/release-unused-vars.t .... skipped: these tests are for release candidate testing
All tests successful.
Files=18, Tests=24, 3 wallclock secs ( 0.05 usr 0.04 sys + 2.70 cusr 0.38 csys = 3.17 CPU)
Result: PASS
------------------------------
PREREQUISITES
------------------------------
Prerequisite modules loaded:
requires:
Module Need Have
--------------------- ---- --------
Module::Runtime 0 0.016
Moose 0 2.2206
Moose::Autobox 0 0.16
Moose::Exporter 0 2.2206
Moose::Meta::Class 0 2.2206
Moose::Role 0 2.2206
strict 0 1.13
Try::Tiny 0 0.31
warnings 0 1.67
build_requires:
Module Need Have
--------------------- ---- --------
ExtUtils::MakeMaker 0 7.70
File::Spec 0 3.90
File::Spec::Functions 0 3.91
IO::Handle 0 1.55
IPC::Open3 0 1.22
List::Util 0 1.63
Test::Fatal 0 0.017
Test::Moose 0 2.2206
Test::More 0 1.302198
version 0 0.9930
configure_requires:
Module Need Have
--------------------- ---- --------
ExtUtils::MakeMaker 6.30 7.70
------------------------------
ENVIRONMENT AND OTHER CONTEXT
------------------------------
Environment variables:
AUTOMATED_TESTING = 1
LANG = en_US.UTF-8
LC_ADDRESS = de_DE.UTF-8
LC_IDENTIFICATION = de_DE.UTF-8
LC_MEASUREMENT = de_DE.UTF-8
LC_MONETARY = de_DE.UTF-8
LC_NAME = de_DE.UTF-8
LC_NUMERIC = de_DE.UTF-8
LC_PAPER = de_DE.UTF-8
LC_TELEPHONE = de_DE.UTF-8
LC_TIME = de_DE.UTF-8
PATH = /home/sand/bin:/usr/local/bin:/usr/local/sbin:/usr/sbin:/usr/bin:/sbin:/bin:/usr/games:/usr/local/games:/snap/bin:/usr/local/perl/bin:/usr/X11/bin
PERL = /tmp/basesmoker-reloperl-0IQx/bin/perl
PERL5LIB = /tmp/loop_over_bdir-2794-EWvrxu/perl-Hardware-UPS-Perl-0.43-0/blib/arch:/tmp/loop_over_bdir-2794-EWvrxu/perl-Hardware-UPS-Perl-0.43-0/blib/lib
PERL5OPT =
PERL5_CPANPLUS_IS_RUNNING = 2802
PERL5_CPAN_IS_RUNNING = 2802
PERL_CANARY_STABILITY_NOPROMPT = 1
PERL_MM_USE_DEFAULT = 1
PERL_USE_UNSAFE_INC = 1
SHELL = /usr/bin/zsh
TERM = screen
Perl special variables (and OS-specific diagnostics, for MSWin32):
$^X = /tmp/basesmoker-reloperl-0IQx/bin/perl
$UID/$EUID = 1005 / 1005
$GID = 1005 1005
$EGID = 1005 1005
Perl module toolchain versions installed:
Module Have
------------------- --------
CPAN 2.36
CPAN::Meta 2.150010
Cwd 3.90
ExtUtils::CBuilder 0.280240
ExtUtils::Command 7.70
ExtUtils::Install 2.22
ExtUtils::MakeMaker 7.70
ExtUtils::Manifest 1.75
ExtUtils::ParseXS 3.51
File::Spec 3.90
JSON 4.10
JSON::PP 4.16
Module::Build 0.4234
Module::Signature 0.88
Parse::CPAN::Meta 2.150010
Test2 1.302198
Test::Harness 3.48
Test::More 1.302198
YAML 1.31
YAML::Syck 1.34
version 0.9930
--
Summary of my perl5 (revision 5 version 39 subversion 6) configuration:
Commit id: 19d146d89647634621ee2291d0baa267addfef3d
Platform:
osname=linux
osvers=6.2.0-39-generic
archname=x86_64-linux
uname='linux k93jammy 6.2.0-39-generic #40~22.04.1-ubuntu smp preempt_dynamic thu nov 16 10:53:04 utc 2 x86_64 x86_64 x86_64 gnulinux '
config_args='-Dprefix=/home/sand/src/perl/repoperls/installed-perls/host/k93jammy/v5.39.6/6567 -Dmyhostname=k93jammy -Dinstallusrbinperl=n -Uversiononly -Dusedevel -des -Ui_db -Dlibswanted=cl pthread socket inet nsl gdbm dbm malloc dl ld sun m crypt sec util c cposix posix ucb BSD gdbm_compat -Uuseithreads -Uuselongdouble -DEBUGGING=-g'
hint=recommended
useposix=true
d_sigaction=define
useithreads=undef
usemultiplicity=undef
use64bitint=define
use64bitall=define
uselongdouble=undef
usemymalloc=n
default_inc_excludes_dot=define
Compiler:
cc='cc'
ccflags ='-fwrapv -fno-strict-aliasing -pipe -fstack-protector-strong -I/usr/local/include -D_LARGEFILE_SOURCE -D_FILE_OFFSET_BITS=64'
optimize='-O2 -g'
cppflags='-fwrapv -fno-strict-aliasing -pipe -fstack-protector-strong -I/usr/local/include'
ccversion=''
gccversion='11.4.0'
gccosandvers=''
intsize=4
longsize=8
ptrsize=8
doublesize=8
byteorder=12345678
doublekind=3
d_longlong=define
longlongsize=8
d_longdbl=define
longdblsize=16
longdblkind=3
ivtype='long'
ivsize=8
nvtype='double'
nvsize=8
Off_t='off_t'
lseeksize=8
alignbytes=8
prototype=define
Linker and Libraries:
ld='cc'
ldflags =' -fstack-protector-strong -L/usr/local/lib'
libpth=/usr/local/lib /usr/lib/x86_64-linux-gnu /usr/lib /usr/lib64
libs=-lpthread -lnsl -ldl -lm -lcrypt -lutil -lc
perllibs=-lpthread -lnsl -ldl -lm -lcrypt -lutil -lc
libc=/lib/x86_64-linux-gnu/libc.so.6
so=so
useshrplib=false
libperl=libperl.a
gnulibc_version='2.35'
Dynamic Linking:
dlsrc=dl_dlopen.xs
dlext=so
d_dlsymun=undef
ccdlflags='-Wl,-E'
cccdlflags='-fPIC'
lddlflags='-shared -O2 -g -L/usr/local/lib -fstack-protector-strong'
Characteristics of this binary (from libperl):
Compile-time options:
HAS_LONG_DOUBLE
HAS_STRTOLD
HAS_TIMES
PERLIO_LAYERS
PERL_COPY_ON_WRITE
PERL_DONT_CREATE_GVSV
PERL_HASH_FUNC_SIPHASH13
PERL_HASH_USE_SBOX32
PERL_MALLOC_WRAP
PERL_OP_PARENT
PERL_PRESERVE_IVUV
PERL_USE_DEVEL
PERL_USE_SAFE_PUTENV
USE_64_BIT_ALL
USE_64_BIT_INT
USE_LARGE_FILES
USE_LOCALE
USE_LOCALE_COLLATE
USE_LOCALE_CTYPE
USE_LOCALE_NUMERIC
USE_LOCALE_TIME
USE_PERLIO
USE_PERL_ATOF
Built under linux
Compiled at Dec 31 2023 09:56:34
%ENV:
PERL="/tmp/basesmoker-reloperl-0IQx/bin/perl"
PERL5LIB="/tmp/loop_over_bdir-2794-EWvrxu/perl-Hardware-UPS-Perl-0.43-0/blib/arch:/tmp/loop_over_bdir-2794-EWvrxu/perl-Hardware-UPS-Perl-0.43-0/blib/lib"
PERL5OPT=""
PERL5_CPANPLUS_IS_RUNNING="2802"
PERL5_CPAN_IS_RUNNING="2802"
PERL_CANARY_STABILITY_NOPROMPT="1"
PERL_MM_USE_DEFAULT="1"
PERL_USE_UNSAFE_INC="1"
@INC:
/tmp/loop_over_bdir-2794-EWvrxu/perl-Hardware-UPS-Perl-0.43-0/blib/arch
/tmp/loop_over_bdir-2794-EWvrxu/perl-Hardware-UPS-Perl-0.43-0/blib/lib
/home/sand/src/perl/repoperls/installed-perls/host/k93jammy/v5.39.6/6567/lib/site_perl/5.39.6/x86_64-linux
/home/sand/src/perl/repoperls/installed-perls/host/k93jammy/v5.39.6/6567/lib/site_perl/5.39.6
/home/sand/src/perl/repoperls/installed-perls/host/k93jammy/v5.39.6/6567/lib/5.39.6/x86_64-linux
/home/sand/src/perl/repoperls/installed-perls/host/k93jammy/v5.39.6/6567/lib/5.39.6
.