Report for Data-FormValidator-4.81

Back
From: metabase:user:838e5b0a-2bb6-1016-a696-43a2537fa0c6
Subject: PASS Data-FormValidator-4.81 v5.21.7 GNU/Linux
Date: 2014-12-27T20:41:15Z

This distribution has been tested as part of the CPAN Testers
project, supporting the Perl programming language.  See
http://wiki.cpantesters.org/ for more information or email
questions to cpan-testers-discuss@perl.org


--
Dear Mark Stosberg,

This is a computer-generated report for Data-FormValidator-4.81
on perl 5.21.7, created by CPAN-Reporter-1.2011.

Thank you for uploading your work to CPAN.  Congratulations!
All tests were successful.

Sections of this report:

    * Tester comments
    * Program output
    * Prerequisites
    * Environment and other context

------------------------------
TESTER COMMENTS
------------------------------

Additional comments from tester:

this report is from an automated smoke testing program
and was not reviewed by a human for accuracy

------------------------------
PROGRAM OUTPUT
------------------------------

Output from './Build test':

t/00_base.t .............................. ok
t/02_code_ref.t .......................... ok
CGI::param called in list context from package Data::FormValidator::Results line 1074, this can lead to vulnerabilities. See the warning in "Fetching the value or values of a single named parameter" at /home/perluser/.cpan/build/CGI-4.13-QCDICV/blib/lib/CGI.pm line 437.
t/03_dependency.t ........................ ok
t/04_arrayify_undef.t .................... ok
t/05_valid_ip_address.t .................. ok
t/06_regexp_map.t ........................ ok
t/09_require_some.t ...................... ok
t/11_procedural_match.t .................. ok
t/13_validator_packages.t ................ ok
t/15_literal_param_constraints.t ......... ok
CGI::param called in list context from package Data::FormValidator::Results line 1074, this can lead to vulnerabilities. See the warning in "Fetching the value or values of a single named parameter" at /home/perluser/.cpan/build/CGI-4.13-QCDICV/blib/lib/CGI.pm line 437.
t/16_cgi_object.t ........................ ok
t/17_multi_valued_keys.t ................. ok
t/18_constraint_refs.t ................... ok
t/19_refs_as_values.t .................... ok
t/20_careful_exception_handling.t ........ ok
t/21_multiple_fields.t ................... ok
t/25_results.t ........................... ok
t/26_qr.t ................................ ok
t/27_qualify_ref_happy_death.t ........... ok
t/28_defaults_for_new.t .................. ok
t/30_filter_definedness.t ................ ok
t/FV_length.t ............................ ok
t/any_errors.t ........................... ok
t/check_profile_syntax.t ................. ok
t/closure_msgs.t ......................... ok
t/constraint_method.t .................... ok
t/constraint_method_string.t ............. ok
t/constraint_method_zero.t ............... ok
t/constraint_regexp_map_profile_reuse.t .. ok
t/constraints_builtin.t .................. ok
t/constraints_builtin_closure.t .......... ok
t/constraints_factory.t .................. ok
t/constraints_invalid_once_only.t ........ ok
t/constraints_num_values.t ............... ok
t/constraints_regexp_map_interaction.t ... ok
t/constraints_reuse.t .................... ok
t/credit_card.t .......................... ok
t/dates.t ................................ ok
t/dates_closure.t ........................ ok
t/dependency_coderef.t ................... ok
CGI::param called in list context from package Data::FormValidator::Results line 1074, this can lead to vulnerabilities. See the warning in "Fetching the value or values of a single named parameter" at /home/perluser/.cpan/build/CGI-4.13-QCDICV/blib/lib/CGI.pm line 437.
CGI::param called in list context from package Data::FormValidator::Results line 1074, this can lead to vulnerabilities. See the warning in "Fetching the value or values of a single named parameter" at /home/perluser/.cpan/build/CGI-4.13-QCDICV/blib/lib/CGI.pm line 437.
t/dependency_groups.t .................... ok
t/filter_constraints.t ................... ok
t/filters_builtin.t ...................... ok
t/filters_shouldnt_modify.t .............. ok
t/get_filtered_data.t .................... ok
CGI::param called in list context from package Data::FormValidator::Results line 1074, this can lead to vulnerabilities. See the warning in "Fetching the value or values of a single named parameter" at /home/perluser/.cpan/build/CGI-4.13-QCDICV/blib/lib/CGI.pm line 437.
CGI::param called in list context from package Data::FormValidator::Results line 1074, this can lead to vulnerabilities. See the warning in "Fetching the value or values of a single named parameter" at /home/perluser/.cpan/build/CGI-4.13-QCDICV/blib/lib/CGI.pm line 437.
t/get_input_data.t ....................... ok
CGI::param called in list context from package Data::FormValidator::Results line 1074, this can lead to vulnerabilities. See the warning in "Fetching the value or values of a single named parameter" at /home/perluser/.cpan/build/CGI-4.13-QCDICV/blib/lib/CGI.pm line 437.
CGI::param called in list context from package Data::FormValidator::Results line 1074, this can lead to vulnerabilities. See the warning in "Fetching the value or values of a single named parameter" at /home/perluser/.cpan/build/CGI-4.13-QCDICV/blib/lib/CGI.pm line 437.
CGI::param called in list context from package Data::FormValidator::Results line 1074, this can lead to vulnerabilities. See the warning in "Fetching the value or values of a single named parameter" at /home/perluser/.cpan/build/CGI-4.13-QCDICV/blib/lib/CGI.pm line 437.
CGI::param called in list context from package Data::FormValidator::Results line 1074, this can lead to vulnerabilities. See the warning in "Fetching the value or values of a single named parameter" at /home/perluser/.cpan/build/CGI-4.13-QCDICV/blib/lib/CGI.pm line 437.
CGI::param called in list context from package Data::FormValidator::Results line 1074, this can lead to vulnerabilities. See the warning in "Fetching the value or values of a single named parameter" at /home/perluser/.cpan/build/CGI-4.13-QCDICV/blib/lib/CGI.pm line 437.
CGI::param called in list context from package Data::FormValidator::Results line 1074, this can lead to vulnerabilities. See the warning in "Fetching the value or values of a single named parameter" at /home/perluser/.cpan/build/CGI-4.13-QCDICV/blib/lib/CGI.pm line 437.
CGI::param called in list context from package Data::FormValidator::Results line 1074, this can lead to vulnerabilities. See the warning in "Fetching the value or values of a single named parameter" at /home/perluser/.cpan/build/CGI-4.13-QCDICV/blib/lib/CGI.pm line 437.
CGI::param called in list context from package Data::FormValidator::Results line 1074, this can lead to vulnerabilities. See the warning in "Fetching the value or values of a single named parameter" at /home/perluser/.cpan/build/CGI-4.13-QCDICV/blib/lib/CGI.pm line 437.
CGI::param called in list context from package Data::FormValidator::Results line 1074, this can lead to vulnerabilities. See the warning in "Fetching the value or values of a single named parameter" at /home/perluser/.cpan/build/CGI-4.13-QCDICV/blib/lib/CGI.pm line 437.
CGI::param called in list context from package Data::FormValidator::Results line 1074, this can lead to vulnerabilities. See the warning in "Fetching the value or values of a single named parameter" at /home/perluser/.cpan/build/CGI-4.13-QCDICV/blib/lib/CGI.pm line 437.
CGI::param called in list context from package Data::FormValidator::Results line 1074, this can lead to vulnerabilities. See the warning in "Fetching the value or values of a single named parameter" at /home/perluser/.cpan/build/CGI-4.13-QCDICV/blib/lib/CGI.pm line 437.
CGI::param called in list context from package Data::FormValidator::Results line 1074, this can lead to vulnerabilities. See the warning in "Fetching the value or values of a single named parameter" at /home/perluser/.cpan/build/CGI-4.13-QCDICV/blib/lib/CGI.pm line 437.
CGI::param called in list context from package Data::FormValidator::Results line 1074, this can lead to vulnerabilities. See the warning in "Fetching the value or values of a single named parameter" at /home/perluser/.cpan/build/CGI-4.13-QCDICV/blib/lib/CGI.pm line 437.
CGI::param called in list context from package Data::FormValidator::Results line 1074, this can lead to vulnerabilities. See the warning in "Fetching the value or values of a single named parameter" at /home/perluser/.cpan/build/CGI-4.13-QCDICV/blib/lib/CGI.pm line 437.
CGI::param called in list context from package Data::FormValidator::Results line 1074, this can lead to vulnerabilities. See the warning in "Fetching the value or values of a single named parameter" at /home/perluser/.cpan/build/CGI-4.13-QCDICV/blib/lib/CGI.pm line 437.
t/missing_optional.t ..................... ok
t/msgs.t ................................. ok
t/multiple_constraints.t ................. ok
CGI::param called in list context from package Data::FormValidator::Results line 1074, this can lead to vulnerabilities. See the warning in "Fetching the value or values of a single named parameter" at /home/perluser/.cpan/build/CGI-4.13-QCDICV/blib/lib/CGI.pm line 437.
CGI::param called in list context from package Data::FormValidator::Results line 1074, this can lead to vulnerabilities. See the warning in "Fetching the value or values of a single named parameter" at /home/perluser/.cpan/build/CGI-4.13-QCDICV/blib/lib/CGI.pm line 437.
CGI::param called in list context from package Data::FormValidator::Results line 1074, this can lead to vulnerabilities. See the warning in "Fetching the value or values of a single named parameter" at /home/perluser/.cpan/build/CGI-4.13-QCDICV/blib/lib/CGI.pm line 437.
CGI::param called in list context from package Data::FormValidator::Results line 1074, this can lead to vulnerabilities. See the warning in "Fetching the value or values of a single named parameter" at /home/perluser/.cpan/build/CGI-4.13-QCDICV/blib/lib/CGI.pm line 437.
CGI::param called in list context from package Data::FormValidator::Results line 1074, this can lead to vulnerabilities. See the warning in "Fetching the value or values of a single named parameter" at /home/perluser/.cpan/build/CGI-4.13-QCDICV/blib/lib/CGI.pm line 437.
CGI::param called in list context from package Data::FormValidator::Results line 1074, this can lead to vulnerabilities. See the warning in "Fetching the value or values of a single named parameter" at /home/perluser/.cpan/build/CGI-4.13-QCDICV/blib/lib/CGI.pm line 437.
t/params_not_mentioned.t ................. ok
t/pod.t .................................. ok
t/procedural_valid.t ..................... ok
t/profile_checking.t ..................... ok
t/regexp_common.t ........................ ok
t/regexp_common_closure.t ................ ok
t/rename_builtin_constraints.t ........... ok
t/results_success.t ...................... ok
t/simple.t ............................... ok
t/tt_and_overload.t ...................... skipped: Template Toolkit required
t/undefined_arrayref.t ................... ok
t/unknown.t .............................. ok
t/untaint.t .............................. ok
# Skipping CGI::Simple Tests
# testing with CGI.pm version: 4.13
# Running tests with 
# CGI
CGI::param called in list context from package Data::FormValidator::Results line 1074, this can lead to vulnerabilities. See the warning in "Fetching the value or values of a single named parameter" at /home/perluser/.cpan/build/CGI-4.13-QCDICV/blib/lib/CGI.pm line 437.
CGI::param called in list context from package Data::FormValidator::Results line 1074, this can lead to vulnerabilities. See the warning in "Fetching the value or values of a single named parameter" at /home/perluser/.cpan/build/CGI-4.13-QCDICV/blib/lib/CGI.pm line 437.
CGI::param called in list context from package Data::FormValidator::Results line 1074, this can lead to vulnerabilities. See the warning in "Fetching the value or values of a single named parameter" at /home/perluser/.cpan/build/CGI-4.13-QCDICV/blib/lib/CGI.pm line 437.
CGI::param called in list context from package Data::FormValidator::Results line 1074, this can lead to vulnerabilities. See the warning in "Fetching the value or values of a single named parameter" at /home/perluser/.cpan/build/CGI-4.13-QCDICV/blib/lib/CGI.pm line 437.
CGI::param called in list context from package Data::FormValidator::Results line 1074, this can lead to vulnerabilities. See the warning in "Fetching the value or values of a single named parameter" at /home/perluser/.cpan/build/CGI-4.13-QCDICV/blib/lib/CGI.pm line 437.
CGI::param called in list context from package Data::FormValidator::Results line 1074, this can lead to vulnerabilities. See the warning in "Fetching the value or values of a single named parameter" at /home/perluser/.cpan/build/CGI-4.13-QCDICV/blib/lib/CGI.pm line 437.
CGI::param called in list context from package Data::FormValidator::Results line 1074, this can lead to vulnerabilities. See the warning in "Fetching the value or values of a single named parameter" at /home/perluser/.cpan/build/CGI-4.13-QCDICV/blib/lib/CGI.pm line 437.
CGI::param called in list context from package Data::FormValidator::Results line 1074, this can lead to vulnerabilities. See the warning in "Fetching the value or values of a single named parameter" at /home/perluser/.cpan/build/CGI-4.13-QCDICV/blib/lib/CGI.pm line 437.
CGI::param called in list context from package Data::FormValidator::Results line 1074, this can lead to vulnerabilities. See the warning in "Fetching the value or values of a single named parameter" at /home/perluser/.cpan/build/CGI-4.13-QCDICV/blib/lib/CGI.pm line 437.
CGI::param called in list context from package Data::FormValidator::Results line 1074, this can lead to vulnerabilities. See the warning in "Fetching the value or values of a single named parameter" at /home/perluser/.cpan/build/CGI-4.13-QCDICV/blib/lib/CGI.pm line 437.
CGI::param called in list context from package Data::FormValidator::Results line 1074, this can lead to vulnerabilities. See the warning in "Fetching the value or values of a single named parameter" at /home/perluser/.cpan/build/CGI-4.13-QCDICV/blib/lib/CGI.pm line 437.
CGI::param called in list context from package Data::FormValidator::Results line 1074, this can lead to vulnerabilities. See the warning in "Fetching the value or values of a single named parameter" at /home/perluser/.cpan/build/CGI-4.13-QCDICV/blib/lib/CGI.pm line 437.
CGI::param called in list context from package Data::FormValidator::Results line 1074, this can lead to vulnerabilities. See the warning in "Fetching the value or values of a single named parameter" at /home/perluser/.cpan/build/CGI-4.13-QCDICV/blib/lib/CGI.pm line 437.
CGI::param called in list context from package Data::FormValidator::Results line 1074, this can lead to vulnerabilities. See the warning in "Fetching the value or values of a single named parameter" at /home/perluser/.cpan/build/CGI-4.13-QCDICV/blib/lib/CGI.pm line 437.
CGI::param called in list context from package Data::FormValidator::Results line 1074, this can lead to vulnerabilities. See the warning in "Fetching the value or values of a single named parameter" at /home/perluser/.cpan/build/CGI-4.13-QCDICV/blib/lib/CGI.pm line 437.
CGI::param called in list context from package Data::FormValidator::Results line 1074, this can lead to vulnerabilities. See the warning in "Fetching the value or values of a single named parameter" at /home/perluser/.cpan/build/CGI-4.13-QCDICV/blib/lib/CGI.pm line 437.
CGI::param called in list context from package Data::FormValidator::Results line 1074, this can lead to vulnerabilities. See the warning in "Fetching the value or values of a single named parameter" at /home/perluser/.cpan/build/CGI-4.13-QCDICV/blib/lib/CGI.pm line 437.
CGI::param called in list context from package Data::FormValidator::Results line 1074, this can lead to vulnerabilities. See the warning in "Fetching the value or values of a single named parameter" at /home/perluser/.cpan/build/CGI-4.13-QCDICV/blib/lib/CGI.pm line 437.
CGI::param called in list context from package Data::FormValidator::Results line 1074, this can lead to vulnerabilities. See the warning in "Fetching the value or values of a single named parameter" at /home/perluser/.cpan/build/CGI-4.13-QCDICV/blib/lib/CGI.pm line 437.
CGI::param called in list context from package Data::FormValidator::Results line 1074, this can lead to vulnerabilities. See the warning in "Fetching the value or values of a single named parameter" at /home/perluser/.cpan/build/CGI-4.13-QCDICV/blib/lib/CGI.pm line 437.
CGI::param called in list context from package Data::FormValidator::Results line 1074, this can lead to vulnerabilities. See the warning in "Fetching the value or values of a single named parameter" at /home/perluser/.cpan/build/CGI-4.13-QCDICV/blib/lib/CGI.pm line 437.
CGI::param called in list context from package Data::FormValidator::Results line 1074, this can lead to vulnerabilities. See the warning in "Fetching the value or values of a single named parameter" at /home/perluser/.cpan/build/CGI-4.13-QCDICV/blib/lib/CGI.pm line 437.
CGI::param called in list context from package Data::FormValidator::Results line 1074, this can lead to vulnerabilities. See the warning in "Fetching the value or values of a single named parameter" at /home/perluser/.cpan/build/CGI-4.13-QCDICV/blib/lib/CGI.pm line 437.
CGI::param called in list context from package Data::FormValidator::Results line 1074, this can lead to vulnerabilities. See the warning in "Fetching the value or values of a single named parameter" at /home/perluser/.cpan/build/CGI-4.13-QCDICV/blib/lib/CGI.pm line 437.
CGI::param called in list context from package Data::FormValidator::Results line 1074, this can lead to vulnerabilities. See the warning in "Fetching the value or values of a single named parameter" at /home/perluser/.cpan/build/CGI-4.13-QCDICV/blib/lib/CGI.pm line 437.
CGI::param called in list context from package Data::FormValidator::Results line 1074, this can lead to vulnerabilities. See the warning in "Fetching the value or values of a single named parameter" at /home/perluser/.cpan/build/CGI-4.13-QCDICV/blib/lib/CGI.pm line 437.
CGI::param called in list context from package Data::FormValidator::Results line 1074, this can lead to vulnerabilities. See the warning in "Fetching the value or values of a single named parameter" at /home/perluser/.cpan/build/CGI-4.13-QCDICV/blib/lib/CGI.pm line 437.
CGI::param called in list context from package Data::FormValidator::Results line 1074, this can lead to vulnerabilities. See the warning in "Fetching the value or values of a single named parameter" at /home/perluser/.cpan/build/CGI-4.13-QCDICV/blib/lib/CGI.pm line 437.
CGI::param called in list context from package Data::FormValidator::Results line 1074, this can lead to vulnerabilities. See the warning in "Fetching the value or values of a single named parameter" at /home/perluser/.cpan/build/CGI-4.13-QCDICV/blib/lib/CGI.pm line 437.
CGI::param called in list context from package Data::FormValidator::Results line 1074, this can lead to vulnerabilities. See the warning in "Fetching the value or values of a single named parameter" at /home/perluser/.cpan/build/CGI-4.13-QCDICV/blib/lib/CGI.pm line 437.
CGI::param called in list context from package Data::FormValidator::Results line 1074, this can lead to vulnerabilities. See the warning in "Fetching the value or values of a single named parameter" at /home/perluser/.cpan/build/CGI-4.13-QCDICV/blib/lib/CGI.pm line 437.
CGI::param called in list context from package Data::FormValidator::Results line 1074, this can lead to vulnerabilities. See the warning in "Fetching the value or values of a single named parameter" at /home/perluser/.cpan/build/CGI-4.13-QCDICV/blib/lib/CGI.pm line 437.
CGI::param called in list context from package Data::FormValidator::Results line 1074, this can lead to vulnerabilities. See the warning in "Fetching the value or values of a single named parameter" at /home/perluser/.cpan/build/CGI-4.13-QCDICV/blib/lib/CGI.pm line 437.
CGI::param called in list context from package Data::FormValidator::Results line 1074, this can lead to vulnerabilities. See the warning in "Fetching the value or values of a single named parameter" at /home/perluser/.cpan/build/CGI-4.13-QCDICV/blib/lib/CGI.pm line 437.
CGI::param called in list context from package Data::FormValidator::Results line 1074, this can lead to vulnerabilities. See the warning in "Fetching the value or values of a single named parameter" at /home/perluser/.cpan/build/CGI-4.13-QCDICV/blib/lib/CGI.pm line 437.
CGI::param called in list context from package Data::FormValidator::Results line 1074, this can lead to vulnerabilities. See the warning in "Fetching the value or values of a single named parameter" at /home/perluser/.cpan/build/CGI-4.13-QCDICV/blib/lib/CGI.pm line 437.
CGI::param called in list context from package Data::FormValidator::Results line 1074, this can lead to vulnerabilities. See the warning in "Fetching the value or values of a single named parameter" at /home/perluser/.cpan/build/CGI-4.13-QCDICV/blib/lib/CGI.pm line 437.
CGI::param called in list context from package Data::FormValidator::Results line 1074, this can lead to vulnerabilities. See the warning in "Fetching the value or values of a single named parameter" at /home/perluser/.cpan/build/CGI-4.13-QCDICV/blib/lib/CGI.pm line 437.
CGI::param called in list context from package Data::FormValidator::Results line 1074, this can lead to vulnerabilities. See the warning in "Fetching the value or values of a single named parameter" at /home/perluser/.cpan/build/CGI-4.13-QCDICV/blib/lib/CGI.pm line 437.
CGI::param called in list context from package Data::FormValidator::Results line 1074, this can lead to vulnerabilities. See the warning in "Fetching the value or values of a single named parameter" at /home/perluser/.cpan/build/CGI-4.13-QCDICV/blib/lib/CGI.pm line 437.
CGI::param called in list context from package Data::FormValidator::Results line 1074, this can lead to vulnerabilities. See the warning in "Fetching the value or values of a single named parameter" at /home/perluser/.cpan/build/CGI-4.13-QCDICV/blib/lib/CGI.pm line 437.
CGI::param called in list context from package Data::FormValidator::Results line 1074, this can lead to vulnerabilities. See the warning in "Fetching the value or values of a single named parameter" at /home/perluser/.cpan/build/CGI-4.13-QCDICV/blib/lib/CGI.pm line 437.
CGI::param called in list context from package Data::FormValidator::Results line 1074, this can lead to vulnerabilities. See the warning in "Fetching the value or values of a single named parameter" at /home/perluser/.cpan/build/CGI-4.13-QCDICV/blib/lib/CGI.pm line 437.
CGI::param called in list context from package Data::FormValidator::Results line 1074, this can lead to vulnerabilities. See the warning in "Fetching the value or values of a single named parameter" at /home/perluser/.cpan/build/CGI-4.13-QCDICV/blib/lib/CGI.pm line 437.
CGI::param called in list context from package Data::FormValidator::Results line 1074, this can lead to vulnerabilities. See the warning in "Fetching the value or values of a single named parameter" at /home/perluser/.cpan/build/CGI-4.13-QCDICV/blib/lib/CGI.pm line 437.
CGI::param called in list context from package Data::FormValidator::Results line 1074, this can lead to vulnerabilities. See the warning in "Fetching the value or values of a single named parameter" at /home/perluser/.cpan/build/CGI-4.13-QCDICV/blib/lib/CGI.pm line 437.
CGI::param called in list context from package Data::FormValidator::Results line 1074, this can lead to vulnerabilities. See the warning in "Fetching the value or values of a single named parameter" at /home/perluser/.cpan/build/CGI-4.13-QCDICV/blib/lib/CGI.pm line 437.
CGI::param called in list context from package Data::FormValidator::Results line 1074, this can lead to vulnerabilities. See the warning in "Fetching the value or values of a single named parameter" at /home/perluser/.cpan/build/CGI-4.13-QCDICV/blib/lib/CGI.pm line 437.
CGI::param called in list context from package Data::FormValidator::Results line 1074, this can lead to vulnerabilities. See the warning in "Fetching the value or values of a single named parameter" at /home/perluser/.cpan/build/CGI-4.13-QCDICV/blib/lib/CGI.pm line 437.
CGI::param called in list context from package Data::FormValidator::Results line 1074, this can lead to vulnerabilities. See the warning in "Fetching the value or values of a single named parameter" at /home/perluser/.cpan/build/CGI-4.13-QCDICV/blib/lib/CGI.pm line 437.
CGI::param called in list context from package Data::FormValidator::Results line 1074, this can lead to vulnerabilities. See the warning in "Fetching the value or values of a single named parameter" at /home/perluser/.cpan/build/CGI-4.13-QCDICV/blib/lib/CGI.pm line 437.
CGI::param called in list context from package Data::FormValidator::Results line 1074, this can lead to vulnerabilities. See the warning in "Fetching the value or values of a single named parameter" at /home/perluser/.cpan/build/CGI-4.13-QCDICV/blib/lib/CGI.pm line 437.
CGI::param called in list context from package Data::FormValidator::Results line 1074, this can lead to vulnerabilities. See the warning in "Fetching the value or values of a single named parameter" at /home/perluser/.cpan/build/CGI-4.13-QCDICV/blib/lib/CGI.pm line 437.
CGI::param called in list context from package Data::FormValidator::Results line 1074, this can lead to vulnerabilities. See the warning in "Fetching the value or values of a single named parameter" at /home/perluser/.cpan/build/CGI-4.13-QCDICV/blib/lib/CGI.pm line 437.
CGI::param called in list context from package Data::FormValidator::Results line 1074, this can lead to vulnerabilities. See the warning in "Fetching the value or values of a single named parameter" at /home/perluser/.cpan/build/CGI-4.13-QCDICV/blib/lib/CGI.pm line 437.
CGI::param called in list context from package Data::FormValidator::Results line 1074, this can lead to vulnerabilities. See the warning in "Fetching the value or values of a single named parameter" at /home/perluser/.cpan/build/CGI-4.13-QCDICV/blib/lib/CGI.pm line 437.
CGI::param called in list context from package Data::FormValidator::Results line 1074, this can lead to vulnerabilities. See the warning in "Fetching the value or values of a single named parameter" at /home/perluser/.cpan/build/CGI-4.13-QCDICV/blib/lib/CGI.pm line 437.
CGI::param called in list context from package Data::FormValidator::Results line 1074, this can lead to vulnerabilities. See the warning in "Fetching the value or values of a single named parameter" at /home/perluser/.cpan/build/CGI-4.13-QCDICV/blib/lib/CGI.pm line 437.
CGI::param called in list context from package Data::FormValidator::Results line 1074, this can lead to vulnerabilities. See the warning in "Fetching the value or values of a single named parameter" at /home/perluser/.cpan/build/CGI-4.13-QCDICV/blib/lib/CGI.pm line 437.
CGI::param called in list context from package Data::FormValidator::Results line 1074, this can lead to vulnerabilities. See the warning in "Fetching the value or values of a single named parameter" at /home/perluser/.cpan/build/CGI-4.13-QCDICV/blib/lib/CGI.pm line 437.
CGI::param called in list context from package Data::FormValidator::Results line 1074, this can lead to vulnerabilities. See the warning in "Fetching the value or values of a single named parameter" at /home/perluser/.cpan/build/CGI-4.13-QCDICV/blib/lib/CGI.pm line 437.
CGI::param called in list context from package Data::FormValidator::Results line 1074, this can lead to vulnerabilities. See the warning in "Fetching the value or values of a single named parameter" at /home/perluser/.cpan/build/CGI-4.13-QCDICV/blib/lib/CGI.pm line 437.
CGI::param called in list context from package Data::FormValidator::Results line 1074, this can lead to vulnerabilities. See the warning in "Fetching the value or values of a single named parameter" at /home/perluser/.cpan/build/CGI-4.13-QCDICV/blib/lib/CGI.pm line 437.
CGI::param called in list context from package Data::FormValidator::Results line 1074, this can lead to vulnerabilities. See the warning in "Fetching the value or values of a single named parameter" at /home/perluser/.cpan/build/CGI-4.13-QCDICV/blib/lib/CGI.pm line 437.
CGI::param called in list context from package Data::FormValidator::Results line 1074, this can lead to vulnerabilities. See the warning in "Fetching the value or values of a single named parameter" at /home/perluser/.cpan/build/CGI-4.13-QCDICV/blib/lib/CGI.pm line 437.
CGI::param called in list context from package Data::FormValidator::Results line 1074, this can lead to vulnerabilities. See the warning in "Fetching the value or values of a single named parameter" at /home/perluser/.cpan/build/CGI-4.13-QCDICV/blib/lib/CGI.pm line 437.
CGI::param called in list context from package Data::FormValidator::Results line 1074, this can lead to vulnerabilities. See the warning in "Fetching the value or values of a single named parameter" at /home/perluser/.cpan/build/CGI-4.13-QCDICV/blib/lib/CGI.pm line 437.
CGI::param called in list context from package Data::FormValidator::Results line 1074, this can lead to vulnerabilities. See the warning in "Fetching the value or values of a single named parameter" at /home/perluser/.cpan/build/CGI-4.13-QCDICV/blib/lib/CGI.pm line 437.
CGI::param called in list context from package Data::FormValidator::Results line 1074, this can lead to vulnerabilities. See the warning in "Fetching the value or values of a single named parameter" at /home/perluser/.cpan/build/CGI-4.13-QCDICV/blib/lib/CGI.pm line 437.
CGI::param called in list context from package Data::FormValidator::Results line 1074, this can lead to vulnerabilities. See the warning in "Fetching the value or values of a single named parameter" at /home/perluser/.cpan/build/CGI-4.13-QCDICV/blib/lib/CGI.pm line 437.
CGI::param called in list context from package Data::FormValidator::Results line 1074, this can lead to vulnerabilities. See the warning in "Fetching the value or values of a single named parameter" at /home/perluser/.cpan/build/CGI-4.13-QCDICV/blib/lib/CGI.pm line 437.
CGI::param called in list context from package Data::FormValidator::Results line 1074, this can lead to vulnerabilities. See the warning in "Fetching the value or values of a single named parameter" at /home/perluser/.cpan/build/CGI-4.13-QCDICV/blib/lib/CGI.pm line 437.
CGI::param called in list context from package Data::FormValidator::Results line 1074, this can lead to vulnerabilities. See the warning in "Fetching the value or values of a single named parameter" at /home/perluser/.cpan/build/CGI-4.13-QCDICV/blib/lib/CGI.pm line 437.
CGI::param called in list context from package Data::FormValidator::Results line 1074, this can lead to vulnerabilities. See the warning in "Fetching the value or values of a single named parameter" at /home/perluser/.cpan/build/CGI-4.13-QCDICV/blib/lib/CGI.pm line 437.
CGI::param called in list context from package Data::FormValidator::Results line 1074, this can lead to vulnerabilities. See the warning in "Fetching the value or values of a single named parameter" at /home/perluser/.cpan/build/CGI-4.13-QCDICV/blib/lib/CGI.pm line 437.
CGI::param called in list context from package Data::FormValidator::Results line 1074, this can lead to vulnerabilities. See the warning in "Fetching the value or values of a single named parameter" at /home/perluser/.cpan/build/CGI-4.13-QCDICV/blib/lib/CGI.pm line 437.
CGI::param called in list context from package Data::FormValidator::Results line 1074, this can lead to vulnerabilities. See the warning in "Fetching the value or values of a single named parameter" at /home/perluser/.cpan/build/CGI-4.13-QCDICV/blib/lib/CGI.pm line 437.
CGI::param called in list context from package Data::FormValidator::Results line 1074, this can lead to vulnerabilities. See the warning in "Fetching the value or values of a single named parameter" at /home/perluser/.cpan/build/CGI-4.13-QCDICV/blib/lib/CGI.pm line 437.
CGI::param called in list context from package Data::FormValidator::Results line 1074, this can lead to vulnerabilities. See the warning in "Fetching the value or values of a single named parameter" at /home/perluser/.cpan/build/CGI-4.13-QCDICV/blib/lib/CGI.pm line 437.
CGI::param called in list context from package Data::FormValidator::Results line 1074, this can lead to vulnerabilities. See the warning in "Fetching the value or values of a single named parameter" at /home/perluser/.cpan/build/CGI-4.13-QCDICV/blib/lib/CGI.pm line 437.
CGI::param called in list context from package Data::FormValidator::Results line 1074, this can lead to vulnerabilities. See the warning in "Fetching the value or values of a single named parameter" at /home/perluser/.cpan/build/CGI-4.13-QCDICV/blib/lib/CGI.pm line 437.
CGI::param called in list context from package Data::FormValidator::Results line 1074, this can lead to vulnerabilities. See the warning in "Fetching the value or values of a single named parameter" at /home/perluser/.cpan/build/CGI-4.13-QCDICV/blib/lib/CGI.pm line 437.
CGI::param called in list context from package Data::FormValidator::Results line 1074, this can lead to vulnerabilities. See the warning in "Fetching the value or values of a single named parameter" at /home/perluser/.cpan/build/CGI-4.13-QCDICV/blib/lib/CGI.pm line 437.
CGI::param called in list context from package Data::FormValidator::Results line 1074, this can lead to vulnerabilities. See the warning in "Fetching the value or values of a single named parameter" at /home/perluser/.cpan/build/CGI-4.13-QCDICV/blib/lib/CGI.pm line 437.
CGI::param called in list context from package Data::FormValidator::Results line 1074, this can lead to vulnerabilities. See the warning in "Fetching the value or values of a single named parameter" at /home/perluser/.cpan/build/CGI-4.13-QCDICV/blib/lib/CGI.pm line 437.
CGI::param called in list context from package Data::FormValidator::Results line 1074, this can lead to vulnerabilities. See the warning in "Fetching the value or values of a single named parameter" at /home/perluser/.cpan/build/CGI-4.13-QCDICV/blib/lib/CGI.pm line 437.
CGI::param called in list context from package Data::FormValidator::Results line 1074, this can lead to vulnerabilities. See the warning in "Fetching the value or values of a single named parameter" at /home/perluser/.cpan/build/CGI-4.13-QCDICV/blib/lib/CGI.pm line 437.
CGI::param called in list context from package Data::FormValidator::Results line 1074, this can lead to vulnerabilities. See the warning in "Fetching the value or values of a single named parameter" at /home/perluser/.cpan/build/CGI-4.13-QCDICV/blib/lib/CGI.pm line 437.
CGI::param called in list context from package Data::FormValidator::Results line 1074, this can lead to vulnerabilities. See the warning in "Fetching the value or values of a single named parameter" at /home/perluser/.cpan/build/CGI-4.13-QCDICV/blib/lib/CGI.pm line 437.
CGI::param called in list context from package Data::FormValidator::Results line 1074, this can lead to vulnerabilities. See the warning in "Fetching the value or values of a single named parameter" at /home/perluser/.cpan/build/CGI-4.13-QCDICV/blib/lib/CGI.pm line 437.
CGI::param called in list context from package Data::FormValidator::Results line 1074, this can lead to vulnerabilities. See the warning in "Fetching the value or values of a single named parameter" at /home/perluser/.cpan/build/CGI-4.13-QCDICV/blib/lib/CGI.pm line 437.
CGI::param called in list context from package Data::FormValidator::Results line 1074, this can lead to vulnerabilities. See the warning in "Fetching the value or values of a single named parameter" at /home/perluser/.cpan/build/CGI-4.13-QCDICV/blib/lib/CGI.pm line 437.
t/upload.t ............................... ok
# testing with CGI.pm version: 4.13
CGI::param called in list context from package Data::FormValidator::Results line 1074, this can lead to vulnerabilities. See the warning in "Fetching the value or values of a single named parameter" at /home/perluser/.cpan/build/CGI-4.13-QCDICV/blib/lib/CGI.pm line 437.
CGI::param called in list context from package Data::FormValidator::Results line 1074, this can lead to vulnerabilities. See the warning in "Fetching the value or values of a single named parameter" at /home/perluser/.cpan/build/CGI-4.13-QCDICV/blib/lib/CGI.pm line 437.
CGI::param called in list context from package Data::FormValidator::Results line 1074, this can lead to vulnerabilities. See the warning in "Fetching the value or values of a single named parameter" at /home/perluser/.cpan/build/CGI-4.13-QCDICV/blib/lib/CGI.pm line 437.
CGI::param called in list context from package Data::FormValidator::Results line 1074, this can lead to vulnerabilities. See the warning in "Fetching the value or values of a single named parameter" at /home/perluser/.cpan/build/CGI-4.13-QCDICV/blib/lib/CGI.pm line 437.
CGI::param called in list context from package Data::FormValidator::Results line 1074, this can lead to vulnerabilities. See the warning in "Fetching the value or values of a single named parameter" at /home/perluser/.cpan/build/CGI-4.13-QCDICV/blib/lib/CGI.pm line 437.
CGI::param called in list context from package Data::FormValidator::Results line 1074, this can lead to vulnerabilities. See the warning in "Fetching the value or values of a single named parameter" at /home/perluser/.cpan/build/CGI-4.13-QCDICV/blib/lib/CGI.pm line 437.
CGI::param called in list context from package Data::FormValidator::Results line 1074, this can lead to vulnerabilities. See the warning in "Fetching the value or values of a single named parameter" at /home/perluser/.cpan/build/CGI-4.13-QCDICV/blib/lib/CGI.pm line 437.
CGI::param called in list context from package Data::FormValidator::Results line 1074, this can lead to vulnerabilities. See the warning in "Fetching the value or values of a single named parameter" at /home/perluser/.cpan/build/CGI-4.13-QCDICV/blib/lib/CGI.pm line 437.
CGI::param called in list context from package Data::FormValidator::Results line 1074, this can lead to vulnerabilities. See the warning in "Fetching the value or values of a single named parameter" at /home/perluser/.cpan/build/CGI-4.13-QCDICV/blib/lib/CGI.pm line 437.
CGI::param called in list context from package Data::FormValidator::Results line 1074, this can lead to vulnerabilities. See the warning in "Fetching the value or values of a single named parameter" at /home/perluser/.cpan/build/CGI-4.13-QCDICV/blib/lib/CGI.pm line 437.
CGI::param called in list context from package Data::FormValidator::Results line 1074, this can lead to vulnerabilities. See the warning in "Fetching the value or values of a single named parameter" at /home/perluser/.cpan/build/CGI-4.13-QCDICV/blib/lib/CGI.pm line 437.
CGI::param called in list context from package Data::FormValidator::Results line 1074, this can lead to vulnerabilities. See the warning in "Fetching the value or values of a single named parameter" at /home/perluser/.cpan/build/CGI-4.13-QCDICV/blib/lib/CGI.pm line 437.
CGI::param called in list context from package Data::FormValidator::Results line 1074, this can lead to vulnerabilities. See the warning in "Fetching the value or values of a single named parameter" at /home/perluser/.cpan/build/CGI-4.13-QCDICV/blib/lib/CGI.pm line 437.
CGI::param called in list context from package Data::FormValidator::Results line 1074, this can lead to vulnerabilities. See the warning in "Fetching the value or values of a single named parameter" at /home/perluser/.cpan/build/CGI-4.13-QCDICV/blib/lib/CGI.pm line 437.
CGI::param called in list context from package Data::FormValidator::Results line 1074, this can lead to vulnerabilities. See the warning in "Fetching the value or values of a single named parameter" at /home/perluser/.cpan/build/CGI-4.13-QCDICV/blib/lib/CGI.pm line 437.
CGI::param called in list context from package Data::FormValidator::Results line 1074, this can lead to vulnerabilities. See the warning in "Fetching the value or values of a single named parameter" at /home/perluser/.cpan/build/CGI-4.13-QCDICV/blib/lib/CGI.pm line 437.
CGI::param called in list context from package Data::FormValidator::Results line 1074, this can lead to vulnerabilities. See the warning in "Fetching the value or values of a single named parameter" at /home/perluser/.cpan/build/CGI-4.13-QCDICV/blib/lib/CGI.pm line 437.
CGI::param called in list context from package Data::FormValidator::Results line 1074, this can lead to vulnerabilities. See the warning in "Fetching the value or values of a single named parameter" at /home/perluser/.cpan/build/CGI-4.13-QCDICV/blib/lib/CGI.pm line 437.
CGI::param called in list context from package Data::FormValidator::Results line 1074, this can lead to vulnerabilities. See the warning in "Fetching the value or values of a single named parameter" at /home/perluser/.cpan/build/CGI-4.13-QCDICV/blib/lib/CGI.pm line 437.
CGI::param called in list context from package Data::FormValidator::Results line 1074, this can lead to vulnerabilities. See the warning in "Fetching the value or values of a single named parameter" at /home/perluser/.cpan/build/CGI-4.13-QCDICV/blib/lib/CGI.pm line 437.
CGI::param called in list context from package Data::FormValidator::Results line 1074, this can lead to vulnerabilities. See the warning in "Fetching the value or values of a single named parameter" at /home/perluser/.cpan/build/CGI-4.13-QCDICV/blib/lib/CGI.pm line 437.
CGI::param called in list context from package Data::FormValidator::Results line 1074, this can lead to vulnerabilities. See the warning in "Fetching the value or values of a single named parameter" at /home/perluser/.cpan/build/CGI-4.13-QCDICV/blib/lib/CGI.pm line 437.
CGI::param called in list context from package Data::FormValidator::Results line 1074, this can lead to vulnerabilities. See the warning in "Fetching the value or values of a single named parameter" at /home/perluser/.cpan/build/CGI-4.13-QCDICV/blib/lib/CGI.pm line 437.
CGI::param called in list context from package Data::FormValidator::Results line 1074, this can lead to vulnerabilities. See the warning in "Fetching the value or values of a single named parameter" at /home/perluser/.cpan/build/CGI-4.13-QCDICV/blib/lib/CGI.pm line 437.
CGI::param called in list context from package Data::FormValidator::Results line 1074, this can lead to vulnerabilities. See the warning in "Fetching the value or values of a single named parameter" at /home/perluser/.cpan/build/CGI-4.13-QCDICV/blib/lib/CGI.pm line 437.
CGI::param called in list context from package Data::FormValidator::Results line 1074, this can lead to vulnerabilities. See the warning in "Fetching the value or values of a single named parameter" at /home/perluser/.cpan/build/CGI-4.13-QCDICV/blib/lib/CGI.pm line 437.
CGI::param called in list context from package Data::FormValidator::Results line 1074, this can lead to vulnerabilities. See the warning in "Fetching the value or values of a single named parameter" at /home/perluser/.cpan/build/CGI-4.13-QCDICV/blib/lib/CGI.pm line 437.
CGI::param called in list context from package Data::FormValidator::Results line 1074, this can lead to vulnerabilities. See the warning in "Fetching the value or values of a single named parameter" at /home/perluser/.cpan/build/CGI-4.13-QCDICV/blib/lib/CGI.pm line 437.
CGI::param called in list context from package Data::FormValidator::Results line 1074, this can lead to vulnerabilities. See the warning in "Fetching the value or values of a single named parameter" at /home/perluser/.cpan/build/CGI-4.13-QCDICV/blib/lib/CGI.pm line 437.
CGI::param called in list context from package Data::FormValidator::Results line 1074, this can lead to vulnerabilities. See the warning in "Fetching the value or values of a single named parameter" at /home/perluser/.cpan/build/CGI-4.13-QCDICV/blib/lib/CGI.pm line 437.
CGI::param called in list context from package Data::FormValidator::Results line 1074, this can lead to vulnerabilities. See the warning in "Fetching the value or values of a single named parameter" at /home/perluser/.cpan/build/CGI-4.13-QCDICV/blib/lib/CGI.pm line 437.
CGI::param called in list context from package Data::FormValidator::Results line 1074, this can lead to vulnerabilities. See the warning in "Fetching the value or values of a single named parameter" at /home/perluser/.cpan/build/CGI-4.13-QCDICV/blib/lib/CGI.pm line 437.
CGI::param called in list context from package Data::FormValidator::Results line 1074, this can lead to vulnerabilities. See the warning in "Fetching the value or values of a single named parameter" at /home/perluser/.cpan/build/CGI-4.13-QCDICV/blib/lib/CGI.pm line 437.
CGI::param called in list context from package Data::FormValidator::Results line 1074, this can lead to vulnerabilities. See the warning in "Fetching the value or values of a single named parameter" at /home/perluser/.cpan/build/CGI-4.13-QCDICV/blib/lib/CGI.pm line 437.
CGI::param called in list context from package Data::FormValidator::Results line 1074, this can lead to vulnerabilities. See the warning in "Fetching the value or values of a single named parameter" at /home/perluser/.cpan/build/CGI-4.13-QCDICV/blib/lib/CGI.pm line 437.
CGI::param called in list context from package Data::FormValidator::Results line 1074, this can lead to vulnerabilities. See the warning in "Fetching the value or values of a single named parameter" at /home/perluser/.cpan/build/CGI-4.13-QCDICV/blib/lib/CGI.pm line 437.
CGI::param called in list context from package Data::FormValidator::Results line 1074, this can lead to vulnerabilities. See the warning in "Fetching the value or values of a single named parameter" at /home/perluser/.cpan/build/CGI-4.13-QCDICV/blib/lib/CGI.pm line 437.
CGI::param called in list context from package Data::FormValidator::Results line 1074, this can lead to vulnerabilities. See the warning in "Fetching the value or values of a single named parameter" at /home/perluser/.cpan/build/CGI-4.13-QCDICV/blib/lib/CGI.pm line 437.
CGI::param called in list context from package Data::FormValidator::Results line 1074, this can lead to vulnerabilities. See the warning in "Fetching the value or values of a single named parameter" at /home/perluser/.cpan/build/CGI-4.13-QCDICV/blib/lib/CGI.pm line 437.
CGI::param called in list context from package Data::FormValidator::Results line 1074, this can lead to vulnerabilities. See the warning in "Fetching the value or values of a single named parameter" at /home/perluser/.cpan/build/CGI-4.13-QCDICV/blib/lib/CGI.pm line 437.
CGI::param called in list context from package Data::FormValidator::Results line 1074, this can lead to vulnerabilities. See the warning in "Fetching the value or values of a single named parameter" at /home/perluser/.cpan/build/CGI-4.13-QCDICV/blib/lib/CGI.pm line 437.
CGI::param called in list context from package Data::FormValidator::Results line 1074, this can lead to vulnerabilities. See the warning in "Fetching the value or values of a single named parameter" at /home/perluser/.cpan/build/CGI-4.13-QCDICV/blib/lib/CGI.pm line 437.
CGI::param called in list context from package Data::FormValidator::Results line 1074, this can lead to vulnerabilities. See the warning in "Fetching the value or values of a single named parameter" at /home/perluser/.cpan/build/CGI-4.13-QCDICV/blib/lib/CGI.pm line 437.
CGI::param called in list context from package Data::FormValidator::Results line 1074, this can lead to vulnerabilities. See the warning in "Fetching the value or values of a single named parameter" at /home/perluser/.cpan/build/CGI-4.13-QCDICV/blib/lib/CGI.pm line 437.
CGI::param called in list context from package Data::FormValidator::Results line 1074, this can lead to vulnerabilities. See the warning in "Fetching the value or values of a single named parameter" at /home/perluser/.cpan/build/CGI-4.13-QCDICV/blib/lib/CGI.pm line 437.
CGI::param called in list context from package Data::FormValidator::Results line 1074, this can lead to vulnerabilities. See the warning in "Fetching the value or values of a single named parameter" at /home/perluser/.cpan/build/CGI-4.13-QCDICV/blib/lib/CGI.pm line 437.
CGI::param called in list context from package Data::FormValidator::Results line 1074, this can lead to vulnerabilities. See the warning in "Fetching the value or values of a single named parameter" at /home/perluser/.cpan/build/CGI-4.13-QCDICV/blib/lib/CGI.pm line 437.
CGI::param called in list context from package Data::FormValidator::Results line 1074, this can lead to vulnerabilities. See the warning in "Fetching the value or values of a single named parameter" at /home/perluser/.cpan/build/CGI-4.13-QCDICV/blib/lib/CGI.pm line 437.
t/upload_closure.t ....................... ok
t/upload_mime_types.t .................... ok
All tests successful.
Files=65, Tests=605, 12 wallclock secs ( 0.27 usr  0.51 sys +  6.31 cusr  4.79 csys = 11.88 CPU)
Result: PASS

------------------------------
PREREQUISITES
------------------------------

Prerequisite modules loaded:

requires:

    Module          Need  Have        
    --------------- ----- ------------
    Date::Calc      5     6.3         
    Email::Valid    0     1.195       
    File::MMagic    1.17  1.30        
    Image::Size     0     3.232       
    MIME::Types     1.005 2.09        
    overload        0     1.24        
    perl            5.008 5.021007    
    Perl6::Junction 1.1   1.60000     
    Regexp::Common  0     2013031301  
    Scalar::Util    0     1.41        
    Test::More      0     1.301001_090

build_requires:

    Module          Need  Have        
    --------------- ----- ------------
    CGI             3.48  4.13        

configure_requires:

    Module          Need  Have        
    --------------- ----- ------------
    Module::Build   0.38  0.4210      


------------------------------
ENVIRONMENT AND OTHER CONTEXT
------------------------------

Environment variables:

    AUTOMATED_TESTING = 1
    LANG = en_US.UTF-8
    PATH = /home/perluser/perl5/perlbrew/bin:/home/perluser/perl5/perlbrew/perls/perl-5.21.7/bin:/usr/local/bin:/usr/bin:/bin:/usr/local/games:/usr/games
    PERL5LIB = /home/perluser/.cpan/build/Perl6-Junction-1.60000-Uhul1x/blib/arch:/home/perluser/.cpan/build/Perl6-Junction-1.60000-Uhul1x/blib/lib:/home/perluser/.cpan/build/Regexp-Common-2013031301-pL_uQG/blib/arch:/home/perluser/.cpan/build/Regexp-Common-2013031301-pL_uQG/blib/lib:/home/perluser/.cpan/build/Image-Size-3.232-BTh5JA/blib/arch:/home/perluser/.cpan/build/Image-Size-3.232-BTh5JA/blib/lib:/home/perluser/.cpan/build/Email-Valid-1.195-Yo7qEu/blib/arch:/home/perluser/.cpan/build/Email-Valid-1.195-Yo7qEu/blib/lib:/home/perluser/.cpan/build/Date-Calc-6.3-JMo__4/blib/arch:/home/perluser/.cpan/build/Date-Calc-6.3-JMo__4/blib/lib:/home/perluser/.cpan/build/Bit-Vector-7.4-AT0K_T/blib/arch:/home/perluser/.cpan/build/Bit-Vector-7.4-AT0K_T/blib/lib:/home/perluser/.cpan/build/Carp-Clan-6.04-OUdSPP/blib/arch:/home/perluser/.cpan/build/Carp-Clan-6.04-OUdSPP/blib/lib:/home/perluser/.cpan/build/File-MMagic-1.30-y20cDp/blib/arch:/home/perluser/.cpan/build/File-MMagic-1.30-y20cDp/blib/lib:/home/perluser/.cpan/build/Data-FormValidator-Filters-Demoroniser-0.05-CA8D0n/blib/arch:/home/perluser/.cpan/build/Data-FormValidator-Filters-Demoroniser-0.05-CA8D0n/blib/lib:/home/perluser/.cpan/build/Text-Demoroniser-0.06-RrwJFm/blib/arch:/home/perluser/.cpan/build/Text-Demoroniser-0.06-RrwJFm/blib/lib:/home/perluser/.cpan/build/Encode-ZapCP1252-0.33-Uhd405/blib/arch:/home/perluser/.cpan/build/Encode-ZapCP1252-0.33-Uhd405/blib/lib:/home/perluser/.cpan/build/Font-AFM-1.20-jtWeFv/blib/arch:/home/perluser/.cpan/build/Font-AFM-1.20-jtWeFv/blib/lib:/home/perluser/.cpan/build/Convert-BinHex-1.123-Ah9RfH/blib/arch:/home/perluser/.cpan/build/Convert-BinHex-1.123-Ah9RfH/blib/lib:/home/perluser/.cpan/build/Test-Most-0.34-hZmZmk/blib/arch:/home/perluser/.cpan/build/Test-Most-0.34-hZmZmk/blib/lib:/home/perluser/.cpan/build/Exception-Class-1.39-_wuf1s/blib/arch:/home/perluser/.cpan/build/Exception-Class-1.39-_wuf1s/blib/lib:/home/perluser/.cpan/build/Devel-StackTrace-2.00-bkGnr7/blib/arch:/home/perluser/.cpan/build/Devel-StackTrace-2.00-bkGnr7/blib/lib:/home/perluser/.cpan/build/Test-Differences-0.63-jEEsjP/blib/arch:/home/perluser/.cpan/build/Test-Differences-0.63-jEEsjP/blib/lib:/home/perluser/.cpan/build/Text-Diff-1.41-TCqmPN/blib/arch:/home/perluser/.cpan/build/Text-Diff-1.41-TCqmPN/blib/lib:/home/perluser/.cpan/build/Algorithm-Diff-1.1903-eGp0ex/blib/arch:/home/perluser/.cpan/build/Algorithm-Diff-1.1903-eGp0ex/blib/lib:/home/perluser/.cpan/build/Test-Exception-0.35-3hx8nZ/blib/arch:/home/perluser/.cpan/build/Test-Exception-0.35-3hx8nZ/blib/lib:/home/perluser/.cpan/build/MIME-tools-5.505-xrPg_E/blib/arch:/home/perluser/.cpan/build/MIME-tools-5.505-xrPg_E/blib/lib:/home/perluser/.cpan/build/MIME-Lite-3.030-gLX3Dw/blib/arch:/home/perluser/.cpan/build/MIME-Lite-3.030-gLX3Dw/blib/lib:/home/perluser/.cpan/build/Email-Date-Format-1.005-HX03BF/blib/arch:/home/perluser/.cpan/build/Email-Date-Format-1.005-HX03BF/blib/lib:/home/perluser/.cpan/build/MIME-Types-2.09-aXAe1R/blib/arch:/home/perluser/.cpan/build/MIME-Types-2.09-aXAe1R/blib/lib:/home/perluser/.cpan/build/MailTools-2.14-kfuaIq/blib/arch:/home/perluser/.cpan/build/MailTools-2.14-kfuaIq/blib/lib:/home/perluser/.cpan/build/TimeDate-2.30-U_hmAJ/blib/arch:/home/perluser/.cpan/build/TimeDate-2.30-U_hmAJ/blib/lib:/home/perluser/.cpan/build/DateTime-Format-Mail-0.401-PI4zZI/blib/arch:/home/perluser/.cpan/build/DateTime-Format-Mail-0.401-PI4zZI/blib/lib:/home/perluser/.cpan/build/Session-Token-1.008-WQzR8J/blib/arch:/home/perluser/.cpan/build/Session-Token-1.008-WQzR8J/blib/lib:/home/perluser/.cpan/build/DBI-1.632-QE87GD/blib/arch:/home/perluser/.cpan/build/DBI-1.632-QE87GD/blib/lib:/home/perluser/.cpan/build/Data-Phrasebook-Loader-Ini-0.14-04lE8U/blib/arch:/home/perluser/.cpan/build/Data-Phrasebook-Loader-Ini-0.14-04lE8U/blib/lib:/home/perluser/.cpan/build/Config-IniFiles-2.83-9v8dvz/blib/arch:/home/perluser/.cpan/build/Config-IniFiles-2.83-9v8dvz/blib/lib:/home/perluser/.cpan/build/Digest-SHA1-2.13-L0zCoz/blib/arch:/home/perluser/.cpan/build/Digest-SHA1-2.13-L0zCoz/blib/lib:/home/perluser/.cpan/build/Class-Data-Inheritable-0.08-m5kZ5o/blib/arch:/home/perluser/.cpan/build/Class-Data-Inheritable-0.08-m5kZ5o/blib/lib:/home/perluser/.cpan/build/File-Slurp-9999.19-xUD4p_/blib/arch:/home/perluser/.cpan/build/File-Slurp-9999.19-xUD4p_/blib/lib:/home/perluser/.cpan/build/HTML-TagCloud-0.38-RlSSC1/blib/arch:/home/perluser/.cpan/build/HTML-TagCloud-0.38-RlSSC1/blib/lib:/home/perluser/.cpan/build/Test-Pod-Coverage-1.10-vk4jCv/blib/arch:/home/perluser/.cpan/build/Test-Pod-Coverage-1.10-vk4jCv/blib/lib:/home/perluser/.cpan/build/Pod-Coverage-0.23-cbyhje/blib/arch:/home/perluser/.cpan/build/Pod-Coverage-0.23-cbyhje/blib/lib:/home/perluser/.cpan/build/Devel-Symdump-2.14-iiy454/blib/arch:/home/perluser/.cpan/build/Devel-Symdump-2.14-iiy454/blib/lib:/home/perluser/.cpan/build/Test-CPAN-Meta-0.23-WUoIVQ/blib/arch:/home/perluser/.cpan/build/Test-CPAN-Meta-0.23-WUoIVQ/blib/lib:/home/perluser/.cpan/build/Test-Pod-1.48-AZsWH3/blib/arch:/home/perluser/.cpan/build/Test-Pod-1.48-AZsWH3/blib/lib:/home/perluser/.cpan/build/Test-CPAN-Meta-JSON-0.15-RErnv5/blib/arch:/home/perluser/.cpan/build/Test-CPAN-Meta-JSON-0.15-RErnv5/blib/lib:/home/perluser/.cpan/build/Data-Phrasebook-0.35-lnm3pv/blib/arch:/home/perluser/.cpan/build/Data-Phrasebook-0.35-lnm3pv/blib/lib:/home/perluser/.cpan/build/Module-Pluggable-5.1-Hfd_tK/blib/arch:/home/perluser/.cpan/build/Module-Pluggable-5.1-Hfd_tK/blib/lib:/home/perluser/.cpan/build/DateTime-1.12-BkRKo7/blib/arch:/home/perluser/.cpan/build/DateTime-1.12-BkRKo7/blib/lib:/home/perluser/.cpan/build/DateTime-TimeZone-1.83-T5aJ9D/blib/arch:/home/perluser/.cpan/build/DateTime-TimeZone-1.83-T5aJ9D/blib/lib:/home/perluser/.cpan/build/List-AllUtils-0.09-oWpm6D/blib/arch:/home/perluser/.cpan/build/List-AllUtils-0.09-oWpm6D/blib/lib:/home/perluser/.cpan/build/Class-Singleton-1.5-m73VOq/blib/arch:/home/perluser/.cpan/build/Class-Singleton-1.5-m73VOq/blib/lib:/home/perluser/.cpan/build/DateTime-Locale-0.45-T_5uGV/blib/arch:/home/perluser/.cpan/build/DateTime-Locale-0.45-T_5uGV/blib/lib:/home/perluser/.cpan/build/Params-Validate-1.13-L5OCSp/blib/arch:/home/perluser/.cpan/build/Params-Validate-1.13-L5OCSp/blib/lib:/home/perluser/.cpan/build/Module-Implementation-0.09-LbfqkJ/blib/arch:/home/perluser/.cpan/build/Module-Implementation-0.09-LbfqkJ/blib/lib:/home/perluser/.cpan/build/Module-Runtime-0.014-NRY28n/blib/arch:/home/perluser/.cpan/build/Module-Runtime-0.014-NRY28n/blib/lib:/home/perluser/.cpan/build/Test-Requires-0.08-iDai5s/blib/arch:/home/perluser/.cpan/build/Test-Requires-0.08-iDai5s/blib/lib:/home/perluser/.cpan/build/Test-LeakTrace-0.15-qIOZ3w/blib/arch:/home/perluser/.cpan/build/Test-LeakTrace-0.15-qIOZ3w/blib/lib:/home/perluser/.cpan/build/List-MoreUtils-0.401-r9Olht/blib/arch:/home/perluser/.cpan/build/List-MoreUtils-0.401-r9Olht/blib/lib:/home/perluser/.cpan/build/Test-Warnings-0.019-4eGly5/blib/arch:/home/perluser/.cpan/build/Test-Warnings-0.019-4eGly5/blib/lib:/home/perluser/.cpan/build/Exporter-Tiny-0.042-MQv9Xr/blib/arch:/home/perluser/.cpan/build/Exporter-Tiny-0.042-MQv9Xr/blib/lib:/home/perluser/.cpan/build/CGI-4.13-QCDICV/blib/arch:/home/perluser/.cpan/build/CGI-4.13-QCDICV/blib/lib:/home/perluser/.cpan/build/Test-Deep-0.114-kj3WT0/blib/arch:/home/perluser/.cpan/build/Test-Deep-0.114-kj3WT0/blib/lib:/home/perluser/.cpan/build/Test-NoWarnings-1.04-z1ixyz/blib/arch:/home/perluser/.cpan/build/Test-NoWarnings-1.04-z1ixyz/blib/lib:/home/perluser/.cpan/build/Test-Warn-0.30-x6u7Zv/blib/arch:/home/perluser/.cpan/build/Test-Warn-0.30-x6u7Zv/blib/lib:/home/perluser/.cpan/build/Sub-Uplevel-0.24-vkRL5c/blib/arch:/home/perluser/.cpan/build/Sub-Uplevel-0.24-vkRL5c/blib/lib
    PERL5OPT = 
    PERL5_CPANPLUS_IS_RUNNING = 16109
    PERL5_CPAN_IS_RUNNING = 16109
    PERL5_CPAN_IS_RUNNING_IN_RECURSION = 16735,16109
    PERLBREW_BASHRC_VERSION = 0.71
    PERLBREW_HOME = /home/perluser/.perlbrew
    PERLBREW_MANPATH = /home/perluser/perl5/perlbrew/perls/perl-5.21.7/man
    PERLBREW_PATH = /home/perluser/perl5/perlbrew/bin:/home/perluser/perl5/perlbrew/perls/perl-5.21.7/bin
    PERLBREW_PERL = perl-5.21.7
    PERLBREW_ROOT = /home/perluser/perl5/perlbrew
    PERLBREW_VERSION = 0.71
    PERL_CR_SMOKER_CURRENT = Labyrinth-Plugin-Requests-1.04
    PERL_EXTUTILS_AUTOINSTALL = --defaultdeps
    PERL_MM_USE_DEFAULT = 1
    SHELL = /bin/bash
    TERM = xterm

Perl special variables (and OS-specific diagnostics, for MSWin32):

    $^X = /home/perluser/perl5/perlbrew/perls/perl-5.21.7/bin/perl5.21.7
    $UID/$EUID = 1001 / 1001
    $GID = 1001 1001
    $EGID = 1001 1001

Perl module toolchain versions installed:

    Module              Have        
    ------------------- ------------
    CPAN                2.05        
    CPAN::Meta          2.143240    
    Cwd                 3.54        
    ExtUtils::CBuilder  0.280221    
    ExtUtils::Command   1.18        
    ExtUtils::Install   2.04        
    ExtUtils::MakeMaker 7.04        
    ExtUtils::Manifest  1.69        
    ExtUtils::ParseXS   3.27        
    File::Spec          3.53        
    JSON                2.90        
    JSON::PP            2.27300     
    Module::Build       0.4210      
    Module::Signature   n/a         
    Parse::CPAN::Meta   1.4414      
    Test::Harness       3.34        
    Test::More          1.301001_090
    YAML                n/a         
    YAML::Syck          n/a         
    version             0.9909      


--

Summary of my perl5 (revision 5 version 21 subversion 7) configuration:
   
  Platform:
    osname=linux, osvers=3.2.0-4-amd64, archname=x86_64-linux
    uname='linux csi-nyp-lensrv 3.2.0-4-amd64 #1 smp debian 3.2.63-2 x86_64 gnulinux '
    config_args='-de -Dprefix=/home/perluser/perl5/perlbrew/perls/perl-5.21.7 -Dusedevel -Aeval:scriptdir=/home/perluser/perl5/perlbrew/perls/perl-5.21.7/bin'
    hint=recommended, useposix=true, d_sigaction=define
    useithreads=undef, usemultiplicity=undef
    use64bitint=define, use64bitall=define, uselongdouble=undef
    usemymalloc=n, bincompat5005=undef
  Compiler:
    cc='cc', ccflags ='-fwrapv -fno-strict-aliasing -pipe -fstack-protector -I/usr/local/include -D_LARGEFILE_SOURCE -D_FILE_OFFSET_BITS=64 -D_FORTIFY_SOURCE=2',
    optimize='-O2',
    cppflags='-fwrapv -fno-strict-aliasing -pipe -fstack-protector -I/usr/local/include'
    ccversion='', gccversion='4.7.2', gccosandvers=''
    intsize=4, longsize=8, ptrsize=8, doublesize=8, byteorder=12345678, doublekind=3
    d_longlong=define, longlongsize=8, d_longdbl=define, longdblsize=16, longdblkind=3
    ivtype='long', ivsize=8, nvtype='double', nvsize=8, Off_t='off_t', lseeksize=8
    alignbytes=8, prototype=define
  Linker and Libraries:
    ld='cc', ldflags =' -fstack-protector -L/usr/local/lib'
    libpth=/usr/local/lib /usr/lib/gcc/x86_64-linux-gnu/4.7/include-fixed /usr/include/x86_64-linux-gnu /usr/lib /lib/x86_64-linux-gnu /lib/../lib /usr/lib/x86_64-linux-gnu /usr/lib/../lib /lib
    libs=-lnsl -ldl -lm -lcrypt -lutil -lc -lpthread
    perllibs=-lnsl -ldl -lm -lcrypt -lutil -lc -lpthread
    libc=libc-2.13.so, so=so, useshrplib=false, libperl=libperl.a
    gnulibc_version='2.13'
  Dynamic Linking:
    dlsrc=dl_dlopen.xs, dlext=so, d_dlsymun=undef, ccdlflags='-Wl,-E'
    cccdlflags='-fPIC', lddlflags='-shared -O2 -L/usr/local/lib -fstack-protector'


Characteristics of this binary (from libperl): 
  Compile-time options: HAS_TIMES PERLIO_LAYERS PERL_DONT_CREATE_GVSV
                        PERL_HASH_FUNC_ONE_AT_A_TIME_HARD PERL_MALLOC_WRAP
                        PERL_NEW_COPY_ON_WRITE PERL_PRESERVE_IVUV
                        PERL_USE_DEVEL USE_64_BIT_ALL USE_64_BIT_INT
                        USE_LARGE_FILES USE_LOCALE USE_LOCALE_COLLATE
                        USE_LOCALE_CTYPE USE_LOCALE_NUMERIC USE_LOCALE_TIME
                        USE_PERLIO USE_PERL_ATOF
  Built under linux
  Compiled at Dec 25 2014 12:27:04
  %ENV:
    PERL5LIB="/home/perluser/.cpan/build/Perl6-Junction-1.60000-Uhul1x/blib/arch:/home/perluser/.cpan/build/Perl6-Junction-1.60000-Uhul1x/blib/lib:/home/perluser/.cpan/build/Regexp-Common-2013031301-pL_uQG/blib/arch:/home/perluser/.cpan/build/Regexp-Common-2013031301-pL_uQG/blib/lib:/home/perluser/.cpan/build/Image-Size-3.232-BTh5JA/blib/arch:/home/perluser/.cpan/build/Image-Size-3.232-BTh5JA/blib/lib:/home/perluser/.cpan/build/Email-Valid-1.195-Yo7qEu/blib/arch:/home/perluser/.cpan/build/Email-Valid-1.195-Yo7qEu/blib/lib:/home/perluser/.cpan/build/Date-Calc-6.3-JMo__4/blib/arch:/home/perluser/.cpan/build/Date-Calc-6.3-JMo__4/blib/lib:/home/perluser/.cpan/build/Bit-Vector-7.4-AT0K_T/blib/arch:/home/perluser/.cpan/build/Bit-Vector-7.4-AT0K_T/blib/lib:/home/perluser/.cpan/build/Carp-Clan-6.04-OUdSPP/blib/arch:/home/perluser/.cpan/build/Carp-Clan-6.04-OUdSPP/blib/lib:/home/perluser/.cpan/build/File-MMagic-1.30-y20cDp/blib/arch:/home/perluser/.cpan/build/File-MMagic-1.30-y20cDp/blib/lib:/home/perluser/.cpan/build/Data-FormValidator-Filters-Demoroniser-0.05-CA8D0n/blib/arch:/home/perluser/.cpan/build/Data-FormValidator-Filters-Demoroniser-0.05-CA8D0n/blib/lib:/home/perluser/.cpan/build/Text-Demoroniser-0.06-RrwJFm/blib/arch:/home/perluser/.cpan/build/Text-Demoroniser-0.06-RrwJFm/blib/lib:/home/perluser/.cpan/build/Encode-ZapCP1252-0.33-Uhd405/blib/arch:/home/perluser/.cpan/build/Encode-ZapCP1252-0.33-Uhd405/blib/lib:/home/perluser/.cpan/build/Font-AFM-1.20-jtWeFv/blib/arch:/home/perluser/.cpan/build/Font-AFM-1.20-jtWeFv/blib/lib:/home/perluser/.cpan/build/Convert-BinHex-1.123-Ah9RfH/blib/arch:/home/perluser/.cpan/build/Convert-BinHex-1.123-Ah9RfH/blib/lib:/home/perluser/.cpan/build/Test-Most-0.34-hZmZmk/blib/arch:/home/perluser/.cpan/build/Test-Most-0.34-hZmZmk/blib/lib:/home/perluser/.cpan/build/Exception-Class-1.39-_wuf1s/blib/arch:/home/perluser/.cpan/build/Exception-Class-1.39-_wuf1s/blib/lib:/home/perluser/.cpan/build/Devel-StackTrace-2.00-bkGnr7/blib/arch:/home/perluser/.cpan/build/Devel-StackTrace-2.00-bkGnr7/blib/lib:/home/perluser/.cpan/build/Test-Differences-0.63-jEEsjP/blib/arch:/home/perluser/.cpan/build/Test-Differences-0.63-jEEsjP/blib/lib:/home/perluser/.cpan/build/Text-Diff-1.41-TCqmPN/blib/arch:/home/perluser/.cpan/build/Text-Diff-1.41-TCqmPN/blib/lib:/home/perluser/.cpan/build/Algorithm-Diff-1.1903-eGp0ex/blib/arch:/home/perluser/.cpan/build/Algorithm-Diff-1.1903-eGp0ex/blib/lib:/home/perluser/.cpan/build/Test-Exception-0.35-3hx8nZ/blib/arch:/home/perluser/.cpan/build/Test-Exception-0.35-3hx8nZ/blib/lib:/home/perluser/.cpan/build/MIME-tools-5.505-xrPg_E/blib/arch:/home/perluser/.cpan/build/MIME-tools-5.505-xrPg_E/blib/lib:/home/perluser/.cpan/build/MIME-Lite-3.030-gLX3Dw/blib/arch:/home/perluser/.cpan/build/MIME-Lite-3.030-gLX3Dw/blib/lib:/home/perluser/.cpan/build/Email-Date-Format-1.005-HX03BF/blib/arch:/home/perluser/.cpan/build/Email-Date-Format-1.005-HX03BF/blib/lib:/home/perluser/.cpan/build/MIME-Types-2.09-aXAe1R/blib/arch:/home/perluser/.cpan/build/MIME-Types-2.09-aXAe1R/blib/lib:/home/perluser/.cpan/build/MailTools-2.14-kfuaIq/blib/arch:/home/perluser/.cpan/build/MailTools-2.14-kfuaIq/blib/lib:/home/perluser/.cpan/build/TimeDate-2.30-U_hmAJ/blib/arch:/home/perluser/.cpan/build/TimeDate-2.30-U_hmAJ/blib/lib:/home/perluser/.cpan/build/DateTime-Format-Mail-0.401-PI4zZI/blib/arch:/home/perluser/.cpan/build/DateTime-Format-Mail-0.401-PI4zZI/blib/lib:/home/perluser/.cpan/build/Session-Token-1.008-WQzR8J/blib/arch:/home/perluser/.cpan/build/Session-Token-1.008-WQzR8J/blib/lib:/home/perluser/.cpan/build/DBI-1.632-QE87GD/blib/arch:/home/perluser/.cpan/build/DBI-1.632-QE87GD/blib/lib:/home/perluser/.cpan/build/Data-Phrasebook-Loader-Ini-0.14-04lE8U/blib/arch:/home/perluser/.cpan/build/Data-Phrasebook-Loader-Ini-0.14-04lE8U/blib/lib:/home/perluser/.cpan/build/Config-IniFiles-2.83-9v8dvz/blib/arch:/home/perluser/.cpan/build/Config-IniFiles-2.83-9v8dvz/blib/lib:/home/perluser/.cpan/build/Digest-SHA1-2.13-L0zCoz/blib/arch:/home/perluser/.cpan/build/Digest-SHA1-2.13-L0zCoz/blib/lib:/home/perluser/.cpan/build/Class-Data-Inheritable-0.08-m5kZ5o/blib/arch:/home/perluser/.cpan/build/Class-Data-Inheritable-0.08-m5kZ5o/blib/lib:/home/perluser/.cpan/build/File-Slurp-9999.19-xUD4p_/blib/arch:/home/perluser/.cpan/build/File-Slurp-9999.19-xUD4p_/blib/lib:/home/perluser/.cpan/build/HTML-TagCloud-0.38-RlSSC1/blib/arch:/home/perluser/.cpan/build/HTML-TagCloud-0.38-RlSSC1/blib/lib:/home/perluser/.cpan/build/Test-Pod-Coverage-1.10-vk4jCv/blib/arch:/home/perluser/.cpan/build/Test-Pod-Coverage-1.10-vk4jCv/blib/lib:/home/perluser/.cpan/build/Pod-Coverage-0.23-cbyhje/blib/arch:/home/perluser/.cpan/build/Pod-Coverage-0.23-cbyhje/blib/lib:/home/perluser/.cpan/build/Devel-Symdump-2.14-iiy454/blib/arch:/home/perluser/.cpan/build/Devel-Symdump-2.14-iiy454/blib/lib:/home/perluser/.cpan/build/Test-CPAN-Meta-0.23-WUoIVQ/blib/arch:/home/perluser/.cpan/build/Test-CPAN-Meta-0.23-WUoIVQ/blib/lib:/home/perluser/.cpan/build/Test-Pod-1.48-AZsWH3/blib/arch:/home/perluser/.cpan/build/Test-Pod-1.48-AZsWH3/blib/lib:/home/perluser/.cpan/build/Test-CPAN-Meta-JSON-0.15-RErnv5/blib/arch:/home/perluser/.cpan/build/Test-CPAN-Meta-JSON-0.15-RErnv5/blib/lib:/home/perluser/.cpan/build/Data-Phrasebook-0.35-lnm3pv/blib/arch:/home/perluser/.cpan/build/Data-Phrasebook-0.35-lnm3pv/blib/lib:/home/perluser/.cpan/build/Module-Pluggable-5.1-Hfd_tK/blib/arch:/home/perluser/.cpan/build/Module-Pluggable-5.1-Hfd_tK/blib/lib:/home/perluser/.cpan/build/DateTime-1.12-BkRKo7/blib/arch:/home/perluser/.cpan/build/DateTime-1.12-BkRKo7/blib/lib:/home/perluser/.cpan/build/DateTime-TimeZone-1.83-T5aJ9D/blib/arch:/home/perluser/.cpan/build/DateTime-TimeZone-1.83-T5aJ9D/blib/lib:/home/perluser/.cpan/build/List-AllUtils-0.09-oWpm6D/blib/arch:/home/perluser/.cpan/build/List-AllUtils-0.09-oWpm6D/blib/lib:/home/perluser/.cpan/build/Class-Singleton-1.5-m73VOq/blib/arch:/home/perluser/.cpan/build/Class-Singleton-1.5-m73VOq/blib/lib:/home/perluser/.cpan/build/DateTime-Locale-0.45-T_5uGV/blib/arch:/home/perluser/.cpan/build/DateTime-Locale-0.45-T_5uGV/blib/lib:/home/perluser/.cpan/build/Params-Validate-1.13-L5OCSp/blib/arch:/home/perluser/.cpan/build/Params-Validate-1.13-L5OCSp/blib/lib:/home/perluser/.cpan/build/Module-Implementation-0.09-LbfqkJ/blib/arch:/home/perluser/.cpan/build/Module-Implementation-0.09-LbfqkJ/blib/lib:/home/perluser/.cpan/build/Module-Runtime-0.014-NRY28n/blib/arch:/home/perluser/.cpan/build/Module-Runtime-0.014-NRY28n/blib/lib:/home/perluser/.cpan/build/Test-Requires-0.08-iDai5s/blib/arch:/home/perluser/.cpan/build/Test-Requires-0.08-iDai5s/blib/lib:/home/perluser/.cpan/build/Test-LeakTrace-0.15-qIOZ3w/blib/arch:/home/perluser/.cpan/build/Test-LeakTrace-0.15-qIOZ3w/blib/lib:/home/perluser/.cpan/build/List-MoreUtils-0.401-r9Olht/blib/arch:/home/perluser/.cpan/build/List-MoreUtils-0.401-r9Olht/blib/lib:/home/perluser/.cpan/build/Test-Warnings-0.019-4eGly5/blib/arch:/home/perluser/.cpan/build/Test-Warnings-0.019-4eGly5/blib/lib:/home/perluser/.cpan/build/Exporter-Tiny-0.042-MQv9Xr/blib/arch:/home/perluser/.cpan/build/Exporter-Tiny-0.042-MQv9Xr/blib/lib:/home/perluser/.cpan/build/CGI-4.13-QCDICV/blib/arch:/home/perluser/.cpan/build/CGI-4.13-QCDICV/blib/lib:/home/perluser/.cpan/build/Test-Deep-0.114-kj3WT0/blib/arch:/home/perluser/.cpan/build/Test-Deep-0.114-kj3WT0/blib/lib:/home/perluser/.cpan/build/Test-NoWarnings-1.04-z1ixyz/blib/arch:/home/perluser/.cpan/build/Test-NoWarnings-1.04-z1ixyz/blib/lib:/home/perluser/.cpan/build/Test-Warn-0.30-x6u7Zv/blib/arch:/home/perluser/.cpan/build/Test-Warn-0.30-x6u7Zv/blib/lib:/home/perluser/.cpan/build/Sub-Uplevel-0.24-vkRL5c/blib/arch:/home/perluser/.cpan/build/Sub-Uplevel-0.24-vkRL5c/blib/lib"
    PERL5OPT=""
    PERL5_CPANPLUS_IS_RUNNING="16109"
    PERL5_CPAN_IS_RUNNING="16109"
    PERL5_CPAN_IS_RUNNING_IN_RECURSION="16735,16109"
    PERLBREW_BASHRC_VERSION="0.71"
    PERLBREW_HOME="/home/perluser/.perlbrew"
    PERLBREW_MANPATH="/home/perluser/perl5/perlbrew/perls/perl-5.21.7/man"
    PERLBREW_PATH="/home/perluser/perl5/perlbrew/bin:/home/perluser/perl5/perlbrew/perls/perl-5.21.7/bin"
    PERLBREW_PERL="perl-5.21.7"
    PERLBREW_ROOT="/home/perluser/perl5/perlbrew"
    PERLBREW_VERSION="0.71"
    PERL_CR_SMOKER_CURRENT="Labyrinth-Plugin-Requests-1.04"
    PERL_EXTUTILS_AUTOINSTALL="--defaultdeps"
    PERL_MM_USE_DEFAULT="1"
  @INC:
    /home/perluser/.cpan/build/Perl6-Junction-1.60000-Uhul1x/blib/arch
    /home/perluser/.cpan/build/Perl6-Junction-1.60000-Uhul1x/blib/lib
    /home/perluser/.cpan/build/Regexp-Common-2013031301-pL_uQG/blib/arch
    /home/perluser/.cpan/build/Regexp-Common-2013031301-pL_uQG/blib/lib
    /home/perluser/.cpan/build/Image-Size-3.232-BTh5JA/blib/arch
    /home/perluser/.cpan/build/Image-Size-3.232-BTh5JA/blib/lib
    /home/perluser/.cpan/build/Email-Valid-1.195-Yo7qEu/blib/arch
    /home/perluser/.cpan/build/Email-Valid-1.195-Yo7qEu/blib/lib
    /home/perluser/.cpan/build/Date-Calc-6.3-JMo__4/blib/arch
    /home/perluser/.cpan/build/Date-Calc-6.3-JMo__4/blib/lib
    /home/perluser/.cpan/build/Bit-Vector-7.4-AT0K_T/blib/arch
    /home/perluser/.cpan/build/Bit-Vector-7.4-AT0K_T/blib/lib
    /home/perluser/.cpan/build/Carp-Clan-6.04-OUdSPP/blib/arch
    /home/perluser/.cpan/build/Carp-Clan-6.04-OUdSPP/blib/lib
    /home/perluser/.cpan/build/File-MMagic-1.30-y20cDp/blib/arch
    /home/perluser/.cpan/build/File-MMagic-1.30-y20cDp/blib/lib
    /home/perluser/.cpan/build/Data-FormValidator-Filters-Demoroniser-0.05-CA8D0n/blib/arch
    /home/perluser/.cpan/build/Data-FormValidator-Filters-Demoroniser-0.05-CA8D0n/blib/lib
    /home/perluser/.cpan/build/Text-Demoroniser-0.06-RrwJFm/blib/arch
    /home/perluser/.cpan/build/Text-Demoroniser-0.06-RrwJFm/blib/lib
    /home/perluser/.cpan/build/Encode-ZapCP1252-0.33-Uhd405/blib/arch
    /home/perluser/.cpan/build/Encode-ZapCP1252-0.33-Uhd405/blib/lib
    /home/perluser/.cpan/build/Font-AFM-1.20-jtWeFv/blib/arch
    /home/perluser/.cpan/build/Font-AFM-1.20-jtWeFv/blib/lib
    /home/perluser/.cpan/build/Convert-BinHex-1.123-Ah9RfH/blib/arch
    /home/perluser/.cpan/build/Convert-BinHex-1.123-Ah9RfH/blib/lib
    /home/perluser/.cpan/build/Test-Most-0.34-hZmZmk/blib/arch
    /home/perluser/.cpan/build/Test-Most-0.34-hZmZmk/blib/lib
    /home/perluser/.cpan/build/Exception-Class-1.39-_wuf1s/blib/arch
    /home/perluser/.cpan/build/Exception-Class-1.39-_wuf1s/blib/lib
    /home/perluser/.cpan/build/Devel-StackTrace-2.00-bkGnr7/blib/arch
    /home/perluser/.cpan/build/Devel-StackTrace-2.00-bkGnr7/blib/lib
    /home/perluser/.cpan/build/Test-Differences-0.63-jEEsjP/blib/arch
    /home/perluser/.cpan/build/Test-Differences-0.63-jEEsjP/blib/lib
    /home/perluser/.cpan/build/Text-Diff-1.41-TCqmPN/blib/arch
    /home/perluser/.cpan/build/Text-Diff-1.41-TCqmPN/blib/lib
    /home/perluser/.cpan/build/Algorithm-Diff-1.1903-eGp0ex/blib/arch
    /home/perluser/.cpan/build/Algorithm-Diff-1.1903-eGp0ex/blib/lib
    /home/perluser/.cpan/build/Test-Exception-0.35-3hx8nZ/blib/arch
    /home/perluser/.cpan/build/Test-Exception-0.35-3hx8nZ/blib/lib
    /home/perluser/.cpan/build/MIME-tools-5.505-xrPg_E/blib/arch
    /home/perluser/.cpan/build/MIME-tools-5.505-xrPg_E/blib/lib
    /home/perluser/.cpan/build/MIME-Lite-3.030-gLX3Dw/blib/arch
    /home/perluser/.cpan/build/MIME-Lite-3.030-gLX3Dw/blib/lib
    /home/perluser/.cpan/build/Email-Date-Format-1.005-HX03BF/blib/arch
    /home/perluser/.cpan/build/Email-Date-Format-1.005-HX03BF/blib/lib
    /home/perluser/.cpan/build/MIME-Types-2.09-aXAe1R/blib/arch
    /home/perluser/.cpan/build/MIME-Types-2.09-aXAe1R/blib/lib
    /home/perluser/.cpan/build/MailTools-2.14-kfuaIq/blib/arch
    /home/perluser/.cpan/build/MailTools-2.14-kfuaIq/blib/lib
    /home/perluser/.cpan/build/TimeDate-2.30-U_hmAJ/blib/arch
    /home/perluser/.cpan/build/TimeDate-2.30-U_hmAJ/blib/lib
    /home/perluser/.cpan/build/DateTime-Format-Mail-0.401-PI4zZI/blib/arch
    /home/perluser/.cpan/build/DateTime-Format-Mail-0.401-PI4zZI/blib/lib
    /home/perluser/.cpan/build/Session-Token-1.008-WQzR8J/blib/arch
    /home/perluser/.cpan/build/Session-Token-1.008-WQzR8J/blib/lib
    /home/perluser/.cpan/build/DBI-1.632-QE87GD/blib/arch
    /home/perluser/.cpan/build/DBI-1.632-QE87GD/blib/lib
    /home/perluser/.cpan/build/Data-Phrasebook-Loader-Ini-0.14-04lE8U/blib/arch
    /home/perluser/.cpan/build/Data-Phrasebook-Loader-Ini-0.14-04lE8U/blib/lib
    /home/perluser/.cpan/build/Config-IniFiles-2.83-9v8dvz/blib/arch
    /home/perluser/.cpan/build/Config-IniFiles-2.83-9v8dvz/blib/lib
    /home/perluser/.cpan/build/Digest-SHA1-2.13-L0zCoz/blib/arch
    /home/perluser/.cpan/build/Digest-SHA1-2.13-L0zCoz/blib/lib
    /home/perluser/.cpan/build/Class-Data-Inheritable-0.08-m5kZ5o/blib/arch
    /home/perluser/.cpan/build/Class-Data-Inheritable-0.08-m5kZ5o/blib/lib
    /home/perluser/.cpan/build/File-Slurp-9999.19-xUD4p_/blib/arch
    /home/perluser/.cpan/build/File-Slurp-9999.19-xUD4p_/blib/lib
    /home/perluser/.cpan/build/HTML-TagCloud-0.38-RlSSC1/blib/arch
    /home/perluser/.cpan/build/HTML-TagCloud-0.38-RlSSC1/blib/lib
    /home/perluser/.cpan/build/Test-Pod-Coverage-1.10-vk4jCv/blib/arch
    /home/perluser/.cpan/build/Test-Pod-Coverage-1.10-vk4jCv/blib/lib
    /home/perluser/.cpan/build/Pod-Coverage-0.23-cbyhje/blib/arch
    /home/perluser/.cpan/build/Pod-Coverage-0.23-cbyhje/blib/lib
    /home/perluser/.cpan/build/Devel-Symdump-2.14-iiy454/blib/arch
    /home/perluser/.cpan/build/Devel-Symdump-2.14-iiy454/blib/lib
    /home/perluser/.cpan/build/Test-CPAN-Meta-0.23-WUoIVQ/blib/arch
    /home/perluser/.cpan/build/Test-CPAN-Meta-0.23-WUoIVQ/blib/lib
    /home/perluser/.cpan/build/Test-Pod-1.48-AZsWH3/blib/arch
    /home/perluser/.cpan/build/Test-Pod-1.48-AZsWH3/blib/lib
    /home/perluser/.cpan/build/Test-CPAN-Meta-JSON-0.15-RErnv5/blib/arch
    /home/perluser/.cpan/build/Test-CPAN-Meta-JSON-0.15-RErnv5/blib/lib
    /home/perluser/.cpan/build/Data-Phrasebook-0.35-lnm3pv/blib/arch
    /home/perluser/.cpan/build/Data-Phrasebook-0.35-lnm3pv/blib/lib
    /home/perluser/.cpan/build/Module-Pluggable-5.1-Hfd_tK/blib/arch
    /home/perluser/.cpan/build/Module-Pluggable-5.1-Hfd_tK/blib/lib
    /home/perluser/.cpan/build/DateTime-1.12-BkRKo7/blib/arch
    /home/perluser/.cpan/build/DateTime-1.12-BkRKo7/blib/lib
    /home/perluser/.cpan/build/DateTime-TimeZone-1.83-T5aJ9D/blib/arch
    /home/perluser/.cpan/build/DateTime-TimeZone-1.83-T5aJ9D/blib/lib
    /home/perluser/.cpan/build/List-AllUtils-0.09-oWpm6D/blib/arch
    /home/perluser/.cpan/build/List-AllUtils-0.09-oWpm6D/blib/lib
    /home/perluser/.cpan/build/Class-Singleton-1.5-m73VOq/blib/arch
    /home/perluser/.cpan/build/Class-Singleton-1.5-m73VOq/blib/lib
    /home/perluser/.cpan/build/DateTime-Locale-0.45-T_5uGV/blib/arch
    /home/perluser/.cpan/build/DateTime-Locale-0.45-T_5uGV/blib/lib
    /home/perluser/.cpan/build/Params-Validate-1.13-L5OCSp/blib/arch
    /home/perluser/.cpan/build/Params-Validate-1.13-L5OCSp/blib/lib
    /home/perluser/.cpan/build/Module-Implementation-0.09-LbfqkJ/blib/arch
    /home/perluser/.cpan/build/Module-Implementation-0.09-LbfqkJ/blib/lib
    /home/perluser/.cpan/build/Module-Runtime-0.014-NRY28n/blib/arch
    /home/perluser/.cpan/build/Module-Runtime-0.014-NRY28n/blib/lib
    /home/perluser/.cpan/build/Test-Requires-0.08-iDai5s/blib/arch
    /home/perluser/.cpan/build/Test-Requires-0.08-iDai5s/blib/lib
    /home/perluser/.cpan/build/Test-LeakTrace-0.15-qIOZ3w/blib/arch
    /home/perluser/.cpan/build/Test-LeakTrace-0.15-qIOZ3w/blib/lib
    /home/perluser/.cpan/build/List-MoreUtils-0.401-r9Olht/blib/arch
    /home/perluser/.cpan/build/List-MoreUtils-0.401-r9Olht/blib/lib
    /home/perluser/.cpan/build/Test-Warnings-0.019-4eGly5/blib/arch
    /home/perluser/.cpan/build/Test-Warnings-0.019-4eGly5/blib/lib
    /home/perluser/.cpan/build/Exporter-Tiny-0.042-MQv9Xr/blib/arch
    /home/perluser/.cpan/build/Exporter-Tiny-0.042-MQv9Xr/blib/lib
    /home/perluser/.cpan/build/CGI-4.13-QCDICV/blib/arch
    /home/perluser/.cpan/build/CGI-4.13-QCDICV/blib/lib
    /home/perluser/.cpan/build/Test-Deep-0.114-kj3WT0/blib/arch
    /home/perluser/.cpan/build/Test-Deep-0.114-kj3WT0/blib/lib
    /home/perluser/.cpan/build/Test-NoWarnings-1.04-z1ixyz/blib/arch
    /home/perluser/.cpan/build/Test-NoWarnings-1.04-z1ixyz/blib/lib
    /home/perluser/.cpan/build/Test-Warn-0.30-x6u7Zv/blib/arch
    /home/perluser/.cpan/build/Test-Warn-0.30-x6u7Zv/blib/lib
    /home/perluser/.cpan/build/Sub-Uplevel-0.24-vkRL5c/blib/arch
    /home/perluser/.cpan/build/Sub-Uplevel-0.24-vkRL5c/blib/lib
    /home/perluser/perl5/perlbrew/perls/perl-5.21.7/lib/site_perl/5.21.7/x86_64-linux
    /home/perluser/perl5/perlbrew/perls/perl-5.21.7/lib/site_perl/5.21.7
    /home/perluser/perl5/perlbrew/perls/perl-5.21.7/lib/5.21.7/x86_64-linux
    /home/perluser/perl5/perlbrew/perls/perl-5.21.7/lib/5.21.7
    .