Back
From: metabase:user:320bfe00-2aae-11df-837a-5e0a49663a4f
Subject: PASS namespace-autoclean-0.24 v5.21.9 GNU/Linux
Date: 2015-01-23T22:10:56Z
This distribution has been tested as part of the CPAN Testers
project, supporting the Perl programming language. See
http://wiki.cpantesters.org/ for more information or email
questions to cpan-testers-discuss@perl.org
--
Dear Karen Etheridge,
This is a computer-generated report for namespace-autoclean-0.24
on perl 5.21.9, created by CPAN-Reporter-1.2011.
Thank you for uploading your work to CPAN. Congratulations!
All tests were successful.
Sections of this report:
* Tester comments
* Program output
* Prerequisites
* Environment and other context
------------------------------
TESTER COMMENTS
------------------------------
Additional comments from tester:
this report is from an automated smoke testing program
and was not reviewed by a human for accuracy
------------------------------
PROGRAM OUTPUT
------------------------------
Output from './Build test':
# Versions for all modules listed in MYMETA.json (including optional ones):
#
# === Configure Requires ===
#
# Module Want Have
# ------------------- ----- -----
# Module::Build::Tiny 0.039 0.039
#
# === Test Requires ===
#
# Module Want Have
# ------------------- ---- ------------
# Carp any 1.34
# ExtUtils::MakeMaker any 7.04
# File::Basename any 2.85
# File::Spec any 3.53
# Scalar::Util any 1.41
# Test::More 0.88 1.301001_097
# Test::Requires any 0.08
# base any 2.22
# constant any 1.32
# overload any 1.24
#
# === Test Recommends ===
#
# Module Want Have
# ---------- -------- --------
# CPAN::Meta 2.120900 2.143240
#
# === Runtime Requires ===
#
# Module Want Have
# -------------------- ---- ----
# B::Hooks::EndOfScope 0.12 0.13
# List::Util any 1.41
# Sub::Identify any 0.10
# namespace::clean 0.20 0.25
# strict any 1.09
# warnings any 1.30
#
# === Other Modules ===
#
# Module Want Have
# ----------------------------- ---- --------
# Class::MOP any 2.1403
# Moo any 1.007000
# Moose any 2.1403
# MooseX::Role::WithOverloading any missing
# Mouse any 2.4.1
# Mouse::PurePerl any undef
# Sub::Install any 0.928
# Sub::Name any 0.12
#
t/00-report-prereqs.t ...... ok
t/also.t ................... ok
t/basic.t .................. ok
t/broken_meta.t ............ ok
t/cleanee.t ................ ok
t/constant.t ............... ok
t/except.t ................. ok
t/matchclean.t ............. ok
t/moo.t .................... ok
t/moose-withoverloading.t .. skipped: Test requires module 'MooseX::Role::WithOverloading' but it's not found
t/moose.t .................. ok
Constants from lexical variables potentially modified elsewhere are deprecated at /home/sand/src/perl/repoperls/installed-perls/perl/v5.21.8-42-g127a715/165a/lib/site_perl/5.21.9/x86_64-linux/Mouse/Util.pm line 79.
t/mouse-pp.t ............... ok
Constants from lexical variables potentially modified elsewhere are deprecated at /home/sand/src/perl/repoperls/installed-perls/perl/v5.21.8-42-g127a715/165a/lib/site_perl/5.21.9/x86_64-linux/Mouse/Util.pm line 79.
t/mouse.t .................. ok
t/overload.t ............... ok
t/sub-install.t ............ ok
t/sub-name.t ............... ok
All tests successful.
Files=16, Tests=186, 2 wallclock secs ( 0.05 usr 0.02 sys + 1.26 cusr 0.08 csys = 1.41 CPU)
Result: PASS
------------------------------
PREREQUISITES
------------------------------
Prerequisite modules loaded:
requires:
Module Need Have
-------------------- ----- ------------
B::Hooks::EndOfScope 0.12 0.13
List::Util 0 1.41
namespace::clean 0.20 0.25
perl 5.006 5.021009
strict 0 1.09
Sub::Identify 0 0.10
warnings 0 1.30
build_requires:
Module Need Have
-------------------- ----- ------------
base 0 2.22
Carp 0 1.34
constant 0 1.32
ExtUtils::MakeMaker 0 7.04
File::Basename 0 2.85
File::Spec 0 3.53
overload 0 1.24
perl 5.006 5.021009
Scalar::Util 0 1.41
Test::More 0.88 1.301001_097
Test::Requires 0 0.08
configure_requires:
Module Need Have
-------------------- ----- ------------
Module::Build::Tiny 0.039 0.039
perl 5.006 5.021009
------------------------------
ENVIRONMENT AND OTHER CONTEXT
------------------------------
Environment variables:
AUTOMATED_TESTING = 1
LANG = en_US.UTF-8
LANGUAGE = en_US:en
PATH = /home/sand/bin:/usr/local/bin:/usr/bin:/bin:/usr/games:/usr/local/perl/bin:/usr/X11/bin:/sbin:/usr/sbin
PERL5LIB =
PERL5OPT =
PERL5_CPANPLUS_IS_RUNNING = 21384
PERL5_CPAN_IS_RUNNING = 21384
PERL_MM_USE_DEFAULT = 1
SHELL = /usr/bin/zsh
TERM = screen
Perl special variables (and OS-specific diagnostics, for MSWin32):
$^X = /tmp/basesmoker-reloperl-Hk3b/bin/perl
$UID/$EUID = 1005 / 1005
$GID = 1005 1005
$EGID = 1005 1005
Perl module toolchain versions installed:
Module Have
------------------- ------------
CPAN 2.05
CPAN::Meta 2.143240
Cwd 3.54
ExtUtils::CBuilder 0.280221
ExtUtils::Command 1.20
ExtUtils::Install 2.04
ExtUtils::MakeMaker 7.04
ExtUtils::Manifest 1.70
ExtUtils::ParseXS 3.27
File::Spec 3.53
JSON 2.90
JSON::PP 2.27300
Module::Build 0.4211
Module::Signature 0.73
Parse::CPAN::Meta 1.4414
Test::Harness 3.35
Test::More 1.301001_097
YAML 1.14
YAML::Syck 1.29
version 0.9909
--
Summary of my perl5 (revision 5 version 21 subversion 9) configuration:
Commit id: 127a7155e792d480c35e856b70f4e4378fc91f49
Platform:
osname=linux, osvers=3.16.0-4-amd64, archname=x86_64-linux
uname='linux k83 3.16.0-4-amd64 #1 smp debian 3.16.7-ckt2-1 (2014-12-08) x86_64 gnulinux '
config_args='-Dprefix=/home/sand/src/perl/repoperls/installed-perls/perl/v5.21.8-42-g127a715/165a -Dmyhostname=k83 -Dinstallusrbinperl=n -Uversiononly -Dusedevel -des -Ui_db -Uuseithreads -Uuselongdouble -DDEBUGGING=-g'
hint=recommended, useposix=true, d_sigaction=define
useithreads=undef, usemultiplicity=undef
use64bitint=define, use64bitall=define, uselongdouble=undef
usemymalloc=n, bincompat5005=undef
Compiler:
cc='cc', ccflags ='-fwrapv -fno-strict-aliasing -pipe -fstack-protector-strong -I/usr/local/include -D_LARGEFILE_SOURCE -D_FILE_OFFSET_BITS=64 -D_FORTIFY_SOURCE=2',
optimize='-O2 -g',
cppflags='-fwrapv -fno-strict-aliasing -pipe -fstack-protector-strong -I/usr/local/include'
ccversion='', gccversion='4.9.2', gccosandvers=''
intsize=4, longsize=8, ptrsize=8, doublesize=8, byteorder=12345678, doublekind=3
d_longlong=define, longlongsize=8, d_longdbl=define, longdblsize=16, longdblkind=3
ivtype='long', ivsize=8, nvtype='double', nvsize=8, Off_t='off_t', lseeksize=8
alignbytes=8, prototype=define
Linker and Libraries:
ld='cc', ldflags =' -fstack-protector-strong -L/usr/local/lib'
libpth=/usr/local/lib /usr/lib/gcc/x86_64-linux-gnu/4.9/include-fixed /usr/include/x86_64-linux-gnu /usr/lib /lib/x86_64-linux-gnu /lib/../lib /usr/lib/x86_64-linux-gnu /usr/lib/../lib /lib
libs=-lpthread -lnsl -lgdbm -ldb -ldl -lm -lcrypt -lutil -lc -lgdbm_compat
perllibs=-lpthread -lnsl -ldl -lm -lcrypt -lutil -lc
libc=libc-2.19.so, so=so, useshrplib=false, libperl=libperl.a
gnulibc_version='2.19'
Dynamic Linking:
dlsrc=dl_dlopen.xs, dlext=so, d_dlsymun=undef, ccdlflags='-Wl,-E'
cccdlflags='-fPIC', lddlflags='-shared -O2 -g -L/usr/local/lib -fstack-protector-strong'
Characteristics of this binary (from libperl):
Compile-time options: HAS_TIMES PERLIO_LAYERS PERL_DONT_CREATE_GVSV
PERL_HASH_FUNC_ONE_AT_A_TIME_HARD PERL_MALLOC_WRAP
PERL_NEW_COPY_ON_WRITE PERL_PRESERVE_IVUV
PERL_USE_DEVEL USE_64_BIT_ALL USE_64_BIT_INT
USE_LARGE_FILES USE_LOCALE USE_LOCALE_COLLATE
USE_LOCALE_CTYPE USE_LOCALE_NUMERIC USE_LOCALE_TIME
USE_PERLIO USE_PERL_ATOF
Built under linux
Compiled at Jan 23 2015 09:42:25
%ENV:
PERL5LIB=""
PERL5OPT=""
PERL5_CPANPLUS_IS_RUNNING="21384"
PERL5_CPAN_IS_RUNNING="21384"
PERL_MM_USE_DEFAULT="1"
@INC:
/home/sand/src/perl/repoperls/installed-perls/perl/v5.21.8-42-g127a715/165a/lib/site_perl/5.21.9/x86_64-linux
/home/sand/src/perl/repoperls/installed-perls/perl/v5.21.8-42-g127a715/165a/lib/site_perl/5.21.9
/home/sand/src/perl/repoperls/installed-perls/perl/v5.21.8-42-g127a715/165a/lib/5.21.9/x86_64-linux
/home/sand/src/perl/repoperls/installed-perls/perl/v5.21.8-42-g127a715/165a/lib/5.21.9
.