Back
From: metabase:user:320bfe00-2aae-11df-837a-5e0a49663a4f
Subject: PASS Redis-JobQueue-1.19 v5.25.11 GNU/Linux
Date: 2017-04-03T05:16:33Z
This distribution has been tested as part of the CPAN Testers
project, supporting the Perl programming language. See
http://wiki.cpantesters.org/ for more information or email
questions to cpan-testers-discuss@perl.org
--
Dear Sergey Gladkov,
This is a computer-generated report for Redis-JobQueue-1.19
on perl 5.25.11, created by CPAN-Reporter-1.2018.
Thank you for uploading your work to CPAN. Congratulations!
All tests were successful.
Sections of this report:
* Tester comments
* Program output
* Prerequisites
* Environment and other context
------------------------------
TESTER COMMENTS
------------------------------
Additional comments from tester:
this report is from an automated smoke testing program
and was not reviewed by a human for accuracy
------------------------------
PROGRAM OUTPUT
------------------------------
Output from '/usr/bin/make test':
PERL_DL_NONLAZY=1 "/home/sand/src/perl/repoperls/installed-perls/host/k93msid/v5.25.11/f11c/bin/perl" "-MExtUtils::Command::MM" "-MTest::Harness" "-e" "undef *Test::Harness::Switches; test_harness(0, 'blib/lib', 'blib/arch')" t/00_compile.t t/00_Job/00_compile.t t/00_Job/01_new.t t/00_Job/02_accessor.t t/00_Job/03_modified.t t/00_Job/04_job_attributes.t t/00_Job/05_meta_data.t t/01_JobQueue/00_compile.t t/01_JobQueue/01_new.t t/01_JobQueue/02_add_job.t t/01_JobQueue/04_load_job.t t/01_JobQueue/05_get_next_job.t t/01_JobQueue/06_update_job.t t/01_JobQueue/07_delete_job.t t/01_JobQueue/08_get_job_ids.t t/01_JobQueue/09_quit.t t/01_JobQueue/10_max_datasize.t t/01_JobQueue/11_last_errorcode.t t/01_JobQueue/12_timeout.t t/01_JobQueue/13_get_job_meta_fields.t t/01_JobQueue/14_get_job_data.t t/01_JobQueue/15_queue_status.t t/01_JobQueue/16_utf8.t
t/00_compile.t .......................... ok
t/00_Job/00_compile.t ................... ok
t/00_Job/01_new.t ....................... ok
t/00_Job/02_accessor.t .................. ok
t/00_Job/03_modified.t .................. ok
t/00_Job/04_job_attributes.t ............ ok
t/00_Job/05_meta_data.t ................. ok
t/01_JobQueue/00_compile.t .............. ok
# redis-server version: 3.2.8
t/01_JobQueue/01_new.t .................. ok
t/01_JobQueue/02_add_job.t .............. ok
t/01_JobQueue/04_load_job.t ............. ok
t/01_JobQueue/05_get_next_job.t ......... ok
t/01_JobQueue/06_update_job.t ........... ok
t/01_JobQueue/07_delete_job.t ........... ok
t/01_JobQueue/08_get_job_ids.t .......... ok
t/01_JobQueue/09_quit.t ................. ok
t/01_JobQueue/10_max_datasize.t ......... ok
t/01_JobQueue/11_last_errorcode.t ....... ok
t/01_JobQueue/12_timeout.t .............. ok
t/01_JobQueue/13_get_job_meta_fields.t .. ok
t/01_JobQueue/14_get_job_data.t ......... ok
t/01_JobQueue/15_queue_status.t ......... ok
t/01_JobQueue/16_utf8.t ................. ok
All tests successful.
Files=23, Tests=1331, 39 wallclock secs ( 0.18 usr 0.12 sys + 7.12 cusr 3.66 csys = 11.08 CPU)
Result: PASS
------------------------------
PREREQUISITES
------------------------------
Prerequisite modules loaded:
requires:
Module Need Have
------------------- ----- ---------
Data::UUID 1.217 1.221
Digest::SHA1 2.13 2.13
List::MoreUtils 0.33 0.417_001
Mouse 0 v2.4.9
Params::Util 1.07 1.07
perl 5.010 5.025011
Redis 1.976 1.991
Storable 2.18 2.62
Try::Tiny 0.18 0.28
build_requires:
Module Need Have
------------------- ----- ---------
ExtUtils::MakeMaker 0 7.24
Test::Deep 0.109 1.126
Test::Exception 0.31 0.43
Test::NoWarnings 1.04 1.04
Test::RedisServer 0.04 0.20
Test::TCP 2.11 2.17
configure_requires:
Module Need Have
------------------- ----- ---------
ExtUtils::MakeMaker 0 7.24
------------------------------
ENVIRONMENT AND OTHER CONTEXT
------------------------------
Environment variables:
AUTOMATED_TESTING = 1
LANG = en_US.UTF-8
PATH = /home/sand/bin:/usr/local/bin:/usr/bin:/bin:/usr/games:/usr/local/perl/bin:/usr/X11/bin:/sbin:/usr/sbin
PERL5LIB = /tmp/loop_over_bdir-7514-2lh7En/Mouse-v2.4.9-0/blib/arch:/tmp/loop_over_bdir-7514-2lh7En/Mouse-v2.4.9-0/blib/lib
PERL5OPT =
PERL5_CPANPLUS_IS_RUNNING = 7534
PERL5_CPAN_IS_RUNNING = 7534
PERL_CANARY_STABILITY_NOPROMPT = 1
PERL_MM_USE_DEFAULT = 1
PERL_USE_UNSAFE_INC = 1
SHELL = /usr/bin/zsh
TERM = screen
Perl special variables (and OS-specific diagnostics, for MSWin32):
$^X = /home/sand/src/perl/repoperls/installed-perls/host/k93msid/v5.25.11/f11c/bin/perl
$UID/$EUID = 1005 / 1005
$GID = 1005 1005
$EGID = 1005 1005
Perl module toolchain versions installed:
Module Have
------------------- ----------
CPAN 2.17
CPAN::Meta 2.150010
Cwd 3.67
ExtUtils::CBuilder 0.280225
ExtUtils::Command 7.24
ExtUtils::Install 2.04
ExtUtils::MakeMaker 7.24
ExtUtils::Manifest 1.70
ExtUtils::ParseXS 3.34
File::Spec 3.67
JSON 2.90
JSON::PP 2.27400_02
Module::Build 0.4222
Module::Signature 0.81
Parse::CPAN::Meta 2.150010
Test::Harness 3.38
Test::More 1.302078
YAML 1.23
YAML::Syck 1.29
version 0.9917
--
Summary of my perl5 (revision 5 version 25 subversion 11) configuration:
Commit id: 295d6d042a7c8bac9b1d5d201a473c7723b50d3f
Platform:
osname=linux
osvers=4.9.0-2-amd64
archname=x86_64-linux-thread-multi
uname='linux k93msid 4.9.0-2-amd64 #1 smp debian 4.9.13-1 (2017-02-27) x86_64 gnulinux '
config_args='-Dprefix=/home/sand/src/perl/repoperls/installed-perls/host/k93msid/v5.25.11/f11c -Dmyhostname=k93msid -Dinstallusrbinperl=n -Uversiononly -Dusedevel -des -Ui_db -Dlibswanted=cl pthread socket inet nsl gdbm dbm malloc dl ld sun m crypt sec util c cposix posix ucb BSD gdbm_compat -Duseithreads -Uuselongdouble -DDEBUGGING=-g'
hint=recommended
useposix=true
d_sigaction=define
useithreads=define
usemultiplicity=define
use64bitint=define
use64bitall=define
uselongdouble=undef
usemymalloc=n
default_inc_excludes_dot=define
bincompat5005=undef
Compiler:
cc='cc'
ccflags ='-D_REENTRANT -D_GNU_SOURCE -fwrapv -fno-strict-aliasing -pipe -fstack-protector-strong -I/usr/local/include -D_LARGEFILE_SOURCE -D_FILE_OFFSET_BITS=64'
optimize='-O2 -g'
cppflags='-D_REENTRANT -D_GNU_SOURCE -fwrapv -fno-strict-aliasing -pipe -fstack-protector-strong -I/usr/local/include'
ccversion=''
gccversion='6.3.0 20170316'
gccosandvers=''
intsize=4
longsize=8
ptrsize=8
doublesize=8
byteorder=12345678
doublekind=3
d_longlong=define
longlongsize=8
d_longdbl=define
longdblsize=16
longdblkind=3
ivtype='long'
ivsize=8
nvtype='double'
nvsize=8
Off_t='off_t'
lseeksize=8
alignbytes=8
prototype=define
Linker and Libraries:
ld='cc'
ldflags =' -fstack-protector-strong -L/usr/local/lib'
libpth=/usr/local/lib /usr/lib/gcc/x86_64-linux-gnu/6/include-fixed /usr/include/x86_64-linux-gnu /usr/lib /lib/x86_64-linux-gnu /lib/../lib /usr/lib/x86_64-linux-gnu /usr/lib/../lib /lib
libs=-lpthread -lnsl -ldl -lm -lcrypt -lutil -lc
perllibs=-lpthread -lnsl -ldl -lm -lcrypt -lutil -lc
libc=libc-2.24.so
so=so
useshrplib=false
libperl=libperl.a
gnulibc_version='2.24'
Dynamic Linking:
dlsrc=dl_dlopen.xs
dlext=so
d_dlsymun=undef
ccdlflags='-Wl,-E'
cccdlflags='-fPIC'
lddlflags='-shared -O2 -g -L/usr/local/lib -fstack-protector-strong'
Characteristics of this binary (from libperl):
Compile-time options:
HAS_TIMES
MULTIPLICITY
PERLIO_LAYERS
PERL_COPY_ON_WRITE
PERL_DONT_CREATE_GVSV
PERL_IMPLICIT_CONTEXT
PERL_MALLOC_WRAP
PERL_OP_PARENT
PERL_PRESERVE_IVUV
PERL_USE_DEVEL
USE_64_BIT_ALL
USE_64_BIT_INT
USE_ITHREADS
USE_LARGE_FILES
USE_LOCALE
USE_LOCALE_COLLATE
USE_LOCALE_CTYPE
USE_LOCALE_NUMERIC
USE_LOCALE_TIME
USE_PERLIO
USE_PERL_ATOF
USE_REENTRANT_API
Built under linux
Compiled at Mar 20 2017 21:56:14
%ENV:
PERL5LIB="/tmp/loop_over_bdir-7514-2lh7En/Mouse-v2.4.9-0/blib/arch:/tmp/loop_over_bdir-7514-2lh7En/Mouse-v2.4.9-0/blib/lib"
PERL5OPT=""
PERL5_CPANPLUS_IS_RUNNING="7534"
PERL5_CPAN_IS_RUNNING="7534"
PERL_CANARY_STABILITY_NOPROMPT="1"
PERL_MM_USE_DEFAULT="1"
PERL_USE_UNSAFE_INC="1"
@INC:
/tmp/loop_over_bdir-7514-2lh7En/Mouse-v2.4.9-0/blib/arch
/tmp/loop_over_bdir-7514-2lh7En/Mouse-v2.4.9-0/blib/lib
/home/sand/src/perl/repoperls/installed-perls/host/k93msid/v5.25.11/f11c/lib/site_perl/5.25.11/x86_64-linux-thread-multi
/home/sand/src/perl/repoperls/installed-perls/host/k93msid/v5.25.11/f11c/lib/site_perl/5.25.11
/home/sand/src/perl/repoperls/installed-perls/host/k93msid/v5.25.11/f11c/lib/5.25.11/x86_64-linux-thread-multi
/home/sand/src/perl/repoperls/installed-perls/host/k93msid/v5.25.11/f11c/lib/5.25.11
.