SQL-Maker v1.22 Perl 5 v5.41.6 x86_64-linux-thread-multi
- Status
- Pass
- From
- Carlos Guevara
- Dist
-
SQL-Maker v1.22
- Platform
- Perl 5 v5.41.6 x86_64-linux-thread-multi
- Date
- 2024-10-28 11:06:38
- ID
- b43fa82a-951c-11ef-91d1-c47bf541b0c0
This distribution has been tested as part of the CPAN Testers
project, supporting the Perl programming language. See
http://wiki.cpantesters.org/ for more information or email
questions to cpan-testers-discuss@perl.org
--
Dear Tokuhiro Matsuno'xmp,
This is a computer-generated report for SQL-Maker-1.22
on perl 5.41.6, created by CPAN-Reporter-1.2020.
Thank you for uploading your work to CPAN. Congratulations!
All tests were successful.
Sections of this report:
* Tester comments
* Program output
* Prerequisites
* Environment and other context
------------------------------
TESTER COMMENTS
------------------------------
Additional comments from tester:
this report is from an automated smoke testing program
and was not reviewed by a human for accuracy
------------------------------
PROGRAM OUTPUT
------------------------------
Output from './Build test':
t/00_compile.t .......................................... ok
t/01_delete.t ........................................... ok
t/01_insert.t ........................................... ok
t/01_select.t ........................................... ok
t/01_simple.t ........................................... ok
t/01_update.t ........................................... ok
t/01_util.t ............................................. ok
t/02_where.t ............................................ ok
t/09_new_line.t ......................................... ok
t/10_subquery.t ......................................... ok
t/11_set.t .............................................. ok
t/12_insert_empty.t ..................................... ok
t/13_strict.t ........................................... ok
t/14_quote_char.t ....................................... ok
t/condition/01_where.t .................................. ok
t/condition/02_make_term.t .............................. ok
t/condition/03_add_raw.t ................................ ok
t/condition/04_compose_empty.t .......................... ok
t/condition/05_empty_values.t ........................... ok
t/plugins/insert_multi/01_insert_multi.t ................ ok
t/plugins/insert_on_duplicate/01_insert_on_duplicate.t .. ok
t/select/01_statement.t ................................. ok
t/select/02_pod_select.t ................................ ok
t/select/03_clone.t ..................................... ok
t/select/oracle/01_oracle.t ............................. ok
t/sql_type/01_sql_type.t ................................ ok
t/sql_type/02_synopsis.t ................................ ok
All tests successful.
Files=27, Tests=143, 3 wallclock secs ( 0.12 usr 0.03 sys + 1.72 cusr 0.27 csys = 2.14 CPU)
Result: PASS
------------------------------
PREREQUISITES
------------------------------
Prerequisite modules loaded:
requires:
Module Need Have
--------------------- -------- --------
Class::Accessor::Lite 0.05 0.08
DBI 0 1.645
Module::Load 0 0.36
parent 0 0.242
perl 5.008001 5.041006
Scalar::Util 0 1.68
SQL::QueryMaker 0 0.03
build_requires:
Module Need Have
--------------------- -------- --------
Clone 0 0.47
Test::More 0.98 1.302204
Test::Requires 0 0.11
Tie::IxHash 0 1.23
configure_requires:
Module Need Have
--------------------- -------- --------
Module::Build::Tiny 0.035 0.051
------------------------------
ENVIRONMENT AND OTHER CONTEXT
------------------------------
Environment variables:
AUTOMATED_TESTING = 1
DATE_MANIP_TEST_DM5 = 1
LANG = en_US.UTF-8
LC_ALL = C
NONINTERACTIVE_TESTING = 1
NO_NETWORK_TESTING = 1
PATH = /home/cpan/bin/perl/bin:/home/cpan/bin:/usr/share/Modules/bin:/home/cpan/bin:/usr/local/bin:/usr/bin:/usr/local/sbin:/usr/sbin
PERL5LIB =
PERL5OPT =
PERL5_CPANPLUS_IS_RUNNING = 925459
PERL5_CPAN_IS_RUNNING = 925459
PERL_MM_USE_DEFAULT = 1
PERL_USE_UNSAFE_INC = 1
SHELL = /bin/bash
TERM = screen
TMPDIR = /home/cpan/tmp
Perl special variables (and OS-specific diagnostics, for MSWin32):
$^X = /home/cpan/bin/perl/bin/perl5.41.6
$UID/$EUID = 1001 / 1001
$GID = 1001 1001
$EGID = 1001 1001
Perl module toolchain versions installed:
Module Have
------------------- --------
CPAN 2.37
CPAN::Meta 2.150010
Cwd 3.92
ExtUtils::CBuilder 0.280240
ExtUtils::Command 7.70
ExtUtils::Install 2.22
ExtUtils::MakeMaker 7.70
ExtUtils::Manifest 1.75
ExtUtils::ParseXS 3.55
File::Spec 3.93
JSON 4.10
JSON::PP 4.16
Module::Build 0.4234
Module::Signature 0.89
Parse::CPAN::Meta 2.150010
Test2 1.302204
Test::Harness 3.50
Test::More 1.302204
YAML 1.31
YAML::Syck 1.34
version 0.9933
--
Summary of my perl5 (revision 5 version 41 subversion 6) configuration:
Commit id: 5403449fb387c809374905d4dfb2632939752f74
Platform:
osname=linux
osvers=5.14.0-427.40.1.el9_4.x86_64
archname=x86_64-linux-thread-multi
uname='linux cjg-rhel9 5.14.0-427.40.1.el9_4.x86_64 #1 smp preempt_dynamic fri oct 4 15:22:45 edt 2024 x86_64 x86_64 x86_64 gnulinux '
config_args='-des -Dprefix=/home/cpan/bin/perl -Dscriptdir=/home/cpan/bin/perl/bin -Dusedevel -Duse64bitall -Duseithreads'
hint=recommended
useposix=true
d_sigaction=define
useithreads=define
usemultiplicity=define
use64bitint=define
use64bitall=define
uselongdouble=undef
usemymalloc=n
default_inc_excludes_dot=define
Compiler:
cc='cc'
ccflags ='-D_REENTRANT -D_GNU_SOURCE -fwrapv -fno-strict-aliasing -pipe -fstack-protector-strong -I/usr/local/include -D_LARGEFILE_SOURCE -D_FILE_OFFSET_BITS=64 -D_FORTIFY_SOURCE=2'
optimize='-O2'
cppflags='-D_REENTRANT -D_GNU_SOURCE -fwrapv -fno-strict-aliasing -pipe -fstack-protector-strong -I/usr/local/include'
ccversion=''
gccversion='11.4.1 20231218 (Red Hat 11.4.1-3)'
gccosandvers=''
intsize=4
longsize=8
ptrsize=8
doublesize=8
byteorder=12345678
doublekind=3
d_longlong=define
longlongsize=8
d_longdbl=define
longdblsize=16
longdblkind=3
ivtype='long'
ivsize=8
nvtype='double'
nvsize=8
Off_t='off_t'
lseeksize=8
alignbytes=8
prototype=define
Linker and Libraries:
ld='cc'
ldflags =' -fstack-protector-strong -L/usr/local/lib'
libpth=/usr/local/lib /usr/lib /usr/lib64 /usr/local/lib64
libs=-lpthread -ldb -ldl -lm -lcrypt -lutil -lc
perllibs=-lpthread -ldl -lm -lcrypt -lutil -lc
libc=/lib/../lib64/libc.so.6
so=so
useshrplib=false
libperl=libperl.a
gnulibc_version='2.34'
Dynamic Linking:
dlsrc=dl_dlopen.xs
dlext=so
d_dlsymun=undef
ccdlflags='-Wl,-E'
cccdlflags='-fPIC'
lddlflags='-shared -O2 -L/usr/local/lib -fstack-protector-strong'
Characteristics of this binary (from libperl):
Compile-time options:
HAS_LONG_DOUBLE
HAS_STRTOLD
HAS_TIMES
MULTIPLICITY
PERLIO_LAYERS
PERL_COPY_ON_WRITE
PERL_DONT_CREATE_GVSV
PERL_HASH_FUNC_SIPHASH13
PERL_HASH_USE_SBOX32
PERL_MALLOC_WRAP
PERL_OP_PARENT
PERL_PRESERVE_IVUV
PERL_USE_DEVEL
PERL_USE_SAFE_PUTENV
USE_64_BIT_ALL
USE_64_BIT_INT
USE_ITHREADS
USE_LARGE_FILES
USE_LOCALE
USE_LOCALE_COLLATE
USE_LOCALE_CTYPE
USE_LOCALE_NUMERIC
USE_LOCALE_TIME
USE_PERLIO
USE_PERL_ATOF
USE_REENTRANT_API
USE_THREAD_SAFE_LOCALE
Built under linux
Compiled at Oct 27 2024 21:12:26
%ENV:
PERL5LIB=""
PERL5OPT=""
PERL5_CPANPLUS_IS_RUNNING="925459"
PERL5_CPAN_IS_RUNNING="925459"
PERL_MM_USE_DEFAULT="1"
PERL_USE_UNSAFE_INC="1"
@INC:
/home/cpan/bin/perl/lib/site_perl/5.41.6/x86_64-linux-thread-multi
/home/cpan/bin/perl/lib/site_perl/5.41.6
/home/cpan/bin/perl/lib/5.41.6/x86_64-linux-thread-multi
/home/cpan/bin/perl/lib/5.41.6
.