Report for Net-Google-Code-0.19

Back
From: metabase:user:d1ac2ff8-7f34-11e0-ad7d-d635d302c8a1
Subject: PASS Net-Google-Code-0.19 v5.14.0 GNU/Linux
Date: 2011-06-02T14:29:20Z

This distribution has been tested as part of the CPAN Testers
project, supporting the Perl programming language.  See
http://wiki.cpantesters.org/ for more information or email
questions to cpan-testers-discuss@perl.org


--
Dear sunnavy,

This is a computer-generated report for Net-Google-Code-0.19
on perl 5.14.0, created by CPAN-Reporter-1.1902.

Thank you for uploading your work to CPAN.  Congratulations!
All tests were successful.

Sections of this report:

    * Tester comments
    * Program output
    * Prerequisites
    * Environment and other context

------------------------------
TESTER COMMENTS
------------------------------

Additional comments from tester:

this report is from an automated smoke testing program
and was not reviewed by a human for accuracy

------------------------------
PROGRAM OUTPUT
------------------------------

Output from '/usr/bin/make test':

PERL_DL_NONLAZY=1 /home/lonesome/perl-5.14.0/bin/perl "-MExtUtils::Command::MM" "-e" "test_harness(0, 'inc', 'blib/lib', 'blib/arch')" t/*.t t/google_api/*.t
t/00.load.t ................ ok
t/02.issue.t ............... ok
t/03.comment.t ............. ok
t/04.attachment.t .......... ok
t/05.issue_search.t ........ ok
Parsing of undecoded UTF-8 will give garbage when decoding entities at /home/lonesome/perl-5.14.0/lib/site_perl/5.14.0/HTML/TreeBuilder.pm line 121.
t/06.fetch.t ............... ok
t/10.downloads.t ........... ok
t/11.wiki.t ................ ok
t/20.code.t ................ ok
t/30.role_predefined.t ..... ok
t/google_api/01-issue.t .... ok
t/google_api/02-comment.t .. ok
All tests successful.
Files=12, Tests=196,  3 wallclock secs ( 0.07 usr  0.01 sys +  2.90 cusr  0.24 csys =  3.22 CPU)
Result: PASS

------------------------------
PREREQUISITES
------------------------------

Prerequisite modules loaded:

requires:

    Module               Need Have   
    -------------------- ---- -------
    Any::Moose           0    0.14   
    DateTime             0    0.70   
    ExtUtils::MakeMaker  6.42 6.57_11
    File::MMagic         0    1.27   
    File::Slurp          0    9999.18
    HTML::TreeBuilder    0    4.2    
    JSON                 0    2.27   
    MIME::Types          0    1.31   
    Params::Validate     0    0.99   
    Test::Mock::LWP      0    0.05   
    Test::MockModule     0    0.05   
    Test::More           0    0.98   
    URI::Escape          0    3.30   
    WWW::Mechanize::Link 0    0      
    XML::FeedPP          0    0.43   

build_requires:

    Module               Need Have   
    -------------------- ---- -------
    ExtUtils::MakeMaker  0    6.57_11

configure_requires:

    Module               Need Have   
    -------------------- ---- -------
    ExtUtils::MakeMaker  6.42 6.57_11


------------------------------
ENVIRONMENT AND OTHER CONTEXT
------------------------------

Environment variables:

    AUTOMATED_TESTING = 1
    LANG = en_GB.UTF-8
    PATH = /usr/lib/ccache:/usr/local/bin:/bin:/usr/bin:/usr/local/sbin:/usr/sbin:/sbin:/home/lonesome/bin
    PERL5LIB = 
    PERL5OPT = 
    PERL5_CPANPLUS_IS_RUNNING = 25591
    PERL5_CPAN_IS_RUNNING = 25591
    PERL5_CPAN_IS_RUNNING_IN_RECURSION = 9665,25591
    PERL_CR_SMOKER_CURRENT = Net-Google-Code-0.19
    PERL_EXTUTILS_AUTOINSTALL = --defaultdeps
    PERL_MM_USE_DEFAULT = 1
    SHELL = /bin/bash
    TERM = screen

Perl special variables (and OS-specific diagnostics, for MSWin32):

    $^X = /home/lonesome/perl-5.14.0/bin/perl
    $UID/$EUID = 500 / 500
    $GID = 500 10 500
    $EGID = 500 10 500

Perl module toolchain versions installed:

    Module              Have    
    ------------------- --------
    CPAN                1.9600  
    Cwd                 3.33    
    ExtUtils::CBuilder  0.280202
    ExtUtils::Command   1.17    
    ExtUtils::Install   1.56    
    ExtUtils::MakeMaker 6.57_11 
    ExtUtils::Manifest  1.58    
    ExtUtils::ParseXS   2.2206  
    File::Spec          3.33    
    Module::Build       0.3800  
    Module::Signature   0.68    
    Test::Harness       3.23    
    Test::More          0.98    
    YAML                0.73    
    YAML::Syck          1.17    
    version             0.90    


--

Summary of my perl5 (revision 5 version 14 subversion 0) configuration:
   
  Platform:
    osname=linux, osvers=2.6.38.6-27.fc15.i686, archname=i686-linux
    uname='linux fedora15 2.6.38.6-27.fc15.i686 #1 smp sun may 15 17:57:13 utc 2011 i686 i686 i386 gnulinux '
    config_args='-des -Dcc=ccache gcc -Dld=gcc -Dprefix=/home/lonesome/perl-5.14.0'
    hint=recommended, useposix=true, d_sigaction=define
    useithreads=undef, usemultiplicity=undef
    useperlio=define, d_sfio=undef, uselargefiles=define, usesocks=undef
    use64bitint=undef, use64bitall=undef, uselongdouble=undef
    usemymalloc=n, bincompat5005=undef
  Compiler:
    cc='ccache gcc', ccflags ='-fno-strict-aliasing -pipe -fstack-protector -I/usr/local/include -D_LARGEFILE_SOURCE -D_FILE_OFFSET_BITS=64',
    optimize='-O2',
    cppflags='-fno-strict-aliasing -pipe -fstack-protector -I/usr/local/include'
    ccversion='', gccversion='4.6.0 20110509 (Red Hat 4.6.0-7)', gccosandvers=''
    intsize=4, longsize=4, ptrsize=4, doublesize=8, byteorder=1234
    d_longlong=define, longlongsize=8, d_longdbl=define, longdblsize=12
    ivtype='long', ivsize=4, nvtype='double', nvsize=8, Off_t='off_t', lseeksize=8
    alignbytes=4, prototype=define
  Linker and Libraries:
    ld='gcc', ldflags =' -fstack-protector -L/usr/local/lib'
    libpth=/usr/local/lib /lib /usr/lib
    libs=-lnsl -ldl -lm -lcrypt -lutil -lc
    perllibs=-lnsl -ldl -lm -lcrypt -lutil -lc
    libc=/lib/libc-2.13.90.so, so=so, useshrplib=false, libperl=libperl.a
    gnulibc_version='2.13.90'
  Dynamic Linking:
    dlsrc=dl_dlopen.xs, dlext=so, d_dlsymun=undef, ccdlflags='-Wl,-E'
    cccdlflags='-fPIC', lddlflags='-shared -O2 -L/usr/local/lib -fstack-protector'


Characteristics of this binary (from libperl): 
  Compile-time options: PERL_DONT_CREATE_GVSV PERL_MALLOC_WRAP
                        PERL_PRESERVE_IVUV USE_LARGE_FILES USE_PERLIO
                        USE_PERL_ATOF
  Built under linux
  Compiled at Jun  1 2011 10:32:53
  %ENV:
    PERL5LIB=""
    PERL5OPT=""
    PERL5_CPANPLUS_IS_RUNNING="25591"
    PERL5_CPAN_IS_RUNNING="25591"
    PERL5_CPAN_IS_RUNNING_IN_RECURSION="9665,25591"
    PERL_CR_SMOKER_CURRENT="Net-Google-Code-0.19"
    PERL_EXTUTILS_AUTOINSTALL="--defaultdeps"
    PERL_MM_USE_DEFAULT="1"
  @INC:
    /home/lonesome/perl-5.14.0/lib/site_perl/5.14.0/i686-linux
    /home/lonesome/perl-5.14.0/lib/site_perl/5.14.0
    /home/lonesome/perl-5.14.0/lib/5.14.0/i686-linux
    /home/lonesome/perl-5.14.0/lib/5.14.0
    .