HTML-Rebase v0.05 Perl 5 v5.41.11 x86_64-linux-thread-multi
- Status
- Pass
- From
- Carlos Guevara
- Dist
-
HTML-Rebase v0.05
- Platform
- Perl 5 v5.41.11 x86_64-linux-thread-multi
- Date
- 2025-03-26 20:27:14
- ID
- b44bef5c-0a80-11f0-a09b-c4a9eed54c7c
This distribution has been tested as part of the CPAN Testers
project, supporting the Perl programming language. See
http://wiki.cpantesters.org/ for more information or email
questions to cpan-testers-discuss@perl.org
--
Dear Max Maischein,
This is a computer-generated report for HTML-Rebase-0.05
on perl 5.41.11, created by CPAN-Reporter-1.2020.
Thank you for uploading your work to CPAN. Congratulations!
All tests were successful.
Sections of this report:
* Tester comments
* Program output
* Prerequisites
* Environment and other context
------------------------------
TESTER COMMENTS
------------------------------
Additional comments from tester:
this report is from an automated smoke testing program
and was not reviewed by a human for accuracy
------------------------------
PROGRAM OUTPUT
------------------------------
Output from '/usr/bin/make test':
PERL_DL_NONLAZY=1 "/home/cpan/bin/perl/bin/perl5.41.11" "-MExtUtils::Command::MM" "-MTest::Harness" "-e" "undef *Test::Harness::Switches; test_harness(0, 'blib/lib', 'blib/arch')" t/00-load.t t/01-synopsis.t t/02-quotes.t t/03-base.t t/04-case.t t/05-rebase-css.t t/06-relative-url.t
# Testing HTML::Rebase 0.05, Perl 5.041011
# Carp 1.54
# Config 5.041011
# Cwd 3.92
# Encode 3.21
# Encode::Alias 2.25
# Encode::Config 2.05
# Encode::Encoding 2.08
# Encode::MIME::Name 1.03
# Exporter 5.79
# Exporter::Heavy 5.79
# ExtUtils::Liblist 7.72
# ExtUtils::Liblist::Kid 7.72
# ExtUtils::MM 7.72
# ExtUtils::MM_Any 7.72
# ExtUtils::MM_Unix 7.72
# ExtUtils::MY 7.72
# ExtUtils::MakeMaker 7.72
# ExtUtils::MakeMaker::Config 7.72
# ExtUtils::MakeMaker::Locale 7.72
# ExtUtils::MakeMaker::version 7.72
# Fcntl 1.19
# File::Basename 2.86
# File::Glob 1.42
# File::Path 2.18
# File::Spec 3.93
# File::Spec::Unix 3.93
# HTML::Rebase 0.05
# I18N::Langinfo 0.24
# List::Util 1.6801
# Scalar::Util 1.6801
# Storable 3.36
# Test::Builder 1.302209
# Test::Builder::Formatter 1.302209
# Test::Builder::Module 1.302209
# Test::Builder::TodoDiag 1.302209
# Test::More 1.302209
# Test2::API 1.302209
# Test2::API::Context 1.302209
# Test2::API::Instance 1.302209
# Test2::API::Stack 1.302209
# Test2::Event 1.302209
# Test2::Event::Bail 1.302209
# Test2::Event::Diag 1.302209
# Test2::Event::Exception 1.302209
# Test2::Event::Fail 1.302209
# Test2::Event::Note 1.302209
# Test2::Event::Ok 1.302209
# Test2::Event::Pass 1.302209
# Test2::Event::Plan 1.302209
# Test2::Event::Skip 1.302209
# Test2::Event::Subtest 1.302209
# Test2::Event::V2 1.302209
# Test2::Event::Waiting 1.302209
# Test2::EventFacet 1.302209
# Test2::EventFacet::About 1.302209
# Test2::EventFacet::Amnesty 1.302209
# Test2::EventFacet::Assert 1.302209
# Test2::EventFacet::Control 1.302209
# Test2::EventFacet::Error 1.302209
# Test2::EventFacet::Hub 1.302209
# Test2::EventFacet::Info 1.302209
# Test2::EventFacet::Meta 1.302209
# Test2::EventFacet::Parent 1.302209
# Test2::EventFacet::Plan 1.302209
# Test2::EventFacet::Trace 1.302209
# Test2::Formatter 1.302209
# Test2::Formatter::TAP 1.302209
# Test2::Hub 1.302209
# Test2::Hub::Interceptor 1.302209
# Test2::Hub::Interceptor::Terminator 1.302209
# Test2::Hub::Subtest 1.302209
# Test2::Util 1.302209
# Test2::Util::ExternalMeta 1.302209
# Test2::Util::Facets2Legacy 1.302209
# Test2::Util::HashBase 1.302209
# Test2::Util::Trace 1.302209
# Time::HiRes 1.9777
# URI 5.31
# URI::Escape 5.31
# URI::URL 5.31
# URI::WithBase 5.31
# XSLoader 0.32
# base 2.27
# bytes 1.09
# constant 1.33
# mro 1.29
# overload 1.40
# overloading 0.02
# parent 0.244
# re 0.47
# strict 1.13
# vars 1.05
# version 0.9933
# version::regex 0.9933
# warnings 1.74
# warnings::register 1.06
t/00-load.t .......... ok
t/01-synopsis.t ...... ok
t/02-quotes.t ........ ok
t/03-base.t .......... ok
t/04-case.t .......... ok
t/05-rebase-css.t .... ok
t/06-relative-url.t .. ok
All tests successful.
Files=7, Tests=12, 0 wallclock secs ( 0.03 usr 0.00 sys + 0.29 cusr 0.06 csys = 0.38 CPU)
Result: PASS
------------------------------
PREREQUISITES
------------------------------
Prerequisite modules loaded:
requires:
Module Need Have
------------------- ----- --------
Carp 0 1.54
Exporter 5 5.79
perl 5.006 5.041011
URI::URL 0 5.31
URI::WithBase 0 5.31
build_requires:
Module Need Have
------------------- ----- --------
ExtUtils::MakeMaker 0 7.72
Test::More 0 1.302209
configure_requires:
Module Need Have
------------------- ----- --------
ExtUtils::MakeMaker 0 7.72
------------------------------
ENVIRONMENT AND OTHER CONTEXT
------------------------------
Environment variables:
AUTOMATED_TESTING = 1
DATE_MANIP_TEST_DM5 = 1
LANG = en_US.UTF-8
LC_ALL = C
NONINTERACTIVE_TESTING = 1
NO_NETWORK_TESTING = 1
PATH = /home/cpan/bin/perl/bin:/home/cpan/bin:/usr/share/Modules/bin:/home/cpan/bin:/usr/local/bin:/usr/bin:/usr/local/sbin:/usr/sbin
PERL5LIB =
PERL5OPT =
PERL5_CPANPLUS_IS_RUNNING = 278397
PERL5_CPAN_IS_RUNNING = 278397
PERL_MM_USE_DEFAULT = 1
PERL_USE_UNSAFE_INC = 1
SHELL = /bin/bash
TERM = screen
TMPDIR = /home/cpan/tmp
Perl special variables (and OS-specific diagnostics, for MSWin32):
$^X = /home/cpan/bin/perl/bin/perl5.41.11
$UID/$EUID = 1001 / 1001
$GID = 1001 1001
$EGID = 1001 1001
Perl module toolchain versions installed:
Module Have
------------------- --------
CPAN 2.38
CPAN::Meta 2.150010
Cwd 3.92
ExtUtils::CBuilder 0.280240
ExtUtils::Command 7.72
ExtUtils::Install 2.22
ExtUtils::MakeMaker 7.72
ExtUtils::Manifest 1.75
ExtUtils::ParseXS 3.57
File::Spec 3.93
JSON 4.10
JSON::PP 4.16
Module::Build 0.4234
Module::Signature n/a
Parse::CPAN::Meta 2.150010
Test2 1.302209
Test::Harness 3.50
Test::More 1.302209
YAML 1.31
YAML::Syck n/a
version 0.9933
--
Summary of my perl5 (revision 5 version 41 subversion 11) configuration:
Commit id: 3e734cb97c84ce17ea5eabf743c16797b853c288
Platform:
osname=linux
osvers=5.14.0-503.33.1.el9_5.x86_64
archname=x86_64-linux-thread-multi
uname='linux cjg-rhel9 5.14.0-503.33.1.el9_5.x86_64 #1 smp preempt_dynamic wed mar 12 12:08:50 edt 2025 x86_64 x86_64 x86_64 gnulinux '
config_args='-des -Dprefix=/home/cpan/bin/perl -Dscriptdir=/home/cpan/bin/perl/bin -Dusedevel -Duse64bitall -Duseithreads'
hint=recommended
useposix=true
d_sigaction=define
useithreads=define
usemultiplicity=define
use64bitint=define
use64bitall=define
uselongdouble=undef
usemymalloc=n
default_inc_excludes_dot=define
Compiler:
cc='cc'
ccflags ='-D_REENTRANT -D_GNU_SOURCE -fwrapv -fno-strict-aliasing -pipe -fstack-protector-strong -I/usr/local/include -D_LARGEFILE_SOURCE -D_FILE_OFFSET_BITS=64 -D_FORTIFY_SOURCE=2'
optimize='-O2'
cppflags='-D_REENTRANT -D_GNU_SOURCE -fwrapv -fno-strict-aliasing -pipe -fstack-protector-strong -I/usr/local/include'
ccversion=''
gccversion='11.5.0 20240719 (Red Hat 11.5.0-5)'
gccosandvers=''
intsize=4
longsize=8
ptrsize=8
doublesize=8
byteorder=12345678
doublekind=3
d_longlong=define
longlongsize=8
d_longdbl=define
longdblsize=16
longdblkind=3
ivtype='long'
ivsize=8
nvtype='double'
nvsize=8
Off_t='off_t'
lseeksize=8
alignbytes=8
prototype=define
Linker and Libraries:
ld='cc'
ldflags =' -fstack-protector-strong -L/usr/local/lib'
libpth=/usr/local/lib /usr/lib /usr/lib64 /usr/local/lib64
libs=-lpthread -ldb -ldl -lm -lcrypt -lutil -lc
perllibs=-lpthread -ldl -lm -lcrypt -lutil -lc
libc=/lib/../lib64/libc.so.6
so=so
useshrplib=false
libperl=libperl.a
gnulibc_version='2.34'
Dynamic Linking:
dlsrc=dl_dlopen.xs
dlext=so
d_dlsymun=undef
ccdlflags='-Wl,-E'
cccdlflags='-fPIC'
lddlflags='-shared -O2 -L/usr/local/lib -fstack-protector-strong'
Characteristics of this binary (from libperl):
Compile-time options:
HAS_LONG_DOUBLE
HAS_STRTOLD
HAS_TIMES
MULTIPLICITY
PERLIO_LAYERS
PERL_COPY_ON_WRITE
PERL_DONT_CREATE_GVSV
PERL_HASH_FUNC_SIPHASH13
PERL_HASH_USE_SBOX32
PERL_MALLOC_WRAP
PERL_OP_PARENT
PERL_PRESERVE_IVUV
PERL_USE_DEVEL
PERL_USE_SAFE_PUTENV
USE_64_BIT_ALL
USE_64_BIT_INT
USE_ITHREADS
USE_LARGE_FILES
USE_LOCALE
USE_LOCALE_COLLATE
USE_LOCALE_CTYPE
USE_LOCALE_NUMERIC
USE_LOCALE_TIME
USE_PERLIO
USE_PERL_ATOF
USE_REENTRANT_API
USE_THREAD_SAFE_LOCALE
Built under linux
Compiled at Mar 26 2025 13:51:29
%ENV:
PERL5LIB=""
PERL5OPT=""
PERL5_CPANPLUS_IS_RUNNING="278397"
PERL5_CPAN_IS_RUNNING="278397"
PERL_MM_USE_DEFAULT="1"
PERL_USE_UNSAFE_INC="1"
@INC:
/home/cpan/bin/perl/lib/site_perl/5.41.11/x86_64-linux-thread-multi
/home/cpan/bin/perl/lib/site_perl/5.41.11
/home/cpan/bin/perl/lib/5.41.11/x86_64-linux-thread-multi
/home/cpan/bin/perl/lib/5.41.11
.