Back
From: metabase:user:323dcade-2aae-11df-837a-5e0a49663a4f
Subject: PASS Data-Section-0.200006 v5.22.4 GNU/Linux
Date: 2016-07-21T16:10:55Z
This distribution has been tested as part of the CPAN Testers
project, supporting the Perl programming language. See
http://wiki.cpantesters.org/ for more information or email
questions to cpan-testers-discuss@perl.org
--
Dear Ricardo SIGNES,
This is a computer-generated report for Data-Section-0.200006
on perl 5.22.4, created by CPAN-Reporter-1.2018.
Thank you for uploading your work to CPAN. Congratulations!
All tests were successful.
Sections of this report:
* Tester comments
* Program output
* Prerequisites
* Environment and other context
------------------------------
TESTER COMMENTS
------------------------------
Additional comments from tester:
this report is from an automated smoke testing program
and was not reviewed by a human for accuracy
------------------------------
PROGRAM OUTPUT
------------------------------
Output from '/usr/bin/make test':
PERL_DL_NONLAZY=1 PERL_USE_UNSAFE_INC=1 "/usr/bin/cperl" "-MExtUtils::Command::MM" "-MTest::Harness" "-e" "undef *Test::Harness::Switches; test_harness(0, 'blib/lib', 'blib/arch')" t/*.t
#
#
# Generated by Dist::Zilla::Plugin::ReportVersions::Tiny v1.10
# perl: 5.022004 (wanted any version) on linux from /usr/bin/cperl
#
# Encode => 2.84 (want any version)
# ExtUtils::MakeMaker => 8.0403 (want 6.30)
# MRO::Compat => 0.12 (want 0.09)
# Sub::Exporter => 0.987 (want 0.979)
# Test::FailWarnings => 0.008 (want any version)
# Test::More => 1.302045 (want 0.96)
# base => 2.23 (want any version)
# lib => 0.63 (want any version)
# strict => 1.10c (want any version)
# utf8 => 1.17 (want any version)
# warnings => 1.34 (want any version)
#
# Thanks for using my code. I hope it works for you.
# If not, please try and include this output in the bug report.
# That will help me reproduce the issue and solve your problem.
#
t/000-report-versions-tiny.t .. ok
t/basic.t ..................... ok
t/encodings.t ................. ok
All tests successful.
Files=3, Tests=40, 0 wallclock secs ( 0.03 usr 0.00 sys + 0.21 cusr 0.02 csys = 0.26 CPU)
Result: PASS
------------------------------
PREREQUISITES
------------------------------
Prerequisite modules loaded:
requires:
Module Need Have
------------------- ----- --------
Encode 0 2.84
MRO::Compat 0.09 0.12
strict 0 1.10c
Sub::Exporter 0.979 0.987
warnings 0 1.34
build_requires:
Module Need Have
------------------- ----- --------
base 0 2.23
lib 0 0.63
Test::FailWarnings 0 0.008
Test::More 0.96 1.302045
utf8 0 1.17
configure_requires:
Module Need Have
------------------- ----- --------
ExtUtils::MakeMaker 6.30 8.04_03
------------------------------
ENVIRONMENT AND OTHER CONTEXT
------------------------------
Environment variables:
AUTOMATED_TESTING = 1
LANG = en_US.UTF-8
NONINTERACTIVE_TESTING = 1
PATH = /home/rurban/bin:/usr/local/bin:/usr/bin:/bin:/usr/local/games:/usr/games
PERL5LIB =
PERL5OPT =
PERL5_CPANPLUS_IS_RUNNING = 16355
PERL5_CPAN_IS_RUNNING = 16355
PERL_MM_USE_DEFAULT = 1
PERL_USE_UNSAFE_INC = 1
SHELL = /bin/bash
TERM = xterm-256color
Perl special variables (and OS-specific diagnostics, for MSWin32):
$^X = /usr/bin/cperl
$UID/$EUID = 1000 / 1000
$GID = 1000 27 124 125 1000
$EGID = 1000 27 124 125 1000
Perl module toolchain versions installed:
Module Have
------------------- ---------
CPAN 3.11c
CPAN::Meta 2.150006c
Cwd 3.62
ExtUtils::CBuilder 0.280224
ExtUtils::Command 7.10
ExtUtils::Install 2.04
ExtUtils::MakeMaker 8.04_03
ExtUtils::Manifest 1.70
ExtUtils::ParseXS 3.30
File::Spec 3.62
JSON 2.90
JSON::PP 2.27300
Module::Build 0.4218
Module::Signature 0.80
Parse::CPAN::Meta 1.5000c
Test::Harness 3.36
Test::More 1.302045
YAML 1.18
YAML::Syck n/a
version 0.9917
--
Summary of my cperl (revision 5 version 22 subversion 4) configuration:
Commit id: 602fae19b41ceac5f3cb579c0cce5c3dd0be6f81
Platform:
osname=linux, osvers=4.5.0-1-amd64, archname=x86_64-linux
uname='linux reini 4.5.0-1-amd64 #1 smp debian 4.5.1-1 (2016-04-14) x86_64 gnulinux '
config_args='-sder -Dcc=gcc -Dprefix=/usr -Dusecperl -Accflags=-msse4.2 -Dsitebin=/usr/lib/cperl/site_cperl/5.22.4/bin -Dscriptdir=/usr/lib/cperl/5.22.4/bin -Dcf_email=rurban@cpanel.net -Uusethreads -Doptimize=-O3'
hint=recommended, useposix=true, d_sigaction=define
useithreads=undef, usemultiplicity=undef
use64bitint=define, use64bitall=define, uselongdouble=undef
usemymalloc=n, bincompat5005=undef
Compiler:
cc='gcc', ccflags ='-msse4.2 -fwrapv -fno-strict-aliasing -pipe -fstack-protector -I/usr/local/include -D_LARGEFILE_SOURCE -D_FILE_OFFSET_BITS=64 -D_FORTIFY_SOURCE=2',
optimize='-O3',
cppflags='-msse4.2 -fwrapv -fno-strict-aliasing -pipe -fstack-protector -I/usr/local/include'
ccversion='', gccversion='5.4.0 20160609', gccosandvers=''
intsize=4, longsize=8, ptrsize=8, doublesize=8, byteorder=12345678, doublekind=3
d_longlong=define, longlongsize=8, d_longdbl=define, longdblsize=16, longdblkind=3
ivtype='long', ivsize=8, nvtype='double', nvsize=8, Off_t='off_t', lseeksize=8
alignbytes=8, prototype=define
Linker and Libraries:
ld='gcc', ldflags =' -fstack-protector -L/usr/local/lib'
libpth=/usr/local/lib /usr/lib/gcc/x86_64-linux-gnu/5/include-fixed /usr/include/x86_64-linux-gnu /usr/lib /lib/x86_64-linux-gnu /lib/../lib /usr/lib/x86_64-linux-gnu /usr/lib/../lib /lib
libs=-lpthread -lnsl -lgdbm -ldb -ldl -lm -lcrypt -lutil -lc -lgdbm_compat
perllibs=-lpthread -lnsl -ldl -lm -lcrypt -lutil -lc
libc=libc-2.22.so, so=so, useshrplib=false, libperl=libperl.a
gnulibc_version='2.22'
Dynamic Linking:
dlsrc=dl_dlopen.xs, dlext=so, d_dlsymun=undef, ccdlflags='-Wl,-E'
cccdlflags='-fPIC', lddlflags='-shared -O3 -L/usr/local/lib -fstack-protector'
Characteristics of this binary (from libperl):
Compile-time options: HAS_TIMES PERLIO_LAYERS PERL_DONT_CREATE_GVSV
PERL_HASH_FUNC_FNV1A PERL_MALLOC_WRAP
PERL_NEW_COPY_ON_WRITE PERL_PERTURB_KEYS_TOP
PERL_PRESERVE_IVUV USE_64_BIT_ALL USE_64_BIT_INT
USE_CPERL USE_LARGE_FILES USE_LOCALE
USE_LOCALE_COLLATE USE_LOCALE_CTYPE
USE_LOCALE_NUMERIC USE_LOCALE_TIME USE_PERLIO
USE_PERL_ATOF
Built under linux
Compiled at Jul 21 2016 16:22:46
%ENV:
PERL5LIB=""
PERL5OPT=""
PERL5_CPANPLUS_IS_RUNNING="16355"
PERL5_CPAN_IS_RUNNING="16355"
PERL_MM_USE_DEFAULT="1"
PERL_USE_UNSAFE_INC="1"
@INC:
/usr/lib/cperl/site_cperl/5.22.4/x86_64-linux
/usr/lib/cperl/site_cperl/5.22.4
/usr/lib/cperl/5.22.4/x86_64-linux
/usr/lib/cperl/5.22.4
/usr/lib/cperl/site_cperl/5.22.3/x86_64-linux
/usr/lib/cperl/site_cperl/5.22.3
/usr/lib/cperl/site_cperl/5.22.1/x86_64-linux
/usr/lib/cperl/site_cperl/5.22.1
/usr/lib/cperl/site_cperl
.