Net-Statsd-Server v0.20 Perl 5 v5.43.2 OpenBSD.amd64-openbsd

Status
Pass
From
Carlos Guevara
Dist
Net-Statsd-Server v0.20
Platform
Perl 5 v5.43.2 OpenBSD.amd64-openbsd
Date
2025-08-08 23:02:06
ID
b45e35fa-74ab-11f0-82d0-c86cb946b208
This distribution has been tested as part of the CPAN Testers
project, supporting the Perl programming language.  See
http://wiki.cpantesters.org/ for more information or email
questions to cpan-testers-discuss@perl.org


--
Dear Cosimo Streppone,

This is a computer-generated report for Net-Statsd-Server-0.20
on perl 5.43.2, created by CPAN-Reporter-1.2020.

Thank you for uploading your work to CPAN.  Congratulations!
All tests were successful.

Sections of this report:

    * Tester comments
    * Program output
    * Prerequisites
    * Environment and other context

------------------------------
TESTER COMMENTS
------------------------------

Additional comments from tester:

this report is from an automated smoke testing program
and was not reviewed by a human for accuracy

------------------------------
PROGRAM OUTPUT
------------------------------

Output from '/usr/bin/make test':

PERL_DL_NONLAZY=1 "/home/cpan/bin/perl/bin/perl5.43.2" "-MExtUtils::Command::MM" "-MTest::Harness" "-e" "undef *Test::Harness::Switches; test_harness(0, 'blib/lib', 'blib/arch')" t/*.t t/integration-tests/*.t
t/000-sanity.t ............................. ok
t/config.t ................................. ok
t/graphite.t ............................... ok
2025-08-08 19:01:54.000000 -0400 note  Net::Statsd::Server: Initializing Net::Statsd::Server::Backend::Console backend
2025-08-08 19:01:54.000000 -0400 note  Net::Statsd::Server: Initializing Net::Statsd::Server::Backend::Graphite backend
2025-08-08 19:01:54.000000 -0400 info  AnyEvent: Autoloaded model 'AnyEvent::Impl::Perl', using it.
Couldn't set SO_RCVBUF: No buffer space available at /home/cpan/.cpan/build/Net-Statsd-Server-0.20-0/bin/../lib/Net/Statsd/Server.pm line 709.
2025-08-08 19:01:54.606770 -0400 note  Net::Statsd::Server: statsd server started on 0.0.0.0:40001 (v0.17)
2025-08-08 19:01:54.606796 -0400 note  Net::Statsd::Server: manager interface started on 0.0.0.0:40002
2025-08-08 19:01:54.606818 -0400 note  Net::Statsd::Server: metrics flush will happen every 1s
2025-08-08 19:01:55.041029 -0400 warn  Net::Statsd::Server: Bad line: 1 in msg "a_bad_test_value|z"
2025-08-08 19:01:55.618341 -0400 note  Net::Statsd::Server: flushing metrics
Flushing stats at Fri Aug  8 19:01:55 2025
{"gauges":{},"sets":null,"timer_data":{},"pctThreshold":[90],"counter_rates":{"statsd.packets_received":1,"statsd.bad_lines_seen":1},"timers":{},"counters":{"statsd.bad_lines_seen":1,"statsd.packets_received":1}}
t/integration-tests/bad-message.t .......... ok
2025-08-08 19:01:55.000000 -0400 note  Net::Statsd::Server: Initializing Net::Statsd::Server::Backend::Console backend
2025-08-08 19:01:55.000000 -0400 note  Net::Statsd::Server: Initializing Net::Statsd::Server::Backend::Graphite backend
2025-08-08 19:01:55.000000 -0400 info  AnyEvent: Autoloaded model 'AnyEvent::Impl::Perl', using it.
Couldn't set SO_RCVBUF: No buffer space available at /home/cpan/.cpan/build/Net-Statsd-Server-0.20-0/bin/../lib/Net/Statsd/Server.pm line 709.
2025-08-08 19:01:55.840178 -0400 note  Net::Statsd::Server: statsd server started on 0.0.0.0:40001 (v0.17)
2025-08-08 19:01:55.840270 -0400 note  Net::Statsd::Server: manager interface started on 0.0.0.0:40002
2025-08-08 19:01:55.840344 -0400 note  Net::Statsd::Server: metrics flush will happen every 1s
2025-08-08 19:01:56.848354 -0400 note  Net::Statsd::Server: flushing metrics
Flushing stats at Fri Aug  8 19:01:56 2025
{"gauges":{},"sets":null,"timer_data":{},"counter_rates":{"statsd.packets_received":1,"a_test_value":100,"statsd.bad_lines_seen":0},"counters":{"statsd.packets_received":1,"statsd.bad_lines_seen":0,"a_test_value":100},"timers":{},"pctThreshold":[90]}
# stats.counters.statsd.packets_received.rate 1.000000 1754694116
# stats.counters.statsd.packets_received.count 1 1754694116
# stats.counters.statsd.bad_lines_seen.rate 0.000000 1754694116
# stats.counters.statsd.bad_lines_seen.count 0 1754694116
# stats.counters.a_test_value.rate 100.000000 1754694116
# stats.counters.a_test_value.count 100 1754694116
# stats.statsd.numStats 3 1754694116
# stats.statsd.graphiteStats.calculationtime 0.086000 1754694116
# stats.statsd.processing_time 0.048 1754694116
# stats.statsd.graphiteStats.last_exception 15890686577224 1754694116
# stats.statsd.graphiteStats.last_flush 15890686577224 1754694116
t/integration-tests/counts-are-valid.t ..... ok
2025-08-08 19:01:57.000000 -0400 note  Net::Statsd::Server: Initializing Net::Statsd::Server::Backend::Graphite backend
2025-08-08 19:01:57.000000 -0400 info  AnyEvent: Autoloaded model 'AnyEvent::Impl::Perl', using it.
Couldn't set SO_RCVBUF: No buffer space available at /home/cpan/.cpan/build/Net-Statsd-Server-0.20-0/bin/../lib/Net/Statsd/Server.pm line 709.
2025-08-08 19:01:57.065995 -0400 note  Net::Statsd::Server: statsd server started on 0.0.0.0:40001 (v0.17)
2025-08-08 19:01:57.066075 -0400 note  Net::Statsd::Server: manager interface started on 0.0.0.0:40002
2025-08-08 19:01:57.066143 -0400 note  Net::Statsd::Server: metrics flush will happen every 1s
2025-08-08 19:01:58.078361 -0400 note  Net::Statsd::Server: flushing metrics
# First flush. Test gauge should be there.
2025-08-08 19:01:59.078474 -0400 note  Net::Statsd::Server: flushing metrics
# Second flush. deleteGauges=false should keep the test gauge.
t/integration-tests/delete-gauges-false.t .. ok
2025-08-08 19:01:59.000000 -0400 note  Net::Statsd::Server: Initializing Net::Statsd::Server::Backend::Graphite backend
2025-08-08 19:01:59.000000 -0400 info  AnyEvent: Autoloaded model 'AnyEvent::Impl::Perl', using it.
Couldn't set SO_RCVBUF: No buffer space available at /home/cpan/.cpan/build/Net-Statsd-Server-0.20-0/bin/../lib/Net/Statsd/Server.pm line 709.
2025-08-08 19:01:59.288259 -0400 note  Net::Statsd::Server: statsd server started on 0.0.0.0:40001 (v0.17)
2025-08-08 19:01:59.288341 -0400 note  Net::Statsd::Server: manager interface started on 0.0.0.0:40002
2025-08-08 19:01:59.288409 -0400 note  Net::Statsd::Server: metrics flush will happen every 1s
2025-08-08 19:02:00.298358 -0400 note  Net::Statsd::Server: flushing metrics
# First flush. Test gauge should be there.
2025-08-08 19:02:01.298367 -0400 note  Net::Statsd::Server: flushing metrics
# Second flush. deleteIdleStats should have cleared the test gauge.
t/integration-tests/delete-idle-stats.t .... ok
2025-08-08 19:02:01.000000 -0400 note  Net::Statsd::Server: Initializing Net::Statsd::Server::Backend::Console backend
2025-08-08 19:02:01.000000 -0400 note  Net::Statsd::Server: Initializing Net::Statsd::Server::Backend::Graphite backend
2025-08-08 19:02:01.000000 -0400 info  AnyEvent: Autoloaded model 'AnyEvent::Impl::Perl', using it.
Couldn't set SO_RCVBUF: No buffer space available at /home/cpan/.cpan/build/Net-Statsd-Server-0.20-0/bin/../lib/Net/Statsd/Server.pm line 709.
2025-08-08 19:02:01.512295 -0400 note  Net::Statsd::Server: statsd server started on 0.0.0.0:40001 (v0.17)
2025-08-08 19:02:01.512377 -0400 note  Net::Statsd::Server: manager interface started on 0.0.0.0:40002
2025-08-08 19:02:01.512445 -0400 note  Net::Statsd::Server: metrics flush will happen every 1s
2025-08-08 19:02:02.528367 -0400 note  Net::Statsd::Server: flushing metrics
Flushing stats at Fri Aug  8 19:02:02 2025
{"timer_data":{},"timers":{},"counters":{"a_test_value,category=web,severity=high":100,"statsd.packets_received":1,"statsd.bad_lines_seen":0},"sets":null,"gauges":{},"pctThreshold":[90],"counter_rates":{"a_test_value,category=web,severity=high":100,"statsd.packets_received":1,"statsd.bad_lines_seen":0}}
# stats.counters.a_test_value,category=web,severity=high.rate 100.000000 1754694122
# stats.counters.a_test_value,category=web,severity=high.count 100 1754694122
# stats.counters.statsd.packets_received.rate 1.000000 1754694122
# stats.counters.statsd.packets_received.count 1 1754694122
# stats.counters.statsd.bad_lines_seen.rate 0.000000 1754694122
# stats.counters.statsd.bad_lines_seen.count 0 1754694122
# stats.statsd.numStats 3 1754694122
# stats.statsd.graphiteStats.calculationtime 0.092000 1754694122
# stats.statsd.processing_time 0.049 1754694122
# stats.statsd.graphiteStats.last_exception 14766847388232 1754694122
# stats.statsd.graphiteStats.last_flush 14766847388232 1754694122
t/integration-tests/keys-with-tags.t ....... ok
2025-08-08 19:02:02.000000 -0400 note  Net::Statsd::Server: Initializing Net::Statsd::Server::Backend::Graphite backend
2025-08-08 19:02:02.000000 -0400 info  AnyEvent: Autoloaded model 'AnyEvent::Impl::Perl', using it.
Couldn't set SO_RCVBUF: No buffer space available at /home/cpan/.cpan/build/Net-Statsd-Server-0.20-0/bin/../lib/Net/Statsd/Server.pm line 709.
2025-08-08 19:02:02.745093 -0400 note  Net::Statsd::Server: statsd server started on 0.0.0.0:40001 (v0.17)
2025-08-08 19:02:02.745182 -0400 note  Net::Statsd::Server: manager interface started on 0.0.0.0:40002
2025-08-08 19:02:02.745256 -0400 note  Net::Statsd::Server: metrics flush will happen every 1s
# Expected mean value is 2001.12
2025-08-08 19:02:03.758531 -0400 note  Net::Statsd::Server: flushing metrics
# stats.counters.statsd.bad_lines_seen.rate 0.000000 1754694123
# stats.counters.statsd.bad_lines_seen.count 0 1754694123
# stats.counters.statsd.packets_received.rate 100.000000 1754694123
# stats.counters.statsd.packets_received.count 100 1754694123
# stats.timers.read_latency.upper_95 2764.000000 1754694123
# stats.timers.read_latency.sum 200112.000000 1754694123
# stats.timers.read_latency.mean 2001.120000 1754694123
# stats.timers.read_latency.count_95 95.000000 1754694123
# stats.timers.read_latency.sum_99 197149.000000 1754694123
# stats.timers.read_latency.mean_98 1981.673469 1754694123
# stats.timers.read_latency.median 2149.000000 1754694123
# stats.timers.read_latency.lower 1033.000000 1754694123
# stats.timers.read_latency.sum_squares_99 423295235.000000 1754694123
# stats.timers.read_latency.upper 2963.000000 1754694123
# stats.timers.read_latency.sum_squares_95 390151404.000000 1754694123
# stats.timers.read_latency.upper_99 2945.000000 1754694123
# stats.timers.read_latency.count 100.000000 1754694123
# stats.timers.read_latency.count_99 99.000000 1754694123
# stats.timers.read_latency.count_98 98.000000 1754694123
# stats.timers.read_latency.sum_95 185638.000000 1754694123
# stats.timers.read_latency.upper_98 2919.000000 1754694123
# stats.timers.read_latency.sum_squares_98 414622210.000000 1754694123
# stats.timers.read_latency.std 562.374240 1754694123
# stats.timers.read_latency.sum_98 194204.000000 1754694123
# stats.timers.read_latency.mean_95 1954.084211 1754694123
# stats.timers.read_latency.count_ps 100.000000 1754694123
# stats.timers.read_latency.mean_99 1991.404040 1754694123
# stats.timers.read_latency.sum_squares 432074604.000000 1754694123
# stats.statsd.numStats 3 1754694123
# stats.statsd.graphiteStats.calculationtime 0.257000 1754694123
# stats.statsd.processing_time 0.662 1754694123
# stats.statsd.graphiteStats.last_exception 8443804293704 1754694123
# stats.statsd.graphiteStats.last_flush 8443804293704 1754694123
t/integration-tests/percent-threshold.t .... ok
2025-08-08 19:02:03.000000 -0400 note  Net::Statsd::Server: Initializing Net::Statsd::Server::Backend::Console backend
2025-08-08 19:02:03.000000 -0400 note  Net::Statsd::Server: Initializing Net::Statsd::Server::Backend::Graphite backend
2025-08-08 19:02:03.000000 -0400 info  AnyEvent: Autoloaded model 'AnyEvent::Impl::Perl', using it.
Couldn't set SO_RCVBUF: No buffer space available at /home/cpan/.cpan/build/Net-Statsd-Server-0.20-0/bin/../lib/Net/Statsd/Server.pm line 709.
2025-08-08 19:02:03.968588 -0400 note  Net::Statsd::Server: statsd server started on 0.0.0.0:40001 (v0.17)
2025-08-08 19:02:03.968615 -0400 note  Net::Statsd::Server: manager interface started on 0.0.0.0:40002
2025-08-08 19:02:03.968638 -0400 note  Net::Statsd::Server: metrics flush will happen every 1s
2025-08-08 19:02:04.978480 -0400 note  Net::Statsd::Server: flushing metrics
Flushing stats at Fri Aug  8 19:02:04 2025
{"timers":{"a_test_value":["100"]},"counter_rates":{"statsd.packets_received":1,"statsd.bad_lines_seen":0},"gauges":{},"sets":null,"pctThreshold":["90"],"counters":{"statsd.bad_lines_seen":0,"statsd.packets_received":1},"timer_data":{"a_test_value":{"sum_squares_90":10000,"upper_90":"100","sum":"100","std":0,"upper":"100","mean":100,"count_ps":1,"sum_squares":10000,"lower":"100","sum_90":"100","median":"100","count":1,"count_90":1,"mean_90":"100"}}}
# stats.counters.statsd.bad_lines_seen.rate 0.000000 1754694124
# stats.counters.statsd.bad_lines_seen.count 0 1754694124
# stats.counters.statsd.packets_received.rate 1.000000 1754694124
# stats.counters.statsd.packets_received.count 1 1754694124
# stats.timers.a_test_value.sum_squares_90 10000.000000 1754694124
# stats.timers.a_test_value.upper_90 100.000000 1754694124
# stats.timers.a_test_value.sum 100.000000 1754694124
# stats.timers.a_test_value.std 0.000000 1754694124
# stats.timers.a_test_value.upper 100.000000 1754694124
# stats.timers.a_test_value.mean 100.000000 1754694124
# stats.timers.a_test_value.count_ps 1.000000 1754694124
# stats.timers.a_test_value.sum_squares 10000.000000 1754694124
# stats.timers.a_test_value.lower 100.000000 1754694124
# stats.timers.a_test_value.sum_90 100.000000 1754694124
# stats.timers.a_test_value.median 100.000000 1754694124
# stats.timers.a_test_value.count 1.000000 1754694124
# stats.timers.a_test_value.count_90 1.000000 1754694124
# stats.timers.a_test_value.mean_90 100.000000 1754694124
# stats.statsd.numStats 3 1754694124
# stats.statsd.graphiteStats.calculationtime 0.193000 1754694124
# stats.statsd.processing_time 0.125 1754694124
# stats.statsd.graphiteStats.last_exception 8540117633608 1754694124
# stats.statsd.graphiteStats.last_flush 8540117633608 1754694124
t/integration-tests/timers-are-valid.t ..... ok
t/process-metrics.t ........................ ok
t/trim.t ................................... ok
All tests successful.
Files=12, Tests=92, 11 wallclock secs ( 0.04 usr  0.03 sys +  0.97 cusr  0.28 csys =  1.32 CPU)
Result: PASS

------------------------------
PREREQUISITES
------------------------------

Prerequisite modules loaded:

requires:

    Module                Need Have    
    --------------------- ---- --------
    AnyEvent::Handle::UDP 0    0.050   
    IO::Socket::INET      0    1.55    
    JSON::XS              0    4.03    

build_requires:

    Module                Need Have    
    --------------------- ---- --------
    ExtUtils::MakeMaker   0    7.76    
    Test::More            0    1.302214

configure_requires:

    Module                Need Have    
    --------------------- ---- --------
    ExtUtils::MakeMaker   0    7.76    


------------------------------
ENVIRONMENT AND OTHER CONTEXT
------------------------------

Environment variables:

    AUTOMATED_TESTING = 1
    DATE_MANIP_TEST_DM5 = 1
    LC_ALL = C
    NONINTERACTIVE_TESTING = 1
    NO_NETWORK_TESTING = 1
    PATH = /home/cpan/bin/perl/bin:/home/cpan/bin:/home/cpan/bin:/bin:/sbin:/usr/bin:/usr/sbin:/usr/X11R6/bin:/usr/local/bin:/usr/local/sbin
    PERL5LIB = 
    PERL5OPT = 
    PERL5_CPANPLUS_IS_RUNNING = 39559
    PERL5_CPAN_IS_RUNNING = 39559
    PERL_MM_USE_DEFAULT = 1
    PERL_USE_UNSAFE_INC = 1
    SHELL = /usr/local/bin/bash
    TERM = screen
    TMPDIR = /home/cpan/tmp

Perl special variables (and OS-specific diagnostics, for MSWin32):

    $^X = /home/cpan/bin/perl/bin/perl5.43.2
    $UID/$EUID = 1001 / 1001
    $GID = 1001 1001
    $EGID = 1001 1001

Perl module toolchain versions installed:

    Module              Have    
    ------------------- --------
    CPAN                2.38    
    CPAN::Meta          2.150010
    Cwd                 3.94    
    ExtUtils::CBuilder  0.280242
    ExtUtils::Command   7.76    
    ExtUtils::Install   2.22    
    ExtUtils::MakeMaker 7.76    
    ExtUtils::Manifest  1.75    
    ExtUtils::ParseXS   3.59    
    File::Spec          3.94    
    JSON                4.10    
    JSON::PP            4.16    
    Module::Build       0.4234  
    Module::Signature   0.93    
    Parse::CPAN::Meta   2.150010
    Test2               1.302214
    Test::Harness       3.52    
    Test::More          1.302214
    YAML                1.31    
    YAML::Syck          1.34    
    version             0.9933  


--

Summary of my perl5 (revision 5 version 43 subversion 2) configuration:
  Commit id: cd791bd6a2d26d89527636c12e0a75837f7e9ba2
  Platform:
    osname=openbsd
    osvers=7.7
    archname=OpenBSD.amd64-openbsd
    uname='openbsd cjg-openbsd7 7.7 generic#2 amd64 '
    config_args='-des -Dprefix=/home/cpan/bin/perl -Dscriptdir=/home/cpan/bin/perl/bin -Dusedevel -Duse64bitall'
    hint=recommended
    useposix=true
    d_sigaction=define
    useithreads=undef
    usemultiplicity=undef
    use64bitint=define
    use64bitall=define
    uselongdouble=undef
    usemymalloc=n
    default_inc_excludes_dot=define
  Compiler:
    cc='cc'
    ccflags ='-DNO_LOCALE_NUMERIC -DNO_LOCALE_COLLATE -DNO_LOCALE_MONETARY -DNO_LOCALE_TIME -DNO_LOCALE_MESSAGES -DLIBC_HANDLES_MISMATCHED_CTYPE -fno-strict-aliasing -pipe -fstack-protector-strong -I/usr/local/include'
    optimize='-O2'
    cppflags='-DNO_LOCALE_NUMERIC -DNO_LOCALE_COLLATE -DNO_LOCALE_MONETARY -DNO_LOCALE_TIME -DNO_LOCALE_MESSAGES -DLIBC_HANDLES_MISMATCHED_CTYPE -fno-strict-aliasing -pipe -fstack-protector-strong -I/usr/local/include'
    ccversion=''
    gccversion='OpenBSD Clang 16.0.6'
    gccosandvers=''
    intsize=4
    longsize=8
    ptrsize=8
    doublesize=8
    byteorder=12345678
    doublekind=3
    d_longlong=define
    longlongsize=8
    d_longdbl=define
    longdblsize=16
    longdblkind=3
    ivtype='long'
    ivsize=8
    nvtype='double'
    nvsize=8
    Off_t='off_t'
    lseeksize=8
    alignbytes=8
    prototype=define
  Linker and Libraries:
    ld='cc'
    ldflags ='-Wl,-E  -fstack-protector-strong -L/usr/local/lib'
    libpth=/usr/lib/clang/16/lib /usr/lib /usr/local/lib
    libs=-lpthread -lm -lutil -lc
    perllibs=-lpthread -lm -lutil -lc
    libc=/usr/lib/libc.so.100.3
    so=so
    useshrplib=false
    libperl=libperl.a
    gnulibc_version=''
  Dynamic Linking:
    dlsrc=dl_dlopen.xs
    dlext=so
    d_dlsymun=undef
    ccdlflags=' '
    cccdlflags='-DPIC -fPIC '
    lddlflags='-shared -fPIC  -L/usr/local/lib -fstack-protector-strong'


Characteristics of this binary (from libperl): 
  Compile-time options:
    HAS_LONG_DOUBLE
    HAS_STRTOLD
    HAS_TIMES
    PERLIO_LAYERS
    PERL_COPY_ON_WRITE
    PERL_DONT_CREATE_GVSV
    PERL_HASH_FUNC_SIPHASH13
    PERL_HASH_USE_SBOX32
    PERL_MALLOC_WRAP
    PERL_OP_PARENT
    PERL_PRESERVE_IVUV
    PERL_USE_DEVEL
    PERL_USE_SAFE_PUTENV
    USE_64_BIT_ALL
    USE_64_BIT_INT
    USE_LARGE_FILES
    USE_LOCALE
    USE_LOCALE_CTYPE
    USE_PERLIO
    USE_PERL_ATOF
  Built under openbsd
  Compiled at Aug  7 2025 22:04:09
  %ENV:
    PERL5LIB=""
    PERL5OPT=""
    PERL5_CPANPLUS_IS_RUNNING="39559"
    PERL5_CPAN_IS_RUNNING="39559"
    PERL_MM_USE_DEFAULT="1"
    PERL_USE_UNSAFE_INC="1"
  @INC:
    /home/cpan/bin/perl/lib/site_perl/5.43.2/OpenBSD.amd64-openbsd
    /home/cpan/bin/perl/lib/site_perl/5.43.2
    /home/cpan/bin/perl/lib/5.43.2/OpenBSD.amd64-openbsd
    /home/cpan/bin/perl/lib/5.43.2
    .