Module-Manifest v1.09 Perl 5 v5.20.0 x86_64-linux

Status
Pass
From
Slaven Rezić (SREZIC)
Dist
Module-Manifest v1.09
Platform
Perl 5 v5.20.0 x86_64-linux
Date
2018-01-20 12:01:53
ID
b45f11e2-fdd9-11e7-af7a-c07b4125f503
This distribution has been tested as part of the CPAN Testers
project, supporting the Perl programming language.  See
http://wiki.cpantesters.org/ for more information or email
questions to cpan-testers-discuss@perl.org


--
Dear Karen Etheridge,

This is a computer-generated report for Module-Manifest-1.09
on perl 5.20.0, created by CPAN-Reporter-1.2017.

Thank you for uploading your work to CPAN.  Congratulations!
All tests were successful.

Sections of this report:

    * Tester comments
    * Program output
    * Prerequisites
    * Environment and other context

------------------------------
TESTER COMMENTS
------------------------------

Additional comments from tester:

none provided

------------------------------
PROGRAM OUTPUT
------------------------------

Output from 'make test':

PERL_DL_NONLAZY=1 /opt/perl-5.20.0/bin/perl "-MExtUtils::Command::MM" "-MTest::Harness" "-e" "undef *Test::Harness::Switches; test_harness(0, 'blib/lib', 'blib/arch')" t/*.t
# 
# Versions for all modules listed in MYMETA.json (including optional ones):
# 
# === Configure Requires ===
# 
#     Module              Want Have
#     ------------------- ---- ----
#     ExtUtils::MakeMaker  any 6.98
# 
# === Build Requires ===
# 
#     Module              Want Have
#     ------------------- ---- ----
#     ExtUtils::MakeMaker  any 6.98
# 
# === Test Requires ===
# 
#     Module                Want     Have
#     --------------------- ---- --------
#     ExtUtils::MakeMaker    any     6.98
#     File::Spec            0.80     3.47
#     File::Spec::Functions  any     3.47
#     Test::Exception        any     0.43
#     Test::More             any 1.302019
#     Test::Warn             any     0.32
#     warnings               any     1.23
# 
# === Test Recommends ===
# 
#     Module         Want     Have
#     ---------- -------- --------
#     CPAN::Meta 2.120900 2.150005
# 
# === Runtime Requires ===
# 
#     Module           Want   Have
#     ---------------- ---- ------
#     Carp              any 1.3301
#     File::Basename    any   2.85
#     File::Spec       0.80   3.47
#     File::Spec::Unix  any   3.47
#     Params::Util     0.10   1.07
#     strict            any   1.08
# 
# === Other Modules ===
# 
#     Module           Have
#     ------------- -------
#     JSON::PP      2.27203
#     Pod::Coverage    0.23
#     Sub::Name        0.15
#     YAML             1.15
#     autodie          2.23
# 
t/00-report-prereqs.t .. ok
t/01_compile.t ......... ok
t/02_main.t ............ ok
t/03_error.t ........... ok
All tests successful.
Files=4, Tests=34,  1 wallclock secs ( 0.02 usr  0.00 sys +  0.22 cusr  0.00 csys =  0.24 CPU)
Result: PASS

------------------------------
PREREQUISITES
------------------------------

Prerequisite modules loaded:

requires:

    Module                Need  Have    
    --------------------- ----- --------
    Carp                  0     1.3301  
    File::Basename        0     2.85    
    File::Spec            0.80  3.47    
    File::Spec::Unix      0     3.47    
    Params::Util          0.10  1.07    
    perl                  5.006 5.020000
    strict                0     1.08    

build_requires:

    Module                Need  Have    
    --------------------- ----- --------
    ExtUtils::MakeMaker   0     6.98    
    File::Spec            0.80  3.47    
    File::Spec::Functions 0     3.47    
    Test::Exception       0     0.43    
    Test::More            0     1.302019
    Test::Warn            0     0.32    
    warnings              0     1.23    

configure_requires:

    Module                Need  Have    
    --------------------- ----- --------
    ExtUtils::MakeMaker   0     6.98    
    perl                  5.006 5.020000


------------------------------
ENVIRONMENT AND OTHER CONTEXT
------------------------------

Environment variables:

    LANG = en_US.UTF-8
    PATH = /usr/local/bin:/usr/bin:/bin:/usr/local/sbin:/usr/sbin:/sbin:/home/eserte/bin/linux-gnu:/home/eserte/bin/sh:/home/eserte/bin:/home/eserte/bin/pistachio-perl/bin:/usr/games:/home/eserte/devel:/home/eserte/src/srezic-misc/scripts
    PERL5LIB = /home/eserte/.cpan/build/2018012009/Test-Exception-0.43-EDY7TM/blib/arch:/home/eserte/.cpan/build/2018012009/Test-Exception-0.43-EDY7TM/blib/lib:/home/eserte/.cpan/build/2018012009/Test-Warn-0.32-zZVxkY/blib/arch:/home/eserte/.cpan/build/2018012009/Test-Warn-0.32-zZVxkY/blib/lib:/home/eserte/.cpan/build/2018012009/Sub-Uplevel-0.2800-oe641M/blib/arch:/home/eserte/.cpan/build/2018012009/Sub-Uplevel-0.2800-oe641M/blib/lib:/home/eserte/.cpan/build/2018012009/X11-Protocol-Other-30-4hk02c/blib/arch:/home/eserte/.cpan/build/2018012009/X11-Protocol-Other-30-4hk02c/blib/lib:/home/eserte/.cpan/build/2018012009/X11-Protocol-0.56-GE0npq/blib/arch:/home/eserte/.cpan/build/2018012009/X11-Protocol-0.56-GE0npq/blib/lib:/home/eserte/.cpan/build/2018012009/Tk-804.034-O1htIu/blib/arch:/home/eserte/.cpan/build/2018012009/Tk-804.034-O1htIu/blib/lib:/home/eserte/.cpan/build/2018012009/Perl-Tidy-20180101-5aNsdT/blib/arch:/home/eserte/.cpan/build/2018012009/Perl-Tidy-20180101-5aNsdT/blib/lib
    PERL5OPT = 
    PERL5_CPANPLUS_IS_RUNNING = 26453
    PERL5_CPAN_IS_RUNNING = 26453
    PERL5_CPAN_IS_RUNNING_IN_RECURSION = 28493,26453
    PERLDOC = -MPod::Perldoc::ToTextOverstrike
    PERL_BATCH = yes
    PERL_CANARY_STABILITY_NOPROMPT = 1
    PERL_CPAN_REPORTER_CONFIG = /var/tmp/cpansmoker-1000/2018012009/cpanreporter_003_config.ini
    PERL_EXTUTILS_AUTOINSTALL = --defaultdeps
    SHELL = /bin/zsh
    STDPERL = perl
    TERM = xterm
    TMPDIR = /var/tmp/cpansmoker-1000/2018012009

Perl special variables (and OS-specific diagnostics, for MSWin32):

    $^X = /opt/perl-5.20.0/bin/perl
    $UID/$EUID = 1000 / 1000
    $GID = 1000 4 24 25 27 29 30 44 46 108 111 115 128 134 1000 1024
    $EGID = 1000 4 24 25 27 29 30 44 46 108 111 115 128 134 1000 1024

Perl module toolchain versions installed:

    Module              Have    
    ------------------- --------
    CPAN                2.05    
    CPAN::Meta          2.150005
    Cwd                 3.47    
    ExtUtils::CBuilder  0.280216
    ExtUtils::Command   1.18    
    ExtUtils::Install   1.67    
    ExtUtils::MakeMaker 6.98    
    ExtUtils::Manifest  1.63    
    ExtUtils::ParseXS   3.24    
    File::Spec          3.47    
    JSON                n/a     
    JSON::PP            2.27203 
    Module::Build       0.4218  
    Module::Signature   n/a     
    Parse::CPAN::Meta   1.4414  
    Test::Harness       3.30    
    Test::More          1.302019
    YAML                1.15    
    YAML::Syck          1.29    
    version             0.9908  


--

Summary of my perl5 (revision 5 version 20 subversion 0) configuration:
   
  Platform:
    osname=linux, osvers=3.16.0-4-amd64, archname=x86_64-linux
    uname='linux cabulja 3.16.0-4-amd64 #1 smp debian 3.16.7-ckt25-2 (2016-04-08) x86_64 gnulinux '
    config_args='-ds -e -Dprefix=/opt/perl-5.20.0 -Dcf_email=srezic@cpan.org'
    hint=recommended, useposix=true, d_sigaction=define
    useithreads=undef, usemultiplicity=undef
    use64bitint=define, use64bitall=define, uselongdouble=undef
    usemymalloc=n, bincompat5005=undef
  Compiler:
    cc='cc', ccflags ='-fwrapv -fno-strict-aliasing -pipe -fstack-protector -I/usr/local/include -D_LARGEFILE_SOURCE -D_FILE_OFFSET_BITS=64',
    optimize='-O2',
    cppflags='-fwrapv -fno-strict-aliasing -pipe -fstack-protector -I/usr/local/include'
    ccversion='', gccversion='4.9.2', gccosandvers=''
    intsize=4, longsize=8, ptrsize=8, doublesize=8, byteorder=12345678
    d_longlong=define, longlongsize=8, d_longdbl=define, longdblsize=16
    ivtype='long', ivsize=8, nvtype='double', nvsize=8, Off_t='off_t', lseeksize=8
    alignbytes=8, prototype=define
  Linker and Libraries:
    ld='cc', ldflags =' -fstack-protector -L/usr/local/lib'
    libpth=/usr/local/lib /usr/lib/gcc/x86_64-linux-gnu/4.9/include-fixed /usr/include/x86_64-linux-gnu /usr/lib /lib/x86_64-linux-gnu /lib/../lib /usr/lib/x86_64-linux-gnu /usr/lib/../lib /lib
    libs=-lnsl -lgdbm -ldb -ldl -lm -lcrypt -lutil -lc -lgdbm_compat
    perllibs=-lnsl -ldl -lm -lcrypt -lutil -lc
    libc=libc-2.19.so, so=so, useshrplib=false, libperl=libperl.a
    gnulibc_version='2.19'
  Dynamic Linking:
    dlsrc=dl_dlopen.xs, dlext=so, d_dlsymun=undef, ccdlflags='-Wl,-E'
    cccdlflags='-fPIC', lddlflags='-shared -O2 -L/usr/local/lib -fstack-protector'


Characteristics of this binary (from libperl): 
  Compile-time options: HAS_TIMES PERLIO_LAYERS PERL_DONT_CREATE_GVSV
                        PERL_HASH_FUNC_ONE_AT_A_TIME_HARD PERL_MALLOC_WRAP
                        PERL_NEW_COPY_ON_WRITE PERL_PRESERVE_IVUV
                        USE_64_BIT_ALL USE_64_BIT_INT USE_LARGE_FILES
                        USE_LOCALE USE_LOCALE_COLLATE USE_LOCALE_CTYPE
                        USE_LOCALE_NUMERIC USE_PERLIO USE_PERL_ATOF
  Built under linux
  Compiled at May 28 2016 10:10:09
  %ENV:
    PERL5LIB="/home/eserte/.cpan/build/2018012009/Test-Exception-0.43-EDY7TM/blib/arch:/home/eserte/.cpan/build/2018012009/Test-Exception-0.43-EDY7TM/blib/lib:/home/eserte/.cpan/build/2018012009/Test-Warn-0.32-zZVxkY/blib/arch:/home/eserte/.cpan/build/2018012009/Test-Warn-0.32-zZVxkY/blib/lib:/home/eserte/.cpan/build/2018012009/Sub-Uplevel-0.2800-oe641M/blib/arch:/home/eserte/.cpan/build/2018012009/Sub-Uplevel-0.2800-oe641M/blib/lib:/home/eserte/.cpan/build/2018012009/X11-Protocol-Other-30-4hk02c/blib/arch:/home/eserte/.cpan/build/2018012009/X11-Protocol-Other-30-4hk02c/blib/lib:/home/eserte/.cpan/build/2018012009/X11-Protocol-0.56-GE0npq/blib/arch:/home/eserte/.cpan/build/2018012009/X11-Protocol-0.56-GE0npq/blib/lib:/home/eserte/.cpan/build/2018012009/Tk-804.034-O1htIu/blib/arch:/home/eserte/.cpan/build/2018012009/Tk-804.034-O1htIu/blib/lib:/home/eserte/.cpan/build/2018012009/Perl-Tidy-20180101-5aNsdT/blib/arch:/home/eserte/.cpan/build/2018012009/Perl-Tidy-20180101-5aNsdT/blib/lib"
    PERL5OPT=""
    PERL5_CPANPLUS_IS_RUNNING="26453"
    PERL5_CPAN_IS_RUNNING="26453"
    PERL5_CPAN_IS_RUNNING_IN_RECURSION="28493,26453"
    PERLDOC="-MPod::Perldoc::ToTextOverstrike"
    PERL_BATCH="yes"
    PERL_CANARY_STABILITY_NOPROMPT="1"
    PERL_CPAN_REPORTER_CONFIG="/var/tmp/cpansmoker-1000/2018012009/cpanreporter_003_config.ini"
    PERL_EXTUTILS_AUTOINSTALL="--defaultdeps"
  @INC:
    /home/eserte/.cpan/build/2018012009/Test-Exception-0.43-EDY7TM/blib/arch
    /home/eserte/.cpan/build/2018012009/Test-Exception-0.43-EDY7TM/blib/lib
    /home/eserte/.cpan/build/2018012009/Test-Warn-0.32-zZVxkY/blib/arch
    /home/eserte/.cpan/build/2018012009/Test-Warn-0.32-zZVxkY/blib/lib
    /home/eserte/.cpan/build/2018012009/Sub-Uplevel-0.2800-oe641M/blib/arch
    /home/eserte/.cpan/build/2018012009/Sub-Uplevel-0.2800-oe641M/blib/lib
    /home/eserte/.cpan/build/2018012009/X11-Protocol-Other-30-4hk02c/blib/arch
    /home/eserte/.cpan/build/2018012009/X11-Protocol-Other-30-4hk02c/blib/lib
    /home/eserte/.cpan/build/2018012009/X11-Protocol-0.56-GE0npq/blib/arch
    /home/eserte/.cpan/build/2018012009/X11-Protocol-0.56-GE0npq/blib/lib
    /home/eserte/.cpan/build/2018012009/Tk-804.034-O1htIu/blib/arch
    /home/eserte/.cpan/build/2018012009/Tk-804.034-O1htIu/blib/lib
    /home/eserte/.cpan/build/2018012009/Perl-Tidy-20180101-5aNsdT/blib/arch
    /home/eserte/.cpan/build/2018012009/Perl-Tidy-20180101-5aNsdT/blib/lib
    /opt/perl-5.20.0/lib/site_perl/5.20.0/x86_64-linux
    /opt/perl-5.20.0/lib/site_perl/5.20.0
    /opt/perl-5.20.0/lib/5.20.0/x86_64-linux
    /opt/perl-5.20.0/lib/5.20.0
    .