MaxMind-DB-Writer v0.300004 Perl 5 v5.34.1 amd64-freebsd-ld

Status
Pass
From
Slaven Rezić
Dist
MaxMind-DB-Writer v0.300004
Platform
Perl 5 v5.34.1 amd64-freebsd-ld
Date
2023-10-17 19:16:42
ID
b46b9ba2-6d21-11ee-b8df-cef86d8775ea
This distribution has been tested as part of the CPAN Testers
project, supporting the Perl programming language.  See
http://wiki.cpantesters.org/ for more information or email
questions to cpan-testers-discuss@perl.org


--
Dear MaxMind, Inc.,

This is a computer-generated report for MaxMind-DB-Writer-0.300004
on perl 5.34.1, created by CPAN-Reporter-1.2018.

Thank you for uploading your work to CPAN.  Congratulations!
All tests were successful.

Sections of this report:

    * Tester comments
    * Program output
    * Prerequisites
    * Environment and other context

------------------------------
TESTER COMMENTS
------------------------------

Additional comments from tester:

none provided

------------------------------
PROGRAM OUTPUT
------------------------------

Output from './Build test':

# 
# Versions for all modules listed in MYMETA.json (including optional ones):
# 
# === Configure Requires ===
# 
#     Module        Want   Have
#     ------------- ---- ------
#     Module::Build 0.28 0.4234
# 
# === Build Requires ===
# 
#     Module             Want     Have
#     ------------------ ---- --------
#     ExtUtils::CBuilder  any 0.280236
#     Module::Build      0.28   0.4234
# 
# === Test Requires ===
# 
#     Module                          Want     Have
#     ------------------------------- ---- --------
#     Data::Printer                    any 1.001000
#     Devel::Refcount                  any     0.10
#     ExtUtils::MakeMaker              any     7.70
#     File::Spec                       any     3.80
#     File::Temp                       any   0.2311
#     JSON                             any     4.10
#     List::AllUtils                   any     0.19
#     List::Util                       any     1.63
#     MaxMind::DB::Reader              any 1.000014
#     Net::Works::Address              any     0.22
#     Scalar::Util                     any     1.63
#     Test::Bits                       any     0.02
#     Test::Builder                    any 1.302195
#     Test::Fatal                      any    0.017
#     Test::HexDifferences             any    1.001
#     Test::MaxMind::DB::Common::Data  any 0.040001
#     Test::More                      0.96 1.302195
#     Test::Requires                   any     0.11
#     Test::Warnings                   any    0.032
#     lib                              any     0.65
#     utf8                             any     1.24
# 
# === Test Recommends ===
# 
#     Module         Want     Have
#     ---------- -------- --------
#     CPAN::Meta 2.120900 2.150010
# 
# === Runtime Requires ===
# 
#     Module                           Want     Have
#     ---------------------------- -------- --------
#     Carp                              any     1.52
#     Data::Dumper::Concise             any    2.023
#     Data::IEEE754                     any     0.02
#     Digest::MD5                       any     2.58
#     Digest::SHA                       any     6.03
#     Encode                            any     3.19
#     Exporter                          any     5.77
#     IO::Handle                        any     1.51
#     Math::Int128                     0.21     0.22
#     Math::Int64                      0.51     0.54
#     MaxMind::DB::Common          0.031003 0.040001
#     MaxMind::DB::Metadata             any 0.040001
#     MaxMind::DB::Reader::Decoder      any 1.000014
#     MaxMind::DB::Role::Debugs         any 0.040001
#     Moose                             any   2.2206
#     Moose::Util::TypeConstraints      any   2.2206
#     MooseX::Params::Validate          any     0.21
#     MooseX::StrictConstructor         any     0.21
#     Net::Works::Network               any     0.22
#     Sereal::Decoder                   any    5.004
#     Sereal::Encoder                 3.002    5.004
#     Test::Deep::NoTest                any    1.204
#     XSLoader                          any     0.30
#     autodie                           any     2.35
#     bytes                             any     1.08
#     constant                          any     1.33
#     namespace::autoclean              any     0.29
#     perl                         5.013002 5.034001
#     strict                            any     1.12
#     warnings                          any     1.51
# 
t/00-report-prereqs.t ...................................... ok
t/MaxMind/DB/Writer/Serializer-deduplication.t ............. ok
t/MaxMind/DB/Writer/Serializer-large-pointer.t ............. ok
t/MaxMind/DB/Writer/Serializer-types/array.t ............... ok
t/MaxMind/DB/Writer/Serializer-types/boolean.t ............. ok
t/MaxMind/DB/Writer/Serializer-types/bytes.t ............... ok
t/MaxMind/DB/Writer/Serializer-types/double.t .............. ok
t/MaxMind/DB/Writer/Serializer-types/end_marker.t .......... ok
t/MaxMind/DB/Writer/Serializer-types/float.t ............... ok
t/MaxMind/DB/Writer/Serializer-types/int32.t ............... ok
t/MaxMind/DB/Writer/Serializer-types/map.t ................. ok
t/MaxMind/DB/Writer/Serializer-types/pointer.t ............. ok
t/MaxMind/DB/Writer/Serializer-types/uint128.t ............. ok
t/MaxMind/DB/Writer/Serializer-types/uint16.t .............. ok
t/MaxMind/DB/Writer/Serializer-types/uint32.t .............. ok
t/MaxMind/DB/Writer/Serializer-types/uint64.t .............. ok
t/MaxMind/DB/Writer/Serializer-types/utf8_string.t ......... ok
t/MaxMind/DB/Writer/Serializer-utf8-as-bytes.t ............. ok
t/MaxMind/DB/Writer/Serializer-utf8-round-trip.t ........... ok
t/MaxMind/DB/Writer/Serializer.t ........................... ok
MaxMind::DB::Writer::Tree is deprecated and should no longer be used at t/MaxMind/DB/Writer/Tree-bigint.t line 7.
t/MaxMind/DB/Writer/Tree-bigint.t .......................... ok
MaxMind::DB::Writer::Tree is deprecated and should no longer be used at t/MaxMind/DB/Writer/Tree-data-references.t line 5.
t/MaxMind/DB/Writer/Tree-data-references.t ................. ok
MaxMind::DB::Writer::Tree is deprecated and should no longer be used at t/lib/Test/MaxMind/DB/Writer.pm line 11.
t/MaxMind/DB/Writer/Tree-freeze-thaw.t ..................... ok
MaxMind::DB::Writer::Tree is deprecated and should no longer be used at t/MaxMind/DB/Writer/Tree-insert-range.t line 6.
t/MaxMind/DB/Writer/Tree-insert-range.t .................... ok
MaxMind::DB::Writer::Tree is deprecated and should no longer be used at t/MaxMind/DB/Writer/Tree-ipv4-and-6.t line 7.
t/MaxMind/DB/Writer/Tree-ipv4-and-6.t ...................... ok
MaxMind::DB::Writer::Tree is deprecated and should no longer be used at t/MaxMind/DB/Writer/Tree-ipv6-aliases.t line 6.
t/MaxMind/DB/Writer/Tree-ipv6-aliases.t .................... ok
MaxMind::DB::Writer::Tree is deprecated and should no longer be used at t/lib/Test/MaxMind/DB/Writer.pm line 11.
t/MaxMind/DB/Writer/Tree-iterator-large-dataset.t .......... ok
MaxMind::DB::Writer::Tree is deprecated and should no longer be used at t/lib/Test/MaxMind/DB/Writer.pm line 11.
t/MaxMind/DB/Writer/Tree-iterator.t ........................ ok
MaxMind::DB::Writer::Tree is deprecated and should no longer be used at t/MaxMind/DB/Writer/Tree-output/0-0-0-0.t line 10.
t/MaxMind/DB/Writer/Tree-output/0-0-0-0.t .................. ok
MaxMind::DB::Writer::Tree is deprecated and should no longer be used at t/MaxMind/DB/Writer/Tree-output/basic.t line 8.
t/MaxMind/DB/Writer/Tree-output/basic.t .................... ok
MaxMind::DB::Writer::Tree is deprecated and should no longer be used at t/MaxMind/DB/Writer/Tree-output/freeze-thaw-record-size.t line 8.
t/MaxMind/DB/Writer/Tree-output/freeze-thaw-record-size.t .. ok
MaxMind::DB::Writer::Tree is deprecated and should no longer be used at t/MaxMind/DB/Writer/Tree-output/freeze-then-write-bug.t line 8.
t/MaxMind/DB/Writer/Tree-output/freeze-then-write-bug.t .... ok
MaxMind::DB::Writer::Tree is deprecated and should no longer be used at t/MaxMind/DB/Writer/Tree-output/ipv6-aliases.t line 10.
t/MaxMind/DB/Writer/Tree-output/ipv6-aliases.t ............. ok
MaxMind::DB::Writer::Tree is deprecated and should no longer be used at t/lib/Test/MaxMind/DB/Writer.pm line 11.
t/MaxMind/DB/Writer/Tree-output/record-deduplication.t ..... ok
MaxMind::DB::Writer::Tree is deprecated and should no longer be used at t/MaxMind/DB/Writer/Tree-output/utf8-data.t line 11.
t/MaxMind/DB/Writer/Tree-output/utf8-data.t ................ ok
MaxMind::DB::Writer::Tree is deprecated and should no longer be used at t/lib/Test/MaxMind/DB/Writer.pm line 11.
t/MaxMind/DB/Writer/Tree-record-collisions.t ............... ok
MaxMind::DB::Writer::Tree is deprecated and should no longer be used at t/MaxMind/DB/Writer/Tree-thaw-merge.t line 14.
t/MaxMind/DB/Writer/Tree-thaw-merge.t ...................... ok
MaxMind::DB::Writer::Tree is deprecated and should no longer be used at t/lib/Test/MaxMind/DB/Writer.pm line 11.
t/MaxMind/DB/Writer/Tree.t ................................. ok
t/MaxMind/DB/Writer/Util.t ................................. ok
All tests successful.
Files=39, Tests=458, 23 wallclock secs ( 0.43 usr  0.12 sys + 19.56 cusr  2.44 csys = 22.55 CPU)
Result: PASS

------------------------------
PREREQUISITES
------------------------------

Prerequisite modules loaded:

requires:

    Module                          Need     Have    
    ------------------------------- -------- --------
    autodie                         0        2.35    
    bytes                           0        1.08    
    Carp                            0        1.52    
    constant                        0        1.33    
    Data::Dumper::Concise           0        2.023   
    Data::IEEE754                   0        0.02    
    Digest::MD5                     0        2.58    
    Digest::SHA                     0        6.03    
    Encode                          0        3.19    
    Exporter                        0        5.77    
    IO::Handle                      0        1.51    
    Math::Int128                    0.21     0.22    
    Math::Int64                     0.51     0.54    
    MaxMind::DB::Common             0.031003 0.040001
    MaxMind::DB::Metadata           0        0.040001
    MaxMind::DB::Reader::Decoder    0        1.000014
    MaxMind::DB::Role::Debugs       0        0.040001
    Moose                           0        2.2206  
    Moose::Util::TypeConstraints    0        2.2206  
    MooseX::Params::Validate        0        0.21    
    MooseX::StrictConstructor       0        0.21    
    namespace::autoclean            0        0.29    
    Net::Works::Network             0        0.22    
    perl                            5.013002 5.034001
    Sereal::Decoder                 0        5.004   
    Sereal::Encoder                 3.002    5.004   
    strict                          0        1.12    
    Test::Deep::NoTest              0        1.204   
    warnings                        0        1.51    
    XSLoader                        0        0.30    

build_requires:

    Module                          Need     Have    
    ------------------------------- -------- --------
    Data::Printer                   0        1.001000
    Devel::Refcount                 0        0.10    
    ExtUtils::CBuilder              0        0.280236
    ExtUtils::MakeMaker             0        7.70    
    File::Spec                      0        3.80    
    File::Temp                      0        0.2311  
    JSON                            0        4.10    
    lib                             0        0.65    
    List::AllUtils                  0        0.19    
    List::Util                      0        1.63    
    MaxMind::DB::Reader             0        1.000014
    Module::Build                   0.28     0.4234  
    Net::Works::Address             0        0.22    
    Scalar::Util                    0        1.63    
    Test::Bits                      0        0.02    
    Test::Builder                   0        1.302195
    Test::Fatal                     0        0.017   
    Test::HexDifferences            0        1.001   
    Test::MaxMind::DB::Common::Data 0        0.040001
    Test::More                      0.96     1.302195
    Test::Requires                  0        0.11    
    Test::Warnings                  0        0.032   
    utf8                            0        1.24    

configure_requires:

    Module                          Need     Have    
    ------------------------------- -------- --------
    Module::Build                   0.28     0.4234  


------------------------------
ENVIRONMENT AND OTHER CONTEXT
------------------------------

Environment variables:

    PATH = /usr/local/bin:/usr/bin:/bin:/usr/local/sbin:/usr/sbin:/sbin:/home/cpansand/bin/sh:/home/cpansand/bin:/usr/games:/home/cpansand/devel:/usr/home/eserte/src/srezic-misc/scripts
    PERL5LIB = /home/cpansand/.cpan/build/2023101717/Test-HexDifferences-1.001-1/blib/arch:/home/cpansand/.cpan/build/2023101717/Test-HexDifferences-1.001-1/blib/lib:/home/cpansand/.cpan/build/2023101717/Net-Works-0.22-1/blib/arch:/home/cpansand/.cpan/build/2023101717/Net-Works-0.22-1/blib/lib:/home/cpansand/.cpan/build/2023101717/MaxMind-DB-Reader-1.000014-1/blib/arch:/home/cpansand/.cpan/build/2023101717/MaxMind-DB-Reader-1.000014-1/blib/lib:/home/cpansand/.cpan/build/2023101717/MaxMind-DB-Common-0.040001-1/blib/arch:/home/cpansand/.cpan/build/2023101717/MaxMind-DB-Common-0.040001-1/blib/lib:/home/cpansand/.cpan/build/2023101717/Math-Int128-0.22-1/blib/arch:/home/cpansand/.cpan/build/2023101717/Math-Int128-0.22-1/blib/lib:/home/cpansand/.cpan/build/2023101717/Data-IEEE754-0.02-1/blib/arch:/home/cpansand/.cpan/build/2023101717/Data-IEEE754-0.02-1/blib/lib:/home/cpansand/.cpan/build/2023101717/Test-Bits-0.02-1/blib/arch:/home/cpansand/.cpan/build/2023101717/Test-Bits-0.02-1/blib/lib
    PERL5OPT = 
    PERL5_CPANPLUS_IS_RUNNING = 88973
    PERL5_CPAN_IS_RUNNING = 88973
    PERL5_CPAN_IS_RUNNING_IN_RECURSION = 87429,88973
    PERL_BATCH = yes
    PERL_CANARY_STABILITY_NOPROMPT = 1
    PERL_CPAN_REPORTER_CONFIG = /var/tmp/cpansmoker-1023/2023101717/cpanreporter_000_config.ini
    PERL_EXTUTILS_AUTOINSTALL = --defaultdeps
    PERL_USE_UNSAFE_INC = 1
    SHELL = /bin/sh
    TMPDIR = /var/tmp/cpansmoker-1023/2023101717

Perl special variables (and OS-specific diagnostics, for MSWin32):

    $^X = /usr/perl5.34.1Dp/bin/perl
    $UID/$EUID = 1023 / 1023
    $GID = 1023 1023
    $EGID = 1023 1023

Perl module toolchain versions installed:

    Module              Have    
    ------------------- --------
    CPAN                2.36    
    CPAN::Meta          2.150010
    Cwd                 3.80    
    ExtUtils::CBuilder  0.280236
    ExtUtils::Command   7.70    
    ExtUtils::Install   2.20    
    ExtUtils::MakeMaker 7.70    
    ExtUtils::Manifest  1.73    
    ExtUtils::ParseXS   3.51    
    File::Spec          3.80    
    JSON                4.10    
    JSON::PP            4.15    
    Module::Build       0.4234  
    Module::Signature   0.88    
    Parse::CPAN::Meta   2.150010
    Test::Harness       3.47    
    Test::More          1.302195
    YAML                1.30    
    YAML::Syck          1.34    
    version             0.9929  


--

Summary of my perl5 (revision 5 version 34 subversion 1) configuration:
   
  Platform:
    osname=freebsd
    osvers=13.1-stable
    archname=amd64-freebsd-ld
    uname='freebsd cloud10.bbbike.org 13.1-stable freebsd 13.1-stable #9 stable13-n250044-4a11315a2c3f: sat mar 19 11:19:46 utc 2022 root@cloud10.bbbike.org:usrobjusrhomeprojectsfreebsdamd64.amd64sysgeneric amd64 '
    config_args='-ds -e -Dprefix=/usr/perl5.34.1Dp -Duselongdouble -Dcf_email=srezic@cpan.org -Doptimize=-O2 -pipe'
    hint=recommended
    useposix=true
    d_sigaction=define
    useithreads=undef
    usemultiplicity=undef
    use64bitint=define
    use64bitall=define
    uselongdouble=define
    usemymalloc=n
    default_inc_excludes_dot=define
  Compiler:
    cc='cc'
    ccflags ='-DHAS_FPSETMASK -DHAS_FLOATINGPOINT_H -fno-strict-aliasing -pipe -fstack-protector-strong -I/usr/local/include'
    optimize='-O2 -pipe'
    cppflags='-DHAS_FPSETMASK -DHAS_FLOATINGPOINT_H -fno-strict-aliasing -pipe -fstack-protector-strong -I/usr/local/include'
    ccversion=''
    gccversion='FreeBSD Clang 13.0.0 (git@github.com:llvm/llvm-project.git llvmorg-13.0.0-0-gd7b669b3a303)'
    gccosandvers=''
    intsize=4
    longsize=8
    ptrsize=8
    doublesize=8
    byteorder=12345678
    doublekind=3
    d_longlong=define
    longlongsize=8
    d_longdbl=define
    longdblsize=16
    longdblkind=3
    ivtype='long'
    ivsize=8
    nvtype='long double'
    nvsize=16
    Off_t='off_t'
    lseeksize=8
    alignbytes=16
    prototype=define
  Linker and Libraries:
    ld='cc'
    ldflags ='-pthread -Wl,-E  -fstack-protector-strong -L/usr/local/lib'
    libpth=/usr/lib /usr/local/lib /usr/lib/clang/13.0.0/lib
    libs=-lpthread -lgdbm -ldl -lm -lcrypt -lutil -lc
    perllibs=-lpthread -ldl -lm -lcrypt -lutil -lc
    libc=
    so=so
    useshrplib=false
    libperl=libperl.a
    gnulibc_version=''
  Dynamic Linking:
    dlsrc=dl_dlopen.xs
    dlext=so
    d_dlsymun=undef
    ccdlflags=' '
    cccdlflags='-DPIC -fPIC'
    lddlflags='-shared  -L/usr/local/lib -fstack-protector-strong'


Characteristics of this binary (from libperl): 
  Compile-time options:
    HAS_TIMES
    PERLIO_LAYERS
    PERL_COPY_ON_WRITE
    PERL_DONT_CREATE_GVSV
    PERL_MALLOC_WRAP
    PERL_OP_PARENT
    PERL_PRESERVE_IVUV
    USE_64_BIT_ALL
    USE_64_BIT_INT
    USE_LARGE_FILES
    USE_LOCALE
    USE_LOCALE_COLLATE
    USE_LOCALE_CTYPE
    USE_LOCALE_NUMERIC
    USE_LOCALE_TIME
    USE_LONG_DOUBLE
    USE_PERLIO
    USE_PERL_ATOF
  Built under freebsd
  Compiled at Mar 25 2022 22:31:21
  %ENV:
    PERL5LIB="/home/cpansand/.cpan/build/2023101717/Test-HexDifferences-1.001-1/blib/arch:/home/cpansand/.cpan/build/2023101717/Test-HexDifferences-1.001-1/blib/lib:/home/cpansand/.cpan/build/2023101717/Net-Works-0.22-1/blib/arch:/home/cpansand/.cpan/build/2023101717/Net-Works-0.22-1/blib/lib:/home/cpansand/.cpan/build/2023101717/MaxMind-DB-Reader-1.000014-1/blib/arch:/home/cpansand/.cpan/build/2023101717/MaxMind-DB-Reader-1.000014-1/blib/lib:/home/cpansand/.cpan/build/2023101717/MaxMind-DB-Common-0.040001-1/blib/arch:/home/cpansand/.cpan/build/2023101717/MaxMind-DB-Common-0.040001-1/blib/lib:/home/cpansand/.cpan/build/2023101717/Math-Int128-0.22-1/blib/arch:/home/cpansand/.cpan/build/2023101717/Math-Int128-0.22-1/blib/lib:/home/cpansand/.cpan/build/2023101717/Data-IEEE754-0.02-1/blib/arch:/home/cpansand/.cpan/build/2023101717/Data-IEEE754-0.02-1/blib/lib:/home/cpansand/.cpan/build/2023101717/Test-Bits-0.02-1/blib/arch:/home/cpansand/.cpan/build/2023101717/Test-Bits-0.02-1/blib/lib"
    PERL5OPT=""
    PERL5_CPANPLUS_IS_RUNNING="88973"
    PERL5_CPAN_IS_RUNNING="88973"
    PERL5_CPAN_IS_RUNNING_IN_RECURSION="87429,88973"
    PERL_BATCH="yes"
    PERL_CANARY_STABILITY_NOPROMPT="1"
    PERL_CPAN_REPORTER_CONFIG="/var/tmp/cpansmoker-1023/2023101717/cpanreporter_000_config.ini"
    PERL_EXTUTILS_AUTOINSTALL="--defaultdeps"
    PERL_USE_UNSAFE_INC="1"
  @INC:
    /home/cpansand/.cpan/build/2023101717/Test-HexDifferences-1.001-1/blib/arch
    /home/cpansand/.cpan/build/2023101717/Test-HexDifferences-1.001-1/blib/lib
    /home/cpansand/.cpan/build/2023101717/Net-Works-0.22-1/blib/arch
    /home/cpansand/.cpan/build/2023101717/Net-Works-0.22-1/blib/lib
    /home/cpansand/.cpan/build/2023101717/MaxMind-DB-Reader-1.000014-1/blib/arch
    /home/cpansand/.cpan/build/2023101717/MaxMind-DB-Reader-1.000014-1/blib/lib
    /home/cpansand/.cpan/build/2023101717/MaxMind-DB-Common-0.040001-1/blib/arch
    /home/cpansand/.cpan/build/2023101717/MaxMind-DB-Common-0.040001-1/blib/lib
    /home/cpansand/.cpan/build/2023101717/Math-Int128-0.22-1/blib/arch
    /home/cpansand/.cpan/build/2023101717/Math-Int128-0.22-1/blib/lib
    /home/cpansand/.cpan/build/2023101717/Data-IEEE754-0.02-1/blib/arch
    /home/cpansand/.cpan/build/2023101717/Data-IEEE754-0.02-1/blib/lib
    /home/cpansand/.cpan/build/2023101717/Test-Bits-0.02-1/blib/arch
    /home/cpansand/.cpan/build/2023101717/Test-Bits-0.02-1/blib/lib
    /usr/perl5.34.1Dp/lib/site_perl/5.34.1/amd64-freebsd-ld
    /usr/perl5.34.1Dp/lib/site_perl/5.34.1
    /usr/perl5.34.1Dp/lib/5.34.1/amd64-freebsd-ld
    /usr/perl5.34.1Dp/lib/5.34.1
    .