Report for GraphViz2-Abstract-Util-Constants-0.001000

Back
From: metabase:user:c5d8ed3c-9413-11e3-9500-9628c7c7991c
Subject: PASS GraphViz2-Abstract-Util-Constants-0.001000 v5.16.3 FreeBSD
Date: 2014-04-04T05:55:20Z

This distribution has been tested as part of the CPAN Testers
project, supporting the Perl programming language.  See
http://wiki.cpantesters.org/ for more information or email
questions to cpan-testers-discuss@perl.org


--
Dear Kent Fredric,

This is a computer-generated report for GraphViz2-Abstract-Util-Constants-0.001000
on perl 5.16.3, created by CPAN-Reporter-1.2006.

Thank you for uploading your work to CPAN.  Congratulations!
All tests were successful.

Sections of this report:

    * Tester comments
    * Program output
    * Prerequisites
    * Environment and other context

------------------------------
TESTER COMMENTS
------------------------------

Additional comments from tester:

this report is from an automated smoke testing program
and was not reviewed by a human for accuracy

------------------------------
PROGRAM OUTPUT
------------------------------

Output from './Build test':

t/00-compile/lib_GraphViz2_Abstract_Util_Constants_pm.t .. ok
# 
# 
# Generated by Dist::Zilla::Plugin::ReportVersions::Tiny v1.10
# perl: 5.016003 (wanted 5.006) on freebsd from /usr/local/bin/perl5.16.3
# 
# Exporter                                      => 5.66       (want any version)
# Module::Build                                 => 0.4205     (want 0.4203) 
# Test::More                                    => 1.001002   (want 1.001002)
# constant                                      => 1.23       (want any version)
# parent                                        => 0.225      (want any version)
# strict                                        => 1.07       (want any version)
# warnings                                      => 1.13       (want any version)
# 
# Thanks for using my code.  I hope it works for you.
# If not, please try and include this output in the bug report.
# That will help me reproduce the issue and solve your problem.
# 
t/000-report-versions-tiny.t ............................. ok
t/basic.t ................................................ ok
All tests successful.
Files=3, Tests=7,  0 wallclock secs ( 0.03 usr  0.01 sys +  0.18 cusr  0.08 csys =  0.30 CPU)
Result: PASS

------------------------------
PREREQUISITES
------------------------------

Prerequisite modules loaded:

requires:

    Module        Need     Have    
    ------------- -------- --------
    constant      0        1.23    
    Exporter      0        5.66    
    parent        0        0.225   
    perl          5.006    5.016003
    strict        0        1.07    
    warnings      0        1.13    

build_requires:

    Module        Need     Have    
    ------------- -------- --------
    Module::Build 0.4203   0.4205  
    Test::More    1.001002 1.001002

configure_requires:

    Module        Need     Have    
    ------------- -------- --------
    Module::Build 0.4203   0.4205  


------------------------------
ENVIRONMENT AND OTHER CONTEXT
------------------------------

Environment variables:

    AUTOMATED_TESTING = 1
    PATH = /sbin:/bin:/usr/sbin:/usr/bin:/usr/games:/usr/local/sbin:/usr/local/bin:/root/bin
    PERL5LIB = /home/cpan/.cpan/build/Test-Fatal-0.013-e8UhTs/blib/arch:/home/cpan/.cpan/build/Test-Fatal-0.013-e8UhTs/blib/lib:/home/cpan/.cpan/build/Try-Tiny-0.20-jmzxYh/blib/arch:/home/cpan/.cpan/build/Try-Tiny-0.20-jmzxYh/blib/lib:/home/cpan/.cpan/build/Module-Build-0.4205-wvsim5/blib/arch:/home/cpan/.cpan/build/Module-Build-0.4205-wvsim5/blib/lib
    PERL5OPT = 
    PERL5_CPANPLUS_IS_RUNNING = 46585
    PERL5_CPAN_IS_RUNNING = 46585
    PERL5_CPAN_IS_RUNNING_IN_RECURSION = 77162,46585
    PERL_CR_SMOKER_CURRENT = GraphViz2-Abstract-Edge-0.002000
    PERL_EXTUTILS_AUTOINSTALL = --defaultdeps
    PERL_MM_USE_DEFAULT = 1
    SHELL = /bin/sh
    TERM = screen

Perl special variables (and OS-specific diagnostics, for MSWin32):

    $^X = /usr/local/bin/perl5.16.3
    $UID/$EUID = 1001 / 1001
    $GID = 1001 1001
    $EGID = 1001 1001

Perl module toolchain versions installed:

    Module              Have    
    ------------------- --------
    CPAN                1.9800  
    CPAN::Meta          2.140640
    Cwd                 3.40    
    ExtUtils::CBuilder  0.280206
    ExtUtils::Command   1.17    
    ExtUtils::Install   1.58    
    ExtUtils::MakeMaker 6.6302  
    ExtUtils::Manifest  1.61    
    ExtUtils::ParseXS   3.16    
    File::Spec          3.40    
    JSON                2.90    
    JSON::PP            2.27200 
    Module::Build       0.4205  
    Module::Signature   0.73    
    Parse::CPAN::Meta   1.4414  
    Test::Harness       3.23    
    Test::More          1.001002
    YAML                0.87    
    YAML::Syck          n/a     
    version             0.99    


--

Summary of my perl5 (revision 5 version 16 subversion 3) configuration:
   
  Platform:
    osname=freebsd, osvers=9.1-release-p10, archname=amd64-freebsd-thread-multi
    uname='freebsd 91amd64-default-job-07 9.1-release-p10 freebsd 9.1-release-p10 amd64 '
    config_args='-sde -Dprefix=/usr/local -Darchlib=/usr/local/lib/perl5/5.16/mach -Dprivlib=/usr/local/lib/perl5/5.16 -Dman3dir=/usr/local/lib/perl5/5.16/perl/man/man3 -Dman1dir=/usr/local/man/man1 -Dsitearch=/usr/local/lib/perl5/site_perl/5.16/mach -Dsitelib=/usr/local/lib/perl5/site_perl/5.16 -Dscriptdir=/usr/local/bin -Dsiteman3dir=/usr/local/lib/perl5/5.16/man/man3 -Dsiteman1dir=/usr/local/man/man1 -Ui_malloc -Ui_iconv -Uinstallusrbinperl -Dcc=cc -Duseshrplib -Dinc_version_list=none -Dccflags=-DAPPLLIB_EXP="/usr/local/lib/perl5/5.16/BSDPAN" -Doptimize=-O2 -pipe -fno-strict-aliasing -Ui_gdbm -Dusethreads=y -Dusemymalloc=n -Duse64bitint'
    hint=recommended, useposix=true, d_sigaction=define
    useithreads=define, usemultiplicity=define
    useperlio=define, d_sfio=undef, uselargefiles=define, usesocks=undef
    use64bitint=define, use64bitall=define, uselongdouble=undef
    usemymalloc=n, bincompat5005=undef
  Compiler:
    cc='cc', ccflags ='-DAPPLLIB_EXP="/usr/local/lib/perl5/5.16/BSDPAN" -DHAS_FPSETMASK -DHAS_FLOATINGPOINT_H -fno-strict-aliasing -pipe -fstack-protector -I/usr/local/include',
    optimize='-O2 -pipe -fno-strict-aliasing',
    cppflags='-DAPPLLIB_EXP="/usr/local/lib/perl5/5.16/BSDPAN" -DHAS_FPSETMASK -DHAS_FLOATINGPOINT_H -fno-strict-aliasing -pipe -fstack-protector -I/usr/local/include'
    ccversion='', gccversion='4.2.1 20070831 patched [FreeBSD]', gccosandvers=''
    intsize=4, longsize=8, ptrsize=8, doublesize=8, byteorder=12345678
    d_longlong=define, longlongsize=8, d_longdbl=define, longdblsize=16
    ivtype='long', ivsize=8, nvtype='double', nvsize=8, Off_t='off_t', lseeksize=8
    alignbytes=8, prototype=define
  Linker and Libraries:
    ld='cc', ldflags ='-pthread -Wl,-E  -fstack-protector -L/usr/local/lib'
    libpth=/usr/lib /usr/local/lib
    libs=-lm -lcrypt -lutil
    perllibs=-lm -lcrypt -lutil
    libc=, so=so, useshrplib=true, libperl=libperl.so
    gnulibc_version=''
  Dynamic Linking:
    dlsrc=dl_dlopen.xs, dlext=so, d_dlsymun=undef, ccdlflags='  -Wl,-R/usr/local/lib/perl5/5.16/mach/CORE'
    cccdlflags='-DPIC -fPIC', lddlflags='-shared  -L/usr/local/lib -fstack-protector'


Characteristics of this binary (from libperl): 
  Compile-time options: HAS_TIMES MULTIPLICITY PERLIO_LAYERS
                        PERL_DONT_CREATE_GVSV PERL_IMPLICIT_CONTEXT
                        PERL_MALLOC_WRAP PERL_PRESERVE_IVUV USE_64_BIT_ALL
                        USE_64_BIT_INT USE_ITHREADS USE_LARGE_FILES
                        USE_LOCALE USE_LOCALE_COLLATE USE_LOCALE_CTYPE
                        USE_LOCALE_NUMERIC USE_PERLIO USE_PERL_ATOF
                        USE_REENTRANT_API
  Built under freebsd
  Compiled at Mar 19 2014 19:17:27
  %ENV:
    PERL5LIB="/home/cpan/.cpan/build/Test-Fatal-0.013-e8UhTs/blib/arch:/home/cpan/.cpan/build/Test-Fatal-0.013-e8UhTs/blib/lib:/home/cpan/.cpan/build/Try-Tiny-0.20-jmzxYh/blib/arch:/home/cpan/.cpan/build/Try-Tiny-0.20-jmzxYh/blib/lib:/home/cpan/.cpan/build/Module-Build-0.4205-wvsim5/blib/arch:/home/cpan/.cpan/build/Module-Build-0.4205-wvsim5/blib/lib"
    PERL5OPT=""
    PERL5_CPANPLUS_IS_RUNNING="46585"
    PERL5_CPAN_IS_RUNNING="46585"
    PERL5_CPAN_IS_RUNNING_IN_RECURSION="77162,46585"
    PERL_CR_SMOKER_CURRENT="GraphViz2-Abstract-Edge-0.002000"
    PERL_EXTUTILS_AUTOINSTALL="--defaultdeps"
    PERL_MM_USE_DEFAULT="1"
  @INC:
    /home/cpan/.cpan/build/Test-Fatal-0.013-e8UhTs/blib/arch
    /home/cpan/.cpan/build/Test-Fatal-0.013-e8UhTs/blib/lib
    /home/cpan/.cpan/build/Try-Tiny-0.20-jmzxYh/blib/arch
    /home/cpan/.cpan/build/Try-Tiny-0.20-jmzxYh/blib/lib
    /home/cpan/.cpan/build/Module-Build-0.4205-wvsim5/blib/arch
    /home/cpan/.cpan/build/Module-Build-0.4205-wvsim5/blib/lib
    /usr/local/lib/perl5/5.16/BSDPAN
    /usr/local/lib/perl5/site_perl/5.16/mach
    /usr/local/lib/perl5/site_perl/5.16
    /usr/local/lib/perl5/5.16/mach
    /usr/local/lib/perl5/5.16
    .