Report for MouseX-SimpleConfig-0.11

Back
From: metabase:user:e3434da8-b236-11df-85ca-0247c6d74bde
Subject: PASS MouseX-SimpleConfig-0.11 v5.14.0 GNU/Linux
Date: 2011-08-18T06:45:48Z

This distribution has been tested as part of the CPAN Testers
project, supporting the Perl programming language.  See
http://wiki.cpantesters.org/ for more information or email
questions to cpan-testers-discuss@perl.org


--
Dear Mark Gardner,

This is a computer-generated report for MouseX-SimpleConfig-0.11
on perl 5.14.0, created by CPAN-Reporter-1.1902.

Thank you for uploading your work to CPAN.  Congratulations!
All tests were successful.

Sections of this report:

    * Tester comments
    * Program output
    * Prerequisites
    * Environment and other context

------------------------------
TESTER COMMENTS
------------------------------

Additional comments from tester:

this report is from an automated smoke testing program
and was not reviewed by a human for accuracy

------------------------------
PROGRAM OUTPUT
------------------------------

Output from '/usr/bin/make test':

PERL_DL_NONLAZY=1 /home/perl5140/testing/perl-5.14.0/bin/perl5.14.0 "-MExtUtils::Command::MM" "-e" "test_harness(0, 'blib/lib', 'blib/arch')" t/*.t
t/00-compile.t .................. skipped: no tests to run
t/01use.t ....................... ok
Use of YAML::Syck or YAML to parse config files is DEPRECATED. Please install YAML::XS for proper YAML support at /home/perl5140/.cpan/build/Config-Any-0.23-QS4PkT/blib/lib/Config/Any.pm line 198
t/10simple.t .................... ok
Use of YAML::Syck or YAML to parse config files is DEPRECATED. Please install YAML::XS for proper YAML support at /home/perl5140/.cpan/build/Config-Any-0.23-QS4PkT/blib/lib/Config/Any.pm line 198
Use of YAML::Syck or YAML to parse config files is DEPRECATED. Please install YAML::XS for proper YAML support at /home/perl5140/.cpan/build/Config-Any-0.23-QS4PkT/blib/lib/Config/Any.pm line 198
t/11default.t ................... ok
t/12config_any_args.t ........... ok
t/author-critic.t ............... skipped: these tests are for testing by the author
Use of YAML::Syck or YAML to parse config files is DEPRECATED. Please install YAML::XS for proper YAML support at /home/perl5140/.cpan/build/Config-Any-0.23-QS4PkT/blib/lib/Config/Any.pm line 198
Use of YAML::Syck or YAML to parse config files is DEPRECATED. Please install YAML::XS for proper YAML support at /home/perl5140/.cpan/build/Config-Any-0.23-QS4PkT/blib/lib/Config/Any.pm line 198
t/multiple.t .................... ok
t/release-check-changes.t ....... skipped: these tests are for release candidate testing
t/release-consistent-version.t .. skipped: these tests are for release candidate testing
t/release-dist-manifest.t ....... skipped: these tests are for release candidate testing
t/release-distmeta.t ............ skipped: these tests are for release candidate testing
t/release-eol.t ................. skipped: these tests are for release candidate testing
t/release-has-version.t ......... skipped: these tests are for release candidate testing
t/release-kwalitee.t ............ skipped: these tests are for release candidate testing
t/release-minimum-version.t ..... skipped: these tests are for release candidate testing
t/release-no-tabs.t ............. skipped: these tests are for release candidate testing
t/release-pod-coverage.t ........ skipped: these tests are for release candidate testing
t/release-pod-syntax.t .......... skipped: these tests are for release candidate testing
t/release-portability.t ......... skipped: these tests are for release candidate testing
t/release-unused-vars.t ......... skipped: these tests are for release candidate testing
All tests successful.
Files=20, Tests=28,  3 wallclock secs ( 0.07 usr  0.04 sys +  0.70 cusr  0.24 csys =  1.05 CPU)
Result: PASS

------------------------------
PREREQUISITES
------------------------------

Prerequisite modules loaded:

requires:

    Module                 Need Have   
    ---------------------- ---- -------
    Carp                   0    1.20   
    Config::Any            0.13 0.23   
    English                0    1.04   
    Mouse                  0.35 0.93   
    Mouse::Role            0    0.93   
    MouseX::ConfigFromFile 0.02 0.05   

build_requires:

    Module                 Need Have   
    ---------------------- ---- -------
    File::Find             0    1.19   
    File::Temp             0    0.22   
    Mouse                  0    0.93   
    Path::Class::File      0    0.24   
    Test::More             0.88 0.98   

configure_requires:

    Module                 Need Have   
    ---------------------- ---- -------
    ExtUtils::MakeMaker    6.31 6.57_05


------------------------------
ENVIRONMENT AND OTHER CONTEXT
------------------------------

Environment variables:

    AUTOMATED_TESTING = 1
    LANG = en_US.UTF-8
    LC_COLLATE = C
    LC_MONETARY = nl_NL.utf8
    PATH = /home/tester/perl5/perlbrew/bin:/home/tester/perl5/perlbrew/perls/perl-5.15.1/bin:/usr/lib64/qt-3.3/bin:/usr/lib64/ccache:/usr/local/bin:/bin:/usr/bin:/usr/local/sbin:/usr/sbin:/sbin:/home/tester/bin:/home/tester/bin
    PATH_WITHOUT_PERLBREW = /usr/lib64/qt-3.3/bin:/usr/lib64/ccache:/usr/local/bin:/bin:/usr/bin:/usr/local/sbin:/usr/sbin:/sbin:/home/tester/bin
    PERL5LIB = /home/perl5140/.cpan/build/MouseX-ConfigFromFile-0.05-3V46pC/blib/arch:/home/perl5140/.cpan/build/MouseX-ConfigFromFile-0.05-3V46pC/blib/lib:/home/perl5140/.cpan/build/MouseX-Types-Path-Class-0.06-Uo7awH/blib/arch:/home/perl5140/.cpan/build/MouseX-Types-Path-Class-0.06-Uo7awH/blib/lib:/home/perl5140/.cpan/build/MouseX-Types-0.05-9IdGER/blib/arch:/home/perl5140/.cpan/build/MouseX-Types-0.05-9IdGER/blib/lib:/home/perl5140/.cpan/build/Test-UseAllModules-0.13-ki_tTM/blib/arch:/home/perl5140/.cpan/build/Test-UseAllModules-0.13-ki_tTM/blib/lib:/home/perl5140/.cpan/build/Config-Any-0.23-QS4PkT/blib/arch:/home/perl5140/.cpan/build/Config-Any-0.23-QS4PkT/blib/lib:/home/perl5140/.cpan/build/Path-Class-0.24-fHjOeI/blib/arch:/home/perl5140/.cpan/build/Path-Class-0.24-fHjOeI/blib/lib:/home/perl5140/.cpan/build/Mouse-0.93-gDI1tX/blib/arch:/home/perl5140/.cpan/build/Mouse-0.93-gDI1tX/blib/lib
    PERL5OPT = 
    PERL5_CPANPLUS_IS_RUNNING = 6681
    PERL5_CPAN_IS_RUNNING = 6681
    PERL5_CPAN_IS_RUNNING_IN_RECURSION = 19337,6681
    PERLBREW_PATH = /home/tester/perl5/perlbrew/bin:/home/tester/perl5/perlbrew/perls/perl-5.15.1/bin
    PERLBREW_PERL = perl-5.15.1
    PERLBREW_ROOT = /home/tester/perl5/perlbrew
    PERLBREW_VERSION = 0.15
    PERL_CR_SMOKER_CURRENT = MouseX-SimpleConfig-0.11
    PERL_EXTUTILS_AUTOINSTALL = --defaultdeps
    PERL_MM_USE_DEFAULT = 1
    SHELL = /bin/bash
    TERM = screen

Perl special variables (and OS-specific diagnostics, for MSWin32):

    $^X = /home/perl5140/testing/perl-5.14.0/bin/perl5.14.0
    $UID/$EUID = 509 / 509
    $GID = 509 509
    $EGID = 509 509

Perl module toolchain versions installed:

    Module              Have    
    ------------------- --------
    CPAN                1.9600  
    Cwd                 3.36    
    ExtUtils::CBuilder  0.280203
    ExtUtils::Command   1.17    
    ExtUtils::Install   1.56    
    ExtUtils::MakeMaker 6.57_05 
    ExtUtils::Manifest  1.58    
    ExtUtils::ParseXS   2.2210  
    File::Spec          3.33    
    Module::Build       0.3800  
    Module::Signature   n/a     
    Test::Harness       3.23    
    Test::More          0.98    
    YAML                n/a     
    YAML::Syck          1.17    
    version             0.91    


--

Summary of my perl5 (revision 5 version 14 subversion 0) configuration:
   
  Platform:
    osname=linux, osvers=2.6.35.11-83.fc14.x86_64, archname=x86_64-linux-thread-multi
    uname='linux firenze.fritz.box 2.6.35.11-83.fc14.x86_64 #1 smp mon feb 7 07:06:44 utc 2011 x86_64 x86_64 x86_64 gnulinux '
    config_args='-Dprefix=/home/perl5140/testing/perl-5.14.0 -Dusethreads -Dusedevel -des'
    hint=recommended, useposix=true, d_sigaction=define
    useithreads=define, usemultiplicity=define
    useperlio=define, d_sfio=undef, uselargefiles=define, usesocks=undef
    use64bitint=define, use64bitall=define, uselongdouble=undef
    usemymalloc=n, bincompat5005=undef
  Compiler:
    cc='cc', ccflags ='-D_REENTRANT -D_GNU_SOURCE -fno-strict-aliasing -pipe -fstack-protector -I/usr/local/include -D_LARGEFILE_SOURCE -D_FILE_OFFSET_BITS=64',
    optimize='-O2',
    cppflags='-D_REENTRANT -D_GNU_SOURCE -fno-strict-aliasing -pipe -fstack-protector -I/usr/local/include'
    ccversion='', gccversion='4.5.1 20100924 (Red Hat 4.5.1-4)', gccosandvers=''
    intsize=4, longsize=8, ptrsize=8, doublesize=8, byteorder=12345678
    d_longlong=define, longlongsize=8, d_longdbl=define, longdblsize=16
    ivtype='long', ivsize=8, nvtype='double', nvsize=8, Off_t='off_t', lseeksize=8
    alignbytes=8, prototype=define
  Linker and Libraries:
    ld='cc', ldflags =' -fstack-protector -L/usr/local/lib'
    libpth=/usr/local/lib /lib/../lib64 /usr/lib/../lib64 /lib /usr/lib /lib64 /usr/lib64 /usr/local/lib64
    libs=-lnsl -lgdbm -ldb -ldl -lm -lcrypt -lutil -lpthread -lc -lgdbm_compat
    perllibs=-lnsl -ldl -lm -lcrypt -lutil -lpthread -lc
    libc=, so=so, useshrplib=false, libperl=libperl.a
    gnulibc_version='2.13'
  Dynamic Linking:
    dlsrc=dl_dlopen.xs, dlext=so, d_dlsymun=undef, ccdlflags='-Wl,-E'
    cccdlflags='-fPIC', lddlflags='-shared -O2 -L/usr/local/lib -fstack-protector'


Characteristics of this binary (from libperl): 
  Compile-time options: MULTIPLICITY PERL_DONT_CREATE_GVSV
                        PERL_IMPLICIT_CONTEXT PERL_MALLOC_WRAP
                        PERL_PRESERVE_IVUV PERL_USE_DEVEL USE_64_BIT_ALL
                        USE_64_BIT_INT USE_ITHREADS USE_LARGE_FILES
                        USE_PERLIO USE_PERL_ATOF USE_REENTRANT_API
  Built under linux
  Compiled at Jun 14 2011 08:32:54
  %ENV:
    PERL5LIB="/home/perl5140/.cpan/build/MouseX-ConfigFromFile-0.05-3V46pC/blib/arch:/home/perl5140/.cpan/build/MouseX-ConfigFromFile-0.05-3V46pC/blib/lib:/home/perl5140/.cpan/build/MouseX-Types-Path-Class-0.06-Uo7awH/blib/arch:/home/perl5140/.cpan/build/MouseX-Types-Path-Class-0.06-Uo7awH/blib/lib:/home/perl5140/.cpan/build/MouseX-Types-0.05-9IdGER/blib/arch:/home/perl5140/.cpan/build/MouseX-Types-0.05-9IdGER/blib/lib:/home/perl5140/.cpan/build/Test-UseAllModules-0.13-ki_tTM/blib/arch:/home/perl5140/.cpan/build/Test-UseAllModules-0.13-ki_tTM/blib/lib:/home/perl5140/.cpan/build/Config-Any-0.23-QS4PkT/blib/arch:/home/perl5140/.cpan/build/Config-Any-0.23-QS4PkT/blib/lib:/home/perl5140/.cpan/build/Path-Class-0.24-fHjOeI/blib/arch:/home/perl5140/.cpan/build/Path-Class-0.24-fHjOeI/blib/lib:/home/perl5140/.cpan/build/Mouse-0.93-gDI1tX/blib/arch:/home/perl5140/.cpan/build/Mouse-0.93-gDI1tX/blib/lib"
    PERL5OPT=""
    PERL5_CPANPLUS_IS_RUNNING="6681"
    PERL5_CPAN_IS_RUNNING="6681"
    PERL5_CPAN_IS_RUNNING_IN_RECURSION="19337,6681"
    PERLBREW_PATH="/home/tester/perl5/perlbrew/bin:/home/tester/perl5/perlbrew/perls/perl-5.15.1/bin"
    PERLBREW_PERL="perl-5.15.1"
    PERLBREW_ROOT="/home/tester/perl5/perlbrew"
    PERLBREW_VERSION="0.15"
    PERL_CR_SMOKER_CURRENT="MouseX-SimpleConfig-0.11"
    PERL_EXTUTILS_AUTOINSTALL="--defaultdeps"
    PERL_MM_USE_DEFAULT="1"
  @INC:
    /home/perl5140/.cpan/build/MouseX-ConfigFromFile-0.05-3V46pC/blib/arch
    /home/perl5140/.cpan/build/MouseX-ConfigFromFile-0.05-3V46pC/blib/lib
    /home/perl5140/.cpan/build/MouseX-Types-Path-Class-0.06-Uo7awH/blib/arch
    /home/perl5140/.cpan/build/MouseX-Types-Path-Class-0.06-Uo7awH/blib/lib
    /home/perl5140/.cpan/build/MouseX-Types-0.05-9IdGER/blib/arch
    /home/perl5140/.cpan/build/MouseX-Types-0.05-9IdGER/blib/lib
    /home/perl5140/.cpan/build/Test-UseAllModules-0.13-ki_tTM/blib/arch
    /home/perl5140/.cpan/build/Test-UseAllModules-0.13-ki_tTM/blib/lib
    /home/perl5140/.cpan/build/Config-Any-0.23-QS4PkT/blib/arch
    /home/perl5140/.cpan/build/Config-Any-0.23-QS4PkT/blib/lib
    /home/perl5140/.cpan/build/Path-Class-0.24-fHjOeI/blib/arch
    /home/perl5140/.cpan/build/Path-Class-0.24-fHjOeI/blib/lib
    /home/perl5140/.cpan/build/Mouse-0.93-gDI1tX/blib/arch
    /home/perl5140/.cpan/build/Mouse-0.93-gDI1tX/blib/lib
    /home/perl5140/testing/perl-5.14.0/lib/site_perl/5.14.0/x86_64-linux-thread-multi
    /home/perl5140/testing/perl-5.14.0/lib/site_perl/5.14.0
    /home/perl5140/testing/perl-5.14.0/lib/5.14.0/x86_64-linux-thread-multi
    /home/perl5140/testing/perl-5.14.0/lib/5.14.0
    .