Graphics-ColorUtils v0.17 Perl 5 v5.24.3 x86_64-linux

Status
Pass
From
Dist
Graphics-ColorUtils v0.17
Platform
Perl 5 v5.24.3 x86_64-linux
Date
2018-04-10 06:30:48
ID
b4bb997e-3c88-11e8-8c1a-a637939e5f78
This distribution has been tested as part of the CPAN Testers
project, supporting the Perl programming language.  See
http://wiki.cpantesters.org/ for more information or email
questions to cpan-testers-discuss@perl.org


--
Dear Philipp K. Janert,

This is a computer-generated report for Graphics-ColorUtils-0.17
on perl 5.24.3, created by CPAN-Reporter-1.2018.

Thank you for uploading your work to CPAN.  Congratulations!
All tests were successful.

Sections of this report:

    * Tester comments
    * Program output
    * Prerequisites
    * Environment and other context

------------------------------
TESTER COMMENTS
------------------------------

Additional comments from tester:

none provided

------------------------------
PROGRAM OUTPUT
------------------------------

Output from '/usr/bin/make test':

PERL_DL_NONLAZY=1 "/exlibris/sfx_ver/app/perl-5.24.3/bin/perl" "-MExtUtils::Command::MM" "-MTest::Harness" "-e" "undef *Test::Harness::Switches; test_harness(0, 'blib/lib', 'blib/arch')" t/*.t
t/01sanity.t ....... ok
t/02conversions.t .. ok
t/03names.t ........ ok
t/04gradients.t .... ok
All tests successful.
Files=4, Tests=3708,  2 wallclock secs ( 0.74 usr  0.07 sys +  1.64 cusr  0.21 csys =  2.66 CPU)
Result: PASS

------------------------------
PREREQUISITES
------------------------------

Prerequisite modules loaded:

requires:

    Module              Need Have
    ------------------- ---- ----
    Carp                0    1.40

build_requires:

    Module              Need Have
    ------------------- ---- ----
    ExtUtils::MakeMaker 0    7.32


------------------------------
ENVIRONMENT AND OTHER CONTEXT
------------------------------

Environment variables:

    LANG = en_US.UTF-8
    LD_LIBRARY_PATH = /exlibris/sfx_ver/sfx4_1/app/lib:/usr/local/lib/:/usr/lib/:/exlibris/sfx_ver/sfx4_1/app/oracle:/exlibris/sfx_ver/sfx4_1/app/mysql/lib/mysql
    NONINTERACTIVE_TESTING = 1
    PATH = /exlibris/sfx_ver/sfx4_1/app/java/bin:/exlibris/sfx_ver/sfx4_1/sfxglb41/admin:/exlibris/sfx_ver/sfx4_1/app/mysql/bin:/exlibris/sfx_ver/sfx4_1/app/perl/bin:/exlibris/sfx_ver/sfx4_1/app/utils:/exlibris/sfx_ver/sfx4_1/app/python/bin:/exlibris/sfx_ver/sfx4_1/app/sphinx/bin:/usr/lib64/qt-3.3/bin:/usr/kerberos/bin:/usr/share/centrifydc/bin:/usr/local/bin:/bin:/usr/bin:/usr/local/bin:/usr/sfw/bin:/opt/sfw/bin:/usr/sbin:.:/mnt/osupdates/inst/scripts
    PERL5LIB = 
    PERL5OPT = 
    PERL5_CPANPLUS_IS_RUNNING = 6551
    PERL5_CPAN_IS_RUNNING = 6551
    PERL_HOME = /exlibris/sfx_ver/sfx4_1/app/perl/bin
    PERL_MM_USE_DEFAULT = 1
    PERL_NO_VALIDATION = 1
    SHELL = /bin/tcsh
    TERM = xterm

Perl special variables (and OS-specific diagnostics, for MSWin32):

    $^X = /exlibris/sfx_ver/app/perl-5.24.3/bin/perl
    $UID/$EUID = 512 / 512
    $GID = 505 505 515
    $EGID = 505 505 515

Perl module toolchain versions installed:

    Module              Have    
    ------------------- --------
    CPAN                2.16    
    CPAN::Meta          2.150010
    Cwd                 3.74    
    ExtUtils::CBuilder  0.280230
    ExtUtils::Command   7.32    
    ExtUtils::Install   2.14    
    ExtUtils::MakeMaker 7.32    
    ExtUtils::Manifest  1.70    
    ExtUtils::ParseXS   3.35    
    File::Spec          3.74    
    JSON                2.97001 
    JSON::PP            2.97001 
    Module::Build       0.4224  
    Module::Signature   0.81    
    Parse::CPAN::Meta   2.150010
    Test::Harness       3.39    
    Test::More          1.302128
    YAML                1.24    
    YAML::Syck          n/a     
    version             0.9918  


--

Summary of my perl5 (revision 5 version 24 subversion 3) configuration:
   
  Platform:
    osname=linux, osvers=2.6.18-410.el5, archname=x86_64-linux
    uname='linux il-inst03.corp.exlibrisgroup.com 2.6.18-410.el5 #1 smp wed may 11 06:00:14 edt 2016 x86_64 x86_64 x86_64 gnulinux '
    config_args='-des -Duseshrplib -Dprefix=/exlibris/sfx_ver/app/perl-5.24.3'
    hint=previous, useposix=true, d_sigaction=define
    useithreads=undef, usemultiplicity=undef
    use64bitint=define, use64bitall=define, uselongdouble=undef
    usemymalloc=n, bincompat5005=undef
  Compiler:
    cc='cc', ccflags ='-fno-strict-aliasing -pipe -fstack-protector -I/usr/local/include -D_LARGEFILE_SOURCE -D_FILE_OFFSET_BITS=64 -D_FORTIFY_SOURCE=2',
    optimize='-O2',
    cppflags='-fno-strict-aliasing -pipe -fstack-protector -I/usr/local/include'
    ccversion='', gccversion='4.1.2 20080704 (Red Hat 4.1.2-55)', gccosandvers=''
    intsize=4, longsize=8, ptrsize=8, doublesize=8, byteorder=12345678, doublekind=3
    d_longlong=define, longlongsize=8, d_longdbl=define, longdblsize=16, longdblkind=3
    ivtype='long', ivsize=8, nvtype='double', nvsize=8, Off_t='off_t', lseeksize=8
    alignbytes=8, prototype=define
  Linker and Libraries:
    ld='cc', ldflags =' -fstack-protector -L/usr/local/lib'
    libpth=/usr/local/lib /usr/lib /lib /lib64 /usr/lib64 /usr/local/lib64 /usr/local/lib /usr/lib
    libs=-lpthread -lnsl -lgdbm -ldb -ldl -lm -lcrypt -lutil -lc
    perllibs=-lpthread -lnsl -ldl -lm -lcrypt -lutil -lc
    libc=libc-2.5.so, so=so, useshrplib=true, libperl=libperl.a
    gnulibc_version='2.5'
  Dynamic Linking:
    dlsrc=dl_dlopen.xs, dlext=so, d_dlsymun=undef, ccdlflags='-Wl,-E -Wl,-rpath,/exlibris/sfx_ver/app/perl-5.24.3/lib/5.24.3/x86_64-linux/CORE'
    cccdlflags='-fPIC', lddlflags='-shared -O2 -L/usr/local/lib -fstack-protector'


Characteristics of this binary (from libperl): 
  Compile-time options: HAS_TIMES PERLIO_LAYERS PERL_COPY_ON_WRITE
                        PERL_DONT_CREATE_GVSV
                        PERL_HASH_FUNC_ONE_AT_A_TIME_HARD PERL_MALLOC_WRAP
                        PERL_PRESERVE_IVUV USE_64_BIT_ALL USE_64_BIT_INT
                        USE_LARGE_FILES USE_LOCALE USE_LOCALE_COLLATE
                        USE_LOCALE_CTYPE USE_LOCALE_NUMERIC USE_LOCALE_TIME
                        USE_PERLIO USE_PERL_ATOF
  Built under linux
  Compiled at Feb  1 2018 16:25:58
  %ENV:
    PERL5LIB=""
    PERL5OPT=""
    PERL5_CPANPLUS_IS_RUNNING="6551"
    PERL5_CPAN_IS_RUNNING="6551"
    PERL_HOME="/exlibris/sfx_ver/sfx4_1/app/perl/bin"
    PERL_MM_USE_DEFAULT="1"
    PERL_NO_VALIDATION="1"
  @INC:
    /exlibris/sfx_ver/app/perl-5.24.3/lib/site_perl/5.24.3/x86_64-linux
    /exlibris/sfx_ver/app/perl-5.24.3/lib/site_perl/5.24.3
    /exlibris/sfx_ver/app/perl-5.24.3/lib/5.24.3/x86_64-linux
    /exlibris/sfx_ver/app/perl-5.24.3/lib/5.24.3
    .