Back
From: metabase:user:30f4dfbe-2aae-11df-837a-5e0a49663a4f
Subject: PASS MySQL-Sandbox-3.2.12 v5.14.3 NetBSD
Date: 2017-07-18T20:35:58Z
This distribution has been tested as part of the CPAN Testers
project, supporting the Perl programming language. See
http://wiki.cpantesters.org/ for more information or email
questions to cpan-testers-discuss@perl.org
--
Dear Giuseppe Maxia,
This is a computer-generated report for MySQL-Sandbox-3.2.12
on perl 5.14.3, created by CPAN-Reporter-1.2018.
Thank you for uploading your work to CPAN. Congratulations!
All tests were successful.
Sections of this report:
* Tester comments
* Program output
* Prerequisites
* Environment and other context
------------------------------
TESTER COMMENTS
------------------------------
Additional comments from tester:
this report is from an automated smoke testing program
and was not reviewed by a human for accuracy
------------------------------
PROGRAM OUTPUT
------------------------------
Output from '/usr/bin/make test':
PERL_DL_NONLAZY=1 "/home/njh/perl5/perlbrew/perls/perl-5.14.3/bin/perl" "-MExtUtils::Command::MM" "-MTest::Harness" "-e" "undef *Test::Harness::Switches; test_harness(0, 'blib/lib', 'blib/arch')" t/*.t
t/01_modules.t ...................... ok
t/02_test_binaries.t ................ ok
t/03_test_sandbox.t ................. ok
t/04_test_sbtool.t .................. ok
t/05_test_smoke.t ................... ok
t/06_test_user_defined.t ............ ok
t/07_test_user_defined.t ............ ok
t/08_test_single_port_checking.t .... ok
t/09_test_multiple_port_checking.t .. ok
t/10_check_start_restart.t .......... ok
t/11_replication_parameters.t ....... ok
t/12_custom_user_pwd.t .............. ok
t/13_innodb_plugin_install.t ........ ok
t/14_semi_synch_plugin_install.t .... ok
t/15_user_privileges.t .............. ok
t/16_replication_options.t .......... ok
t/17_replication_flow.t ............. ok
t/18_force_creation.t ............... ok
t/19_replication_gtid.t ............. ok
t/20_add_option.t ................... ok
t/21_replication_gtid_option.t ...... ok
t/22_init_exec_sql.t ................ ok
t/23_mysqlx_plugin.t ................ ok
t/24_dd_expose.t .................... ok
All tests successful.
Files=24, Tests=26, 16 wallclock secs ( 0.65 usr 0.29 sys + 10.41 cusr 3.07 csys = 14.42 CPU)
Result: PASS
------------------------------
PREREQUISITES
------------------------------
Prerequisite modules loaded:
requires:
Module Need Have
------------------- ---- ----
File::Find 1 1.19
Socket 1.7 1.94
build_requires:
Module Need Have
------------------- ---- ----
ExtUtils::MakeMaker 0 7.24
------------------------------
ENVIRONMENT AND OTHER CONTEXT
------------------------------
Environment variables:
AUTOMATED_TESTING = 1
PATH = /home/njh/perl5/perlbrew/bin:/home/njh/perl5/perlbrew/perls/perl-5.14.3/bin:/home/njh/perl5/perlbrew/bin:/usr/bin:/bin:/usr/pkg/bin:/usr/local/bin
PERL5LIB =
PERL5OPT =
PERL5_CPANPLUS_IS_RUNNING = 23281
PERL5_CPAN_IS_RUNNING = 23281
PERLBREW_BASHRC_VERSION = 0.78
PERLBREW_HOME = /home/njh/.perlbrew
PERLBREW_LIB =
PERLBREW_MANPATH = /home/njh/perl5/perlbrew/perls/perl-5.14.3/man
PERLBREW_PATH = /home/njh/perl5/perlbrew/bin:/home/njh/perl5/perlbrew/perls/perl-5.14.3/bin
PERLBREW_PERL = perl-5.14.3
PERLBREW_ROOT = /home/njh/perl5/perlbrew
PERLBREW_VERSION = 0.78
PERL_LOCAL_LIB_ROOT =
SHELL = /bin/sh
TMPDIR = /home/njh/tmp
Perl special variables (and OS-specific diagnostics, for MSWin32):
$^X = /home/njh/perl5/perlbrew/perls/perl-5.14.3/bin/perl
$UID/$EUID = 1000 / 1000
$GID = 1000 1000 0
$EGID = 1000 1000 0
Perl module toolchain versions installed:
Module Have
------------------- --------
CPAN 2.16
CPAN::Meta 2.143240
Cwd 3.36
ExtUtils::CBuilder 0.280224
ExtUtils::Command 7.24
ExtUtils::Install 1.56
ExtUtils::MakeMaker 7.24
ExtUtils::Manifest 1.70
ExtUtils::ParseXS 2.2210
File::Spec 3.33
JSON n/a
JSON::PP 2.27203
Module::Build 0.4220
Module::Signature n/a
Parse::CPAN::Meta 1.4414
Test::Harness 3.36
Test::More 0.98
YAML 1.23
YAML::Syck 1.30
version 0.88
--
Summary of my perl5 (revision 5 version 14 subversion 3) configuration:
Platform:
osname=netbsd, osvers=7.0.2_patch, archname=evbarm-netbsd-thread-multi
uname='netbsd pi2c.bandsman.co.uk 7.0.2_patch netbsd 7.0.2_patch (rpi2.201612281350z) evbarm '
config_args='-de -Dprefix=/home/njh/perl5/perlbrew/perls/perl-5.14.3 -Duseithreads -Dusemultiplicity -Dusedevel -Accflags=-O2 -W -Wformat=2 -Wswitch -Wshadow -Wwrite-strings -Wuninitialized -Wall -pipe -fomit-frame-pointer -D_FORTIFY_SOURCE=2 -Wpointer-arith -Wstrict-prototypes -fstack-protector -Wstack-protector -Wextra -Wbad-function-cast -Wcast-align -Wcast-qual -Wdisabled-optimization -Wendif-labels -Wfloat-equal -Wformat-nonliteral -Winline -Wmissing-declarations -Wmissing-prototypes -Wnested-externs -Wpointer-arith -Wundef -Wformat-security -mtune=cortex-a7 -mfpu=vfp -mfloat-abi=hard -Aeval:scriptdir=/home/njh/perl5/perlbrew/perls/perl-5.14.3/bin'
hint=recommended, useposix=true, d_sigaction=define
useithreads=define, usemultiplicity=define
useperlio=define, d_sfio=undef, uselargefiles=define, usesocks=undef
use64bitint=undef, use64bitall=undef, uselongdouble=undef
usemymalloc=n, bincompat5005=undef
Compiler:
cc='cc', ccflags ='-O2 -W -Wformat=2 -Wswitch -Wshadow -Wwrite-strings -Wuninitialized -Wall -pipe -fomit-frame-pointer -D_FORTIFY_SOURCE=2 -Wpointer-arith -Wstrict-prototypes -fstack-protector -Wstack-protector -Wextra -Wbad-function-cast -Wcast-align -Wcast-qual -Wdisabled-optimization -Wendif-labels -Wfloat-equal -Wformat-nonliteral -Winline -Wmissing-declarations -Wmissing-prototypes -Wnested-externs -Wpointer-arith -Wundef -Wformat-security -mtune=cortex-a7 -mfpu=vfp -mfloat-abi=hard -fno-strict-aliasing -I/usr/pkg/include',
optimize='-O',
cppflags='-O2 -W -Wformat=2 -Wswitch -Wshadow -Wwrite-strings -Wuninitialized -Wall -pipe -fomit-frame-pointer -D_FORTIFY_SOURCE=2 -Wpointer-arith -Wstrict-prototypes -fstack-protector -Wstack-protector -Wextra -Wbad-function-cast -Wcast-align -Wcast-qual -Wdisabled-optimization -Wendif-labels -Wfloat-equal -Wformat-nonliteral -Winline -Wmissing-declarations -Wmissing-prototypes -Wnested-externs -Wpointer-arith -Wundef -Wformat-security -mtune=cortex-a7 -mfpu=vfp -mfloat-abi=hard -fno-strict-aliasing -I/usr/pkg/include'
ccversion='', gccversion='4.8.4', gccosandvers=''
intsize=4, longsize=4, ptrsize=4, doublesize=8, byteorder=1234
d_longlong=define, longlongsize=8, d_longdbl=define, longdblsize=8
ivtype='long', ivsize=4, nvtype='double', nvsize=8, Off_t='off_t', lseeksize=8
alignbytes=8, prototype=define
Linker and Libraries:
ld='cc', ldflags =' -Wl,-rpath,/usr/pkg/lib -Wl,-rpath,/usr/local/lib -fstack-protector -L/usr/pkg/lib'
libpth=/usr/pkg/lib /lib /usr/lib
libs=-lm -lcrypt -lutil -lc -lposix -lpthread
perllibs=-lm -lcrypt -lutil -lc -lposix -lpthread
libc=/lib/libc.so, so=so, useshrplib=false, libperl=libperl.a
gnulibc_version=''
Dynamic Linking:
dlsrc=dl_dlopen.xs, dlext=so, d_dlsymun=undef, ccdlflags='-Wl,-E '
cccdlflags='-DPIC -fPIC ', lddlflags='-shared -L/usr/pkg/lib -fstack-protector'
Characteristics of this binary (from libperl):
Compile-time options: MULTIPLICITY PERL_DONT_CREATE_GVSV
PERL_IMPLICIT_CONTEXT PERL_MALLOC_WRAP
PERL_PRESERVE_IVUV PERL_USE_DEVEL USE_ITHREADS
USE_LARGE_FILES USE_PERLIO USE_PERL_ATOF
USE_REENTRANT_API
Locally applied patches:
Devel::PatchPerl 1.38
Built under netbsd
Compiled at Jan 1 2017 13:08:36
%ENV:
PERL5LIB=""
PERL5OPT=""
PERL5_CPANPLUS_IS_RUNNING="23281"
PERL5_CPAN_IS_RUNNING="23281"
PERLBREW_BASHRC_VERSION="0.78"
PERLBREW_HOME="/home/njh/.perlbrew"
PERLBREW_LIB=""
PERLBREW_MANPATH="/home/njh/perl5/perlbrew/perls/perl-5.14.3/man"
PERLBREW_PATH="/home/njh/perl5/perlbrew/bin:/home/njh/perl5/perlbrew/perls/perl-5.14.3/bin"
PERLBREW_PERL="perl-5.14.3"
PERLBREW_ROOT="/home/njh/perl5/perlbrew"
PERLBREW_VERSION="0.78"
PERL_LOCAL_LIB_ROOT=""
@INC:
/home/njh/perl5/perlbrew/perls/perl-5.14.3/lib/site_perl/5.14.3/evbarm-netbsd-thread-multi
/home/njh/perl5/perlbrew/perls/perl-5.14.3/lib/site_perl/5.14.3
/home/njh/perl5/perlbrew/perls/perl-5.14.3/lib/5.14.3/evbarm-netbsd-thread-multi
/home/njh/perl5/perlbrew/perls/perl-5.14.3/lib/5.14.3
.