Inline-CPP v0.80 Perl 5 v5.41.10 x86_64-linux-ld

Status
Pass
From
Andreas J. König (ANDK)
Dist
Inline-CPP v0.80
Platform
Perl 5 v5.41.10 x86_64-linux-ld
Date
2025-04-16 04:38:56
ID
b4d77a7a-1a7c-11f0-adb2-b09e8abac6f6
This distribution has been tested as part of the CPAN Testers
project, supporting the Perl programming language.  See
http://wiki.cpantesters.org/ for more information or email
questions to cpan-testers-discuss@perl.org


--
Dear David J. Oswald,

This is a computer-generated report for Inline-CPP-0.80
on perl 5.41.10, created by CPAN-Reporter-1.2020.

Thank you for uploading your work to CPAN.  Congratulations!
All tests were successful.

Sections of this report:

    * Tester comments
    * Program output
    * Prerequisites
    * Environment and other context

------------------------------
TESTER COMMENTS
------------------------------

Additional comments from tester:

this report is from an automated smoke testing program
and was not reviewed by a human for accuracy

------------------------------
PROGRAM OUTPUT
------------------------------

Output from '/usr/bin/make test':

PERL_DL_NONLAZY=1 "/tmp/basesmoker-reloperl-9UT2/bin/perl" "-MExtUtils::Command::MM" "-MTest::Harness" "-e" "undef *Test::Harness::Switches; test_harness(0, 'blib/lib', 'blib/arch')" t/*.t t/*/*.t
# $Config{osname}:     linux
# $Config{cc}:         cc
# $Config{gccversion}: 11.4.0
t/00load_prereqs.t .................... ok
t/01fn_cans.t ......................... ok
t/02basic.t ........................... ok
t/03prefix.t .......................... ok
t/04charptr.t ......................... ok
t/06fn_regress.t ...................... ok
# 
# Compiler guesses:
# 	EU::CppGuess:    [g++ -fwrapv -fno-strict-aliasing -pipe -fstack-protector-strong -I/usr/local/include -D_LARGEFILE_SOURCE -D_FILE_OFFSET_BITS=64 -xc++],
# 	Old Makefile.PL: [g++].
# Linker guesses:
# 	EU::CppGuess:    [-lstdc++],
# 	Old Makefile.PL: [-lstdc++].
t/08cppguess.t ........................ ok
t/12custom_libs.t ..................... ok
t/15config_case.t ..................... ok
<-----------------------Information Section----------------------------------->

Information about the processing of your Inline CPP code:

Your source code needs to be compiled. I'll use this build directory:
/home/sand/.Inline/build/_16info_t_2ec053d

and I'll install the executable as:
/home/sand/.Inline/lib/auto/_16info_t_2ec053d/_16info_t_2ec053d.so

The following Inline CPP function(s) have been successfully bound to Perl:
	int add(int x, int y)
The following functions have been bound to Perl:
	int add(int x, int y);


<-----------------------End of Information Section---------------------------->
t/16info.t ............................ ok
t/classes/01empty_ns_is_main.t ........ ok
t/classes/02main_ns_is_main.t ......... ok
t/classes/03baz_ns_is_baz.t ........... ok
t/classes/04invoke_from_non_main.t .... ok
t/classes/05invalid_classes.t ......... ok
t/classes/06inherit.t ................. ok
t/classes/07conflict_avoid.t .......... skipped: Inline::Filters required for conflict avoidance testing.
t/classes/08auto.t .................... ok
t/classes/09auto_mixed.t .............. ok
t/classes/10auto_inherit.t ............ ok
t/grammar/01nherit.t .................. ok
t/grammar/02scope.t ................... ok
t/grammar/03inline.t .................. ok
t/grammar/04const.t ................... ok
t/grammar/05virt.t .................... ok
t/grammar/06deflt.t ................... ok
t/grammar/07static.t .................. ok
t/grammar/08anon.t .................... ok
t/grammar/09purevt.t .................. ok
t/grammar/10struct.t .................. ok
t/grammar/11minhrt.t .................. ok
t/grammar/12retlst.t .................. ok
t/grammar/13vararg.t .................. ok
t/grammar/14const.t ................... ok
t/grammar/15stvar.t ................... ok
t/grammar/16varlst.t .................. ok
t/grammar/17memberarray.t ............. ok
t/grammar/18namespace.t ............... ok
t/grammar/19multidimarray.t ........... ok
t/namespace/01empty_ns_is_main.t ...... ok
t/namespace/02main_ns_is_main.t ....... ok
t/namespace/03baz_ns_is_baz.t ......... ok
t/namespace/04invoke_from_non_main.t .. ok
t/namespace/05invalid_ns.t ............ ok
t/namespace/06inherit.t ............... ok
All tests successful.

Test Summary Report
-------------------
t/08cppguess.t                      (Wstat: 0 Tests: 2 Failed: 0)
  TODO passed:   2
t/grammar/11minhrt.t                (Wstat: 0 Tests: 38 Failed: 0)
  TODO passed:   23-24, 27-28, 30, 32
Files=45, Tests=265, 98 wallclock secs ( 0.11 usr  0.08 sys + 63.34 cusr 16.96 csys = 80.49 CPU)
Result: PASS

------------------------------
PREREQUISITES
------------------------------

Prerequisite modules loaded:

requires:

    Module              Need     Have    
    ------------------- -------- --------
    Carp                0        1.54    
    Config              0        5.041010
    Inline              0.82     0.86    
    Inline::C           0.80     0.82    
    Parse::RecDescent   0        1.967015
    perl                5.008001 5.041010

build_requires:

    Module              Need     Have    
    ------------------- -------- --------
    ExtUtils::MakeMaker 0        7.72    
    File::Temp          0        0.2311  
    FindBin             0        1.54    
    Test::More          1.001009 1.302209

configure_requires:

    Module              Need     Have    
    ------------------- -------- --------
    ExtUtils::CppGuess  0.15     0.27    
    ExtUtils::MakeMaker 7.04     7.72    


------------------------------
ENVIRONMENT AND OTHER CONTEXT
------------------------------

Environment variables:

    AUTOMATED_TESTING = 1
    LANG = en_US.UTF-8
    LC_ADDRESS = de_DE.UTF-8
    LC_IDENTIFICATION = de_DE.UTF-8
    LC_MEASUREMENT = de_DE.UTF-8
    LC_MONETARY = de_DE.UTF-8
    LC_NAME = de_DE.UTF-8
    LC_NUMERIC = de_DE.UTF-8
    LC_PAPER = de_DE.UTF-8
    LC_TELEPHONE = de_DE.UTF-8
    LC_TIME = de_DE.UTF-8
    PATH = /home/sand/bin:/usr/local/bin:/usr/local/sbin:/usr/sbin:/usr/bin:/sbin:/bin:/usr/games:/usr/local/games:/snap/bin:/usr/local/perl/bin:/usr/X11/bin
    PERL = /tmp/basesmoker-reloperl-9UT2/bin/perl
    PERL5LIB = /tmp/loop_over_bdir-3593637-VVSC4F/makepp-1.19-0/blib/arch:/tmp/loop_over_bdir-3593637-VVSC4F/makepp-1.19-0/blib/lib:/tmp/loop_over_bdir-3593637-VVSC4F/LiquidWeb-Storm-CLI-1.03-0/blib/arch:/tmp/loop_over_bdir-3593637-VVSC4F/LiquidWeb-Storm-CLI-1.03-0/blib/lib:/tmp/loop_over_bdir-3593637-VVSC4F/Captive-Portal-4.10-0/blib/arch:/tmp/loop_over_bdir-3593637-VVSC4F/Captive-Portal-4.10-0/blib/lib:/tmp/loop_over_bdir-3593637-VVSC4F/Net-OpenVPN-DDNS-0.1-0/blib/arch:/tmp/loop_over_bdir-3593637-VVSC4F/Net-OpenVPN-DDNS-0.1-0/blib/lib
    PERL5OPT = 
    PERL5_CPANPLUS_IS_RUNNING = 3593645
    PERL5_CPAN_IS_RUNNING = 3593645
    PERL_CANARY_STABILITY_NOPROMPT = 1
    PERL_MM_USE_DEFAULT = 1
    PERL_USE_UNSAFE_INC = 1
    SHELL = /usr/bin/zsh
    TERM = screen

Perl special variables (and OS-specific diagnostics, for MSWin32):

    $^X = /tmp/basesmoker-reloperl-9UT2/bin/perl
    $UID/$EUID = 1005 / 1005
    $GID = 1005 1005
    $EGID = 1005 1005

Perl module toolchain versions installed:

    Module              Have    
    ------------------- --------
    CPAN                2.38    
    CPAN::Meta          2.150010
    Cwd                 3.92    
    ExtUtils::CBuilder  0.280240
    ExtUtils::Command   7.72    
    ExtUtils::Install   2.22    
    ExtUtils::MakeMaker 7.72    
    ExtUtils::Manifest  1.75    
    ExtUtils::ParseXS   3.57    
    File::Spec          3.93    
    JSON                4.10    
    JSON::PP            4.16    
    Module::Build       0.4234  
    Module::Signature   0.89    
    Parse::CPAN::Meta   2.150010
    Test2               1.302209
    Test::Harness       3.50    
    Test::More          1.302209
    YAML                1.31    
    YAML::Syck          1.34    
    version             0.9933  


--

Summary of my perl5 (revision 5 version 41 subversion 10) configuration:
  Commit id: 6a1cf63fc3f0e8d25b8f3837f9ca46b3bbc65885
  Platform:
    osname=linux
    osvers=6.8.0-52-generic
    archname=x86_64-linux-ld
    uname='linux k93jammy 6.8.0-52-generic #53~22.04.1-ubuntu smp preempt_dynamic wed jan 15 19:18:46 utc 2 x86_64 x86_64 x86_64 gnulinux '
    config_args='-Dprefix=/home/sand/src/perl/repoperls/installed-perls/host/k93jammy/v5.41.10/5674 -Dmyhostname=k93jammy -Dinstallusrbinperl=n -Uversiononly -Dusedevel -des -Ui_db -Dlibswanted=cl pthread socket inet nsl gdbm dbm malloc dl ld sun m crypt sec util c cposix posix ucb BSD gdbm_compat -Uuseithreads -Duselongdouble -DEBUGGING=-g'
    hint=recommended
    useposix=true
    d_sigaction=define
    useithreads=undef
    usemultiplicity=undef
    use64bitint=define
    use64bitall=define
    uselongdouble=define
    usemymalloc=n
    default_inc_excludes_dot=define
  Compiler:
    cc='cc'
    ccflags ='-fwrapv -fno-strict-aliasing -pipe -fstack-protector-strong -I/usr/local/include -D_LARGEFILE_SOURCE -D_FILE_OFFSET_BITS=64'
    optimize='-O2 -g'
    cppflags='-fwrapv -fno-strict-aliasing -pipe -fstack-protector-strong -I/usr/local/include'
    ccversion=''
    gccversion='11.4.0'
    gccosandvers=''
    intsize=4
    longsize=8
    ptrsize=8
    doublesize=8
    byteorder=12345678
    doublekind=3
    d_longlong=define
    longlongsize=8
    d_longdbl=define
    longdblsize=16
    longdblkind=3
    ivtype='long'
    ivsize=8
    nvtype='long double'
    nvsize=16
    Off_t='off_t'
    lseeksize=8
    alignbytes=16
    prototype=define
  Linker and Libraries:
    ld='cc'
    ldflags =' -fstack-protector-strong -L/usr/local/lib'
    libpth=/usr/local/lib /usr/lib/x86_64-linux-gnu /usr/lib /usr/lib64
    libs=-lpthread -lnsl -ldl -lm -lcrypt -lutil -lc
    perllibs=-lpthread -lnsl -ldl -lm -lcrypt -lutil -lc
    libc=/lib/x86_64-linux-gnu/libc.so.6
    so=so
    useshrplib=false
    libperl=libperl.a
    gnulibc_version='2.35'
  Dynamic Linking:
    dlsrc=dl_dlopen.xs
    dlext=so
    d_dlsymun=undef
    ccdlflags='-Wl,-E'
    cccdlflags='-fPIC'
    lddlflags='-shared -O2 -g -L/usr/local/lib -fstack-protector-strong'


Characteristics of this binary (from libperl): 
  Compile-time options:
    HAS_LONG_DOUBLE
    HAS_STRTOLD
    HAS_TIMES
    PERLIO_LAYERS
    PERL_COPY_ON_WRITE
    PERL_DONT_CREATE_GVSV
    PERL_HASH_FUNC_SIPHASH13
    PERL_HASH_USE_SBOX32
    PERL_MALLOC_WRAP
    PERL_OP_PARENT
    PERL_PRESERVE_IVUV
    PERL_USE_DEVEL
    PERL_USE_SAFE_PUTENV
    USE_64_BIT_ALL
    USE_64_BIT_INT
    USE_LARGE_FILES
    USE_LOCALE
    USE_LOCALE_COLLATE
    USE_LOCALE_CTYPE
    USE_LOCALE_NUMERIC
    USE_LOCALE_TIME
    USE_LONG_DOUBLE
    USE_PERLIO
    USE_PERL_ATOF
  Built under linux
  Compiled at Mar 25 2025 14:46:27
  %ENV:
    PERL="/tmp/basesmoker-reloperl-9UT2/bin/perl"
    PERL5LIB="/tmp/loop_over_bdir-3593637-VVSC4F/makepp-1.19-0/blib/arch:/tmp/loop_over_bdir-3593637-VVSC4F/makepp-1.19-0/blib/lib:/tmp/loop_over_bdir-3593637-VVSC4F/LiquidWeb-Storm-CLI-1.03-0/blib/arch:/tmp/loop_over_bdir-3593637-VVSC4F/LiquidWeb-Storm-CLI-1.03-0/blib/lib:/tmp/loop_over_bdir-3593637-VVSC4F/Captive-Portal-4.10-0/blib/arch:/tmp/loop_over_bdir-3593637-VVSC4F/Captive-Portal-4.10-0/blib/lib:/tmp/loop_over_bdir-3593637-VVSC4F/Net-OpenVPN-DDNS-0.1-0/blib/arch:/tmp/loop_over_bdir-3593637-VVSC4F/Net-OpenVPN-DDNS-0.1-0/blib/lib"
    PERL5OPT=""
    PERL5_CPANPLUS_IS_RUNNING="3593645"
    PERL5_CPAN_IS_RUNNING="3593645"
    PERL_CANARY_STABILITY_NOPROMPT="1"
    PERL_MM_USE_DEFAULT="1"
    PERL_USE_UNSAFE_INC="1"
  @INC:
    /tmp/loop_over_bdir-3593637-VVSC4F/makepp-1.19-0/blib/arch
    /tmp/loop_over_bdir-3593637-VVSC4F/makepp-1.19-0/blib/lib
    /tmp/loop_over_bdir-3593637-VVSC4F/LiquidWeb-Storm-CLI-1.03-0/blib/arch
    /tmp/loop_over_bdir-3593637-VVSC4F/LiquidWeb-Storm-CLI-1.03-0/blib/lib
    /tmp/loop_over_bdir-3593637-VVSC4F/Captive-Portal-4.10-0/blib/arch
    /tmp/loop_over_bdir-3593637-VVSC4F/Captive-Portal-4.10-0/blib/lib
    /tmp/loop_over_bdir-3593637-VVSC4F/Net-OpenVPN-DDNS-0.1-0/blib/arch
    /tmp/loop_over_bdir-3593637-VVSC4F/Net-OpenVPN-DDNS-0.1-0/blib/lib
    /home/sand/src/perl/repoperls/installed-perls/host/k93jammy/v5.41.10/5674/lib/site_perl/5.41.10/x86_64-linux-ld
    /home/sand/src/perl/repoperls/installed-perls/host/k93jammy/v5.41.10/5674/lib/site_perl/5.41.10
    /home/sand/src/perl/repoperls/installed-perls/host/k93jammy/v5.41.10/5674/lib/5.41.10/x86_64-linux-ld
    /home/sand/src/perl/repoperls/installed-perls/host/k93jammy/v5.41.10/5674/lib/5.41.10
    .