Math-PlanePath v129 Perl 5 v5.35.5 x86_64-linux-thread-multi-ld
- Status
- Pass
- From
- Andreas J. König (ANDK)
- Dist
-
Math-PlanePath v129
- Platform
- Perl 5 v5.35.5 x86_64-linux-thread-multi-ld
- Date
- 2021-09-28 23:42:13
- ID
- b4de3b54-20b5-11ec-ab69-0e6acf86183a
This distribution has been tested as part of the CPAN Testers
project, supporting the Perl programming language. See
http://wiki.cpantesters.org/ for more information or email
questions to cpan-testers-discuss@perl.org
--
Dear Kevin Ryde,
This is a computer-generated report for Math-PlanePath-129
on perl 5.35.5, created by CPAN-Reporter-1.2018.
Thank you for uploading your work to CPAN. Congratulations!
All tests were successful.
Sections of this report:
* Tester comments
* Program output
* Prerequisites
* Environment and other context
------------------------------
TESTER COMMENTS
------------------------------
Additional comments from tester:
this report is from an automated smoke testing program
and was not reviewed by a human for accuracy
------------------------------
PROGRAM OUTPUT
------------------------------
Output from '/usr/bin/make test':
PERL_DL_NONLAZY=1 "/tmp/basesmoker-reloperl-4R_J/bin/perl" "-MExtUtils::Command::MM" "-MTest::Harness" "-e" "undef *Test::Harness::Switches; test_harness(0, 'blib/lib', 'blib/arch')" t/*.t
t/AlternatePaper.t .............. ok
t/AlternatePaperMidpoint.t ...... ok
t/AlternateTerdragon.t .......... ok
t/AnvilSpiral.t ................. ok
t/ArchimedeanChords.t ........... ok
t/AztecDiamondRings.t ........... ok
# modulo operator dodginess ((~0)%2) != ((~0)&1): no (good)
# round_down_pow(3) tests stop for round-off at i=41
# round_up_pow(3) tests stop for round-off at i=40
t/Base-Digits.t ................. ok
# nan is NaN
t/Base-Generic.t ................ ok
t/BetaOmeta.t ................... ok
# Math::BigFloat version 1.999824
# Math::BigInt version 1.999824
# +inf is inf
# -inf is -inf
# nan is NaN
t/bigfloat.t .................... ok
# skip due to Math::BigInt::Lite not available -- Can't locate Math/BigInt/Lite.pm in @INC (you may need to install the Math::BigInt::Lite module) (@INC contains: t /tmp/loop_over_bdir-2022375-6v96Ea/Math-PlanePath-129-0/blib/lib /tmp/loop_over_bdir-2022375-6v96Ea/Math-PlanePath-129-0/blib/arch /home/sand/src/perl/repoperls/installed-perls/host/k93msid/v5.35.4-47-g40385047d9/8854/lib/site_perl/5.35.5/x86_64-linux-thread-multi-ld /home/sand/src/perl/repoperls/installed-perls/host/k93msid/v5.35.4-47-g40385047d9/8854/lib/site_perl/5.35.5 /home/sand/src/perl/repoperls/installed-perls/host/k93msid/v5.35.4-47-g40385047d9/8854/lib/5.35.5/x86_64-linux-thread-multi-ld /home/sand/src/perl/repoperls/installed-perls/host/k93msid/v5.35.4-47-g40385047d9/8854/lib/5.35.5 .) at t/bigint-lite.t line 31.
#
t/bigint-lite.t ................. ok
# Math::BigInt version 1.999824
# Math::BigInt version 1.999824
t/bigint.t ...................... ok
t/CCurve.t ...................... ok
# bitwise check rule=2
# bitwise check rule=4
# bitwise check rule=6
# bitwise check rule=10
# bitwise check rule=12
# bitwise check rule=14
# bitwise check rule=16
# bitwise check rule=18
# bitwise check rule=20
# bitwise check rule=24
# bitwise check rule=26
# bitwise check rule=34
# bitwise check rule=36
# bitwise check rule=38
# bitwise check rule=42
# bitwise check rule=44
# bitwise check rule=46
# bitwise check rule=48
# bitwise check rule=50
# bitwise check rule=52
# bitwise check rule=54
# bitwise check rule=56
# bitwise check rule=57
# bitwise check rule=58
# bitwise check rule=60
# bitwise check rule=66
# bitwise check rule=68
# bitwise check rule=74
# bitwise check rule=76
# bitwise check rule=80
# bitwise check rule=82
# bitwise check rule=84
# bitwise check rule=88
# bitwise check rule=90
# bitwise check rule=98
# bitwise check rule=99
# bitwise check rule=100
# bitwise check rule=102
# bitwise check rule=106
# bitwise check rule=108
# bitwise check rule=112
# bitwise check rule=114
# bitwise check rule=116
# bitwise check rule=120
# bitwise check rule=122
# bitwise check rule=130
# bitwise check rule=132
# bitwise check rule=134
# bitwise check rule=138
# bitwise check rule=140
# bitwise check rule=142
# bitwise check rule=144
# bitwise check rule=146
# bitwise check rule=148
# bitwise check rule=151
# bitwise check rule=152
# bitwise check rule=154
# bitwise check rule=159
# bitwise check rule=162
# bitwise check rule=164
# bitwise check rule=166
# bitwise check rule=170
# bitwise check rule=172
# bitwise check rule=174
# bitwise check rule=176
# bitwise check rule=178
# bitwise check rule=179
# bitwise check rule=180
# bitwise check rule=183
# bitwise check rule=184
# bitwise check rule=186
# bitwise check rule=190
# bitwise check rule=191
# bitwise check rule=194
# bitwise check rule=196
# bitwise check rule=202
# bitwise check rule=204
# bitwise check rule=206
# bitwise check rule=208
# bitwise check rule=210
# bitwise check rule=212
# bitwise check rule=215
# bitwise check rule=216
# bitwise check rule=218
# bitwise check rule=220
# bitwise check rule=222
# bitwise check rule=223
# bitwise check rule=226
# bitwise check rule=228
# bitwise check rule=234
# bitwise check rule=236
# bitwise check rule=238
# bitwise check rule=240
# bitwise check rule=242
# bitwise check rule=244
# bitwise check rule=246
# bitwise check rule=247
# bitwise check rule=248
# bitwise check rule=250
# bitwise check rule=252
# bitwise check rule=254
# bitwise check rule=255
# bitwise checks 102
t/CellularRule.t ................ ok
t/CellularRule190.t ............. ok
t/CfracDigits.t ................. ok
t/ChanTree.t .................... ok
t/CincoCurve.t .................. ok
t/Columns-load.t ................ ok
t/Columns.t ..................... ok
t/ComplexMinus.t ................ ok
t/ComplexPlus.t ................. ok
t/CoprimeColumns.t .............. ok
t/Corner.t ...................... ok
t/CornerAlternating.t ........... ok
t/CornerReplicate.t ............. ok
t/CubicBase.t ................... ok
t/DekkingCurve.t ................ ok
t/DiagonalRationals.t ........... ok
t/Diagonals.t ................... ok
t/DiamondArms.t ................. ok
t/DiamondSpiral.t ............... ok
t/DigitGroups.t ................. ok
t/DivisibleColumns.t ............ ok
t/DragonCurve.t ................. ok
t/DragonMidpoint.t .............. ok
t/DragonRounded.t ............... ok
t/FactorRationals.t ............. ok
t/FibonacciWordFractal.t ........ ok
t/File.t ........................ ok
t/FilledRings.t ................. ok
t/Flowsnake.t ................... ok
t/FlowsnakeCentres.t ............ ok
t/GcdRationals.t ................ ok
t/GosperIslands.t ............... ok
t/GosperReplicate.t ............. ok
t/GosperSide.t .................. ok
t/GrayCode.t .................... ok
t/GreekKeySpiral.t .............. ok
t/HexArms.t ..................... ok
t/HexSpiral-load.t .............. ok
t/HexSpiral.t ................... ok
t/HexSpiralSkewed-unskew.t ...... ok
t/HexSpiralSkewed.t ............. ok
t/HilbertCurve-load.t ........... ok
t/HilbertCurve.t ................ ok
t/HilbertSpiral.t ............... ok
t/HIndexing.t ................... ok
t/Hypot.t ....................... ok
t/HypotOctant.t ................. ok
t/ImaginaryBase.t ............... ok
t/ImaginaryHalf.t ............... ok
t/KnightSpiral.t ................ ok
t/KochCurve.t ................... ok
t/KochelCurve.t ................. ok
t/KochPeaks.t ................... ok
t/KochSnowflakes.t .............. ok
t/KochSquareflakes.t ............ ok
t/LTiling.t ..................... ok
t/MultipleRings.t ............... ok
# skip due to Number::Fraction 1.14 not available -- Can't locate Number/Fraction.pm in @INC (you may need to install the Number::Fraction module) (@INC contains: t /tmp/loop_over_bdir-2022375-6v96Ea/Math-PlanePath-129-0/blib/lib /tmp/loop_over_bdir-2022375-6v96Ea/Math-PlanePath-129-0/blib/arch /home/sand/src/perl/repoperls/installed-perls/host/k93msid/v5.35.4-47-g40385047d9/8854/lib/site_perl/5.35.5/x86_64-linux-thread-multi-ld /home/sand/src/perl/repoperls/installed-perls/host/k93msid/v5.35.4-47-g40385047d9/8854/lib/site_perl/5.35.5 /home/sand/src/perl/repoperls/installed-perls/host/k93msid/v5.35.4-47-g40385047d9/8854/lib/5.35.5/x86_64-linux-thread-multi-ld /home/sand/src/perl/repoperls/installed-perls/host/k93msid/v5.35.4-47-g40385047d9/8854/lib/5.35.5 .) at (eval 5) line 1.
# BEGIN failed--compilation aborted at (eval 5) line 1.
#
t/number-fraction.t ............. ok
# skip due to Math::NumSeq not available -- Can't locate Math/NumSeq.pm in @INC (you may need to install the Math::NumSeq module) (@INC contains: t /tmp/loop_over_bdir-2022375-6v96Ea/Math-PlanePath-129-0/blib/lib /tmp/loop_over_bdir-2022375-6v96Ea/Math-PlanePath-129-0/blib/arch /home/sand/src/perl/repoperls/installed-perls/host/k93msid/v5.35.4-47-g40385047d9/8854/lib/site_perl/5.35.5/x86_64-linux-thread-multi-ld /home/sand/src/perl/repoperls/installed-perls/host/k93msid/v5.35.4-47-g40385047d9/8854/lib/site_perl/5.35.5 /home/sand/src/perl/repoperls/installed-perls/host/k93msid/v5.35.4-47-g40385047d9/8854/lib/5.35.5/x86_64-linux-thread-multi-ld /home/sand/src/perl/repoperls/installed-perls/host/k93msid/v5.35.4-47-g40385047d9/8854/lib/5.35.5 .) at t/NumSeq-PlanePathCoord.t line 31.
#
t/NumSeq-PlanePathCoord.t ....... ok
# skip due to Math::NumSeq not available -- Can't locate Math/NumSeq.pm in @INC (you may need to install the Math::NumSeq module) (@INC contains: t /tmp/loop_over_bdir-2022375-6v96Ea/Math-PlanePath-129-0/blib/lib /tmp/loop_over_bdir-2022375-6v96Ea/Math-PlanePath-129-0/blib/arch /home/sand/src/perl/repoperls/installed-perls/host/k93msid/v5.35.4-47-g40385047d9/8854/lib/site_perl/5.35.5/x86_64-linux-thread-multi-ld /home/sand/src/perl/repoperls/installed-perls/host/k93msid/v5.35.4-47-g40385047d9/8854/lib/site_perl/5.35.5 /home/sand/src/perl/repoperls/installed-perls/host/k93msid/v5.35.4-47-g40385047d9/8854/lib/5.35.5/x86_64-linux-thread-multi-ld /home/sand/src/perl/repoperls/installed-perls/host/k93msid/v5.35.4-47-g40385047d9/8854/lib/5.35.5 .) at t/NumSeq-PlanePathDelta.t line 35.
#
t/NumSeq-PlanePathDelta.t ....... ok
# skip due to Math::NumSeq not available -- Can't locate Math/NumSeq.pm in @INC (you may need to install the Math::NumSeq module) (@INC contains: t /tmp/loop_over_bdir-2022375-6v96Ea/Math-PlanePath-129-0/blib/lib /tmp/loop_over_bdir-2022375-6v96Ea/Math-PlanePath-129-0/blib/arch /home/sand/src/perl/repoperls/installed-perls/host/k93msid/v5.35.4-47-g40385047d9/8854/lib/site_perl/5.35.5/x86_64-linux-thread-multi-ld /home/sand/src/perl/repoperls/installed-perls/host/k93msid/v5.35.4-47-g40385047d9/8854/lib/site_perl/5.35.5 /home/sand/src/perl/repoperls/installed-perls/host/k93msid/v5.35.4-47-g40385047d9/8854/lib/5.35.5/x86_64-linux-thread-multi-ld /home/sand/src/perl/repoperls/installed-perls/host/k93msid/v5.35.4-47-g40385047d9/8854/lib/5.35.5 .) at t/NumSeq-PlanePathN.t line 31.
#
t/NumSeq-PlanePathN.t ........... ok
# skip due to Math::NumSeq not available -- Can't locate Math/NumSeq.pm in @INC (you may need to install the Math::NumSeq module) (@INC contains: t /tmp/loop_over_bdir-2022375-6v96Ea/Math-PlanePath-129-0/blib/lib /tmp/loop_over_bdir-2022375-6v96Ea/Math-PlanePath-129-0/blib/arch /home/sand/src/perl/repoperls/installed-perls/host/k93msid/v5.35.4-47-g40385047d9/8854/lib/site_perl/5.35.5/x86_64-linux-thread-multi-ld /home/sand/src/perl/repoperls/installed-perls/host/k93msid/v5.35.4-47-g40385047d9/8854/lib/site_perl/5.35.5 /home/sand/src/perl/repoperls/installed-perls/host/k93msid/v5.35.4-47-g40385047d9/8854/lib/5.35.5/x86_64-linux-thread-multi-ld /home/sand/src/perl/repoperls/installed-perls/host/k93msid/v5.35.4-47-g40385047d9/8854/lib/5.35.5 .) at t/NumSeq-PlanePathTurn.t line 35.
#
t/NumSeq-PlanePathTurn.t ........ ok
t/PeanoCurve-load.t ............. ok
t/PeanoCurve.t .................. ok
t/PeanoDiagonals.t .............. ok
t/PixelRings.t .................. ok
t/PlanePath.t ................... ok
t/PyramidRows.t ................. ok
# have_53bits: 1
t/PythagoreanTree.t ............. ok
t/QuadricCurve.t ................ ok
t/QuadricIslands.t .............. ok
t/QuintetCentres.t .............. ok
t/QuintetCurve.t ................ ok
t/QuintetReplicate.t ............ ok
t/RationalsTree.t ............... ok
t/Rows-load.t ................... ok
t/Rows.t ........................ ok
t/SacksSpiral.t ................. ok
t/SierpinskiArrowhead.t ......... ok
t/SierpinskiArrowheadCentres.t .. ok
t/SierpinskiCurve.t ............. ok
t/SierpinskiCurveStair.t ........ ok
t/SierpinskiTriangle.t .......... ok
t/SquareReplicate.t ............. ok
t/SquareSpiral.t ................ ok
t/Staircase.t ................... ok
t/StaircaseAlternating.t ........ ok
t/TerdragonCurve.t .............. ok
t/TerdragonMidpoint.t ........... ok
t/TheodorusSpiral.t ............. ok
t/TriangularHypot.t ............. ok
t/TrianguleSpiral.t ............. ok
t/UlamWarburton.t ............... ok
t/UlamWarburtonQuarter.t ........ ok
t/VogelFloret.t ................. ok
t/WythoffArray.t ................ ok
t/ZOrderCurve.t ................. ok
All tests successful.
Files=110, Tests=38499, 10 wallclock secs ( 1.18 usr 0.31 sys + 8.47 cusr 0.72 csys = 10.68 CPU)
Result: PASS
------------------------------
PREREQUISITES
------------------------------
Prerequisite modules loaded:
requires:
Module Need Have
------------------- ----- --------
constant 1.02 1.33
constant::defer 5 6
List::Util 0 1.59
Math::Libm 0 1.00
perl 5.004 5.035005
build_requires:
Module Need Have
------------------- ----- --------
ExtUtils::MakeMaker 0 7.62
Test 0 1.31
configure_requires:
Module Need Have
------------------- ----- --------
ExtUtils::MakeMaker 0 7.62
------------------------------
ENVIRONMENT AND OTHER CONTEXT
------------------------------
Environment variables:
AUTOMATED_TESTING = 1
LANG = en_US.UTF-8
PATH = /home/sand/bin:/usr/local/bin:/usr/bin:/bin:/usr/games:/usr/local/perl/bin:/usr/X11/bin:/sbin:/usr/sbin
PERL5LIB =
PERL5OPT =
PERL5_CPANPLUS_IS_RUNNING = 2866757
PERL5_CPAN_IS_RUNNING = 2866757
PERL_CANARY_STABILITY_NOPROMPT = 1
PERL_MM_USE_DEFAULT = 1
PERL_USE_UNSAFE_INC = 1
SHELL = /usr/bin/zsh
TERM = screen
Perl special variables (and OS-specific diagnostics, for MSWin32):
$^X = /tmp/basesmoker-reloperl-4R_J/bin/perl
$UID/$EUID = 1005 / 1005
$GID = 1005 1005
$EGID = 1005 1005
Perl module toolchain versions installed:
Module Have
------------------- --------
CPAN 2.28
CPAN::Meta 2.150010
Cwd 3.82
ExtUtils::CBuilder 0.280236
ExtUtils::Command 7.62
ExtUtils::Install 2.20
ExtUtils::MakeMaker 7.62
ExtUtils::Manifest 1.73
ExtUtils::ParseXS 3.44
File::Spec 3.81
JSON 4.03
JSON::PP 4.06
Module::Build 0.4231
Module::Signature 0.87
Parse::CPAN::Meta 2.150010
Test::Harness 3.43
Test::More 1.302187
YAML 1.30
YAML::Syck 1.34
version 0.9929
--
Summary of my perl5 (revision 5 version 35 subversion 5) configuration:
Commit id: 40385047d97eb13626cd69471b811bd8e751f665
Platform:
osname=linux
osvers=5.3.0-2-amd64
archname=x86_64-linux-thread-multi-ld
uname='linux k93msid 5.3.0-2-amd64 #1 smp debian 5.3.9-3 (2019-11-19) x86_64 gnulinux '
config_args='-Dprefix=/home/sand/src/perl/repoperls/installed-perls/host/k93msid/v5.35.4-47-g40385047d9/8854 -Dmyhostname=k93msid -Dinstallusrbinperl=n -Uversiononly -Dusedevel -des -Ui_db -Dlibswanted=cl pthread socket inet nsl gdbm dbm malloc dl ld sun m crypt sec util c cposix posix ucb BSD gdbm_compat -Duseithreads -Duselongdouble -DEBUGGING=-g'
hint=recommended
useposix=true
d_sigaction=define
useithreads=define
usemultiplicity=define
use64bitint=define
use64bitall=define
uselongdouble=define
usemymalloc=n
default_inc_excludes_dot=define
Compiler:
cc='cc'
ccflags ='-D_REENTRANT -D_GNU_SOURCE -fwrapv -fno-strict-aliasing -pipe -fstack-protector-strong -I/usr/local/include -D_LARGEFILE_SOURCE -D_FILE_OFFSET_BITS=64 -D_FORTIFY_SOURCE=2'
optimize='-O2 -g'
cppflags='-D_REENTRANT -D_GNU_SOURCE -fwrapv -fno-strict-aliasing -pipe -fstack-protector-strong -I/usr/local/include'
ccversion=''
gccversion='9.2.1 20191109'
gccosandvers=''
intsize=4
longsize=8
ptrsize=8
doublesize=8
byteorder=12345678
doublekind=3
d_longlong=define
longlongsize=8
d_longdbl=define
longdblsize=16
longdblkind=3
ivtype='long'
ivsize=8
nvtype='long double'
nvsize=16
Off_t='off_t'
lseeksize=8
alignbytes=16
prototype=define
Linker and Libraries:
ld='cc'
ldflags =' -fstack-protector-strong -L/usr/local/lib'
libpth=/usr/local/lib /usr/lib/x86_64-linux-gnu /usr/lib /lib/x86_64-linux-gnu /lib
libs=-lpthread -lnsl -ldl -lm -lcrypt -lutil -lc
perllibs=-lpthread -lnsl -ldl -lm -lcrypt -lutil -lc
libc=libc-2.29.so
so=so
useshrplib=false
libperl=libperl.a
gnulibc_version='2.29'
Dynamic Linking:
dlsrc=dl_dlopen.xs
dlext=so
d_dlsymun=undef
ccdlflags='-Wl,-E'
cccdlflags='-fPIC'
lddlflags='-shared -O2 -g -L/usr/local/lib -fstack-protector-strong'
Characteristics of this binary (from libperl):
Compile-time options:
HAS_TIMES
MULTIPLICITY
PERLIO_LAYERS
PERL_COPY_ON_WRITE
PERL_DONT_CREATE_GVSV
PERL_MALLOC_WRAP
PERL_OP_PARENT
PERL_PRESERVE_IVUV
PERL_USE_DEVEL
USE_64_BIT_ALL
USE_64_BIT_INT
USE_ITHREADS
USE_LARGE_FILES
USE_LOCALE
USE_LOCALE_COLLATE
USE_LOCALE_CTYPE
USE_LOCALE_NUMERIC
USE_LOCALE_TIME
USE_LONG_DOUBLE
USE_PERLIO
USE_PERL_ATOF
USE_REENTRANT_API
USE_THREAD_SAFE_LOCALE
Built under linux
Compiled at Sep 28 2021 07:04:49
%ENV:
PERL5LIB=""
PERL5OPT=""
PERL5_CPANPLUS_IS_RUNNING="2866757"
PERL5_CPAN_IS_RUNNING="2866757"
PERL_CANARY_STABILITY_NOPROMPT="1"
PERL_MM_USE_DEFAULT="1"
PERL_USE_UNSAFE_INC="1"
@INC:
/home/sand/src/perl/repoperls/installed-perls/host/k93msid/v5.35.4-47-g40385047d9/8854/lib/site_perl/5.35.5/x86_64-linux-thread-multi-ld
/home/sand/src/perl/repoperls/installed-perls/host/k93msid/v5.35.4-47-g40385047d9/8854/lib/site_perl/5.35.5
/home/sand/src/perl/repoperls/installed-perls/host/k93msid/v5.35.4-47-g40385047d9/8854/lib/5.35.5/x86_64-linux-thread-multi-ld
/home/sand/src/perl/repoperls/installed-perls/host/k93msid/v5.35.4-47-g40385047d9/8854/lib/5.35.5
.