Back
From: metabase:user:30f4dfbe-2aae-11df-837a-5e0a49663a4f
Subject: PASS Sort-DataTypes-3.01 v5.10.1 GNU/Linux
Date: 2015-11-20T02:45:06Z
This distribution has been tested as part of the CPAN Testers
project, supporting the Perl programming language. See
http://wiki.cpantesters.org/ for more information or email
questions to cpan-testers-discuss@perl.org
--
Dear Sullivan Beck,
This is a computer-generated report for Sort-DataTypes-3.01
on perl 5.10.1, created by CPAN-Reporter-1.2011.
Thank you for uploading your work to CPAN. Congratulations!
All tests were successful.
Sections of this report:
* Tester comments
* Program output
* Prerequisites
* Environment and other context
------------------------------
TESTER COMMENTS
------------------------------
Additional comments from tester:
this report is from an automated smoke testing program
and was not reviewed by a human for accuracy
------------------------------
PROGRAM OUTPUT
------------------------------
Output from './Build test':
t/alphabetic.t ......... ok
t/alphanum.t ........... ok
t/date.t ............... ok
t/domain.t ............. ok
t/function_byname.t .... ok
t/function_byref.t ..... ok
t/ip.t ................. ok
t/length.t ............. ok
t/line.t ............... ok
t/nosort.t ............. ok
t/numdomain.t .......... ok
t/numerical.t .......... ok
t/numerical_cmp.t ...... ok
t/numerical_cmp_rev.t .. ok
t/numerical_rev.t ...... ok
t/numline.t ............ ok
t/numpath.t ............ ok
t/partial.t ............ ok
t/path.t ............... ok
t/pod.t ................ ok
t/pod_coverage.t ....... ok
t/sort.t ............... ok
t/split.t .............. ok
t/split_re.t ........... ok
t/valid_method.t ....... ok
t/version.t ............ ok
All tests successful.
Files=26, Tests=88, 15 wallclock secs ( 0.49 usr 0.12 sys + 12.78 cusr 1.03 csys = 14.42 CPU)
Result: PASS
------------------------------
PREREQUISITES
------------------------------
Prerequisite modules loaded:
requires:
Module Need Have
------------- ----- --------
Date::Manip 0 6.43
Exporter 0 5.70
perl 5.000 5.010001
Storable 0 2.45
build_requires:
Module Need Have
------------- ----- --------
Test::Inter 0 1.05
configure_requires:
Module Need Have
------------- ----- --------
Module::Build 0.36 0.4205
------------------------------
ENVIRONMENT AND OTHER CONTEXT
------------------------------
Environment variables:
AUTOMATED_TESTING = 1
LANG = en_GB.UTF-8
LD_LIBRARY_PATH = /usr/local/lib:
PATH = /home/njh/perl5/perlbrew/bin:/home/njh/perl5/perlbrew/perls/perl-5.10.1/bin:/home/njh/perl5/perlbrew/bin:/home/njh/bin:/usr/local/sbin:/usr/local/bin:/usr/sbin:/usr/bin:/sbin:/bin:/usr/local/games:/usr/games
PERL5LIB = /home/njh/.cpan/build/Set-Tiny-0.03-gCygYN/blib/arch:/home/njh/.cpan/build/Set-Tiny-0.03-gCygYN/blib/lib:/home/njh/.cpan/build/Array-Set-0.02-y_fTze/blib/arch:/home/njh/.cpan/build/Array-Set-0.02-y_fTze/blib/lib:/home/njh/.cpan/build/Array-Utils-0.5-uOcLES/blib/arch:/home/njh/.cpan/build/Array-Utils-0.5-uOcLES/blib/lib:/home/njh/.cpan/build/Set-Array-0.30-bMxUUe/blib/arch:/home/njh/.cpan/build/Set-Array-0.30-bMxUUe/blib/lib:/home/njh/.cpan/build/Want-0.26-Iq7qUI/blib/arch:/home/njh/.cpan/build/Want-0.26-Iq7qUI/blib/lib
PERL5OPT =
PERL5_CPANPLUS_IS_RUNNING = 15753
PERL5_CPAN_IS_RUNNING = 15753
PERL5_MINISMOKEBOX = 0.58
PERLBREW_BASHRC_VERSION = 0.73
PERLBREW_HOME = /home/njh/.perlbrew
PERLBREW_LIB =
PERLBREW_MANPATH = /home/njh/perl5/perlbrew/perls/perl-5.10.1/man
PERLBREW_PATH = /home/njh/perl5/perlbrew/bin:/home/njh/perl5/perlbrew/perls/perl-5.10.1/bin
PERLBREW_PERL = perl-5.10.1
PERLBREW_ROOT = /home/njh/perl5/perlbrew
PERLBREW_VERSION = 0.73
PERL_EXTUTILS_AUTOINSTALL = --defaultdeps
PERL_LOCAL_LIB_ROOT =
PERL_MM_USE_DEFAULT = 1
SHELL = /bin/bash
TMPDIR = /home/njh/tmp
Perl special variables (and OS-specific diagnostics, for MSWin32):
$^X = /home/njh/perl5/perlbrew/perls/perl-5.10.1/bin/perl
$UID/$EUID = 1000 / 1000
$GID = 1000 4 24 25 29 30 44 46 200 1000
$EGID = 1000 4 24 25 29 30 44 46 200 1000
Perl module toolchain versions installed:
Module Have
------------------- --------
CPAN 2.10
CPAN::Meta 2.141520
Cwd 3.47
ExtUtils::CBuilder 0.280216
ExtUtils::Command 1.18
ExtUtils::Install 1.67
ExtUtils::MakeMaker 7.02
ExtUtils::Manifest 1.65
ExtUtils::ParseXS 3.24
File::Spec 3.47
JSON 2.90
JSON::PP 2.27203
Module::Build 0.4205
Module::Signature 0.73
Parse::CPAN::Meta 1.4414
Test::Harness 3.35
Test::More 1.001003
YAML 1.15
YAML::Syck 1.29
version 0.9908
--
Summary of my perl5 (revision 5 version 10 subversion 1) configuration:
Platform:
osname=linux, osvers=3.2.27+, archname=armv6l-linux-thread-multi
uname='linux pi 3.2.27+ #250 preempt thu oct 18 19:03:02 bst 2012 armv6l gnulinux '
config_args='-de -Dprefix=/home/njh/perl5/perlbrew/perls/perl-5.10.1 -Duseithreads -Dusemultiplicity -Accflags=-Os -W -Wformat=2 -Wswitch -Wshadow -Wwrite-strings -Wuninitialized -Wall -pipe -fomit-frame-pointer -pedantic -D_FORTIFY_SOURCE=2 -Wpointer-arith -Wstrict-prototypes -fstack-protector -Wstack-protector -Wextra -Wbad-function-cast -Wcast-align -Wcast-qual -Wdisabled-optimization -Wendif-labels -Wfloat-equal -Wformat-nonliteral -Winline -Wmissing-declarations -Wmissing-prototypes -Wnested-externs -Wpointer-arith -Wundef -Wformat-security -Aeval:scriptdir=/home/njh/perl5/perlbrew/perls/perl-5.10.1/bin'
hint=recommended, useposix=true, d_sigaction=define
useithreads=define, usemultiplicity=define
useperlio=define, d_sfio=undef, uselargefiles=define, usesocks=undef
use64bitint=undef, use64bitall=undef, uselongdouble=undef
usemymalloc=n, bincompat5005=undef
Compiler:
cc='cc', ccflags ='-D_REENTRANT -D_GNU_SOURCE -Os -W -Wformat=2 -Wswitch -Wshadow -Wwrite-strings -Wuninitialized -Wall -pipe -fomit-frame-pointer -pedantic -D_FORTIFY_SOURCE=2 -Wpointer-arith -Wstrict-prototypes -fstack-protector -Wstack-protector -Wextra -Wbad-function-cast -Wcast-align -Wcast-qual -Wdisabled-optimization -Wendif-labels -Wfloat-equal -Wformat-nonliteral -Winline -Wmissing-declarations -Wmissing-prototypes -Wnested-externs -Wpointer-arith -Wundef -Wformat-security -fno-strict-aliasing -I/usr/local/include -D_LARGEFILE_SOURCE -D_FILE_OFFSET_BITS=64',
optimize='-O2',
cppflags='-D_REENTRANT -D_GNU_SOURCE -Os -W -Wformat=2 -Wswitch -Wshadow -Wwrite-strings -Wuninitialized -Wall -pipe -fomit-frame-pointer -pedantic -D_FORTIFY_SOURCE=2 -Wpointer-arith -Wstrict-prototypes -fstack-protector -Wstack-protector -Wextra -Wbad-function-cast -Wcast-align -Wcast-qual -Wdisabled-optimization -Wendif-labels -Wfloat-equal -Wformat-nonliteral -Winline -Wmissing-declarations -Wmissing-prototypes -Wnested-externs -Wpointer-arith -Wundef -Wformat-security -fno-strict-aliasing -I/usr/local/include'
ccversion='', gccversion='4.6.3', gccosandvers=''
intsize=4, longsize=4, ptrsize=4, doublesize=8, byteorder=1234
d_longlong=define, longlongsize=8, d_longdbl=define, longdblsize=8
ivtype='long', ivsize=4, nvtype='double', nvsize=8, Off_t='off_t', lseeksize=8
alignbytes=8, prototype=define
Linker and Libraries:
ld='cc', ldflags =' -fstack-protector -L/usr/local/lib'
libpth=/usr/local/lib /lib/arm-linux-gnueabihf /lib /usr/lib/arm-linux-gnueabihf /usr/lib
libs=-lnsl -lgdbm -ldb -ldl -lm -lcrypt -lutil -lpthread -lc -lgdbm_compat
perllibs=-lnsl -ldl -lm -lcrypt -lutil -lpthread -lc
libc=, so=so, useshrplib=false, libperl=libperl.a
gnulibc_version='2.13'
Dynamic Linking:
dlsrc=dl_dlopen.xs, dlext=so, d_dlsymun=undef, ccdlflags='-Wl,-E'
cccdlflags='-fPIC', lddlflags='-shared -O2 -L/usr/local/lib -fstack-protector'
Characteristics of this binary (from libperl):
Compile-time options: MULTIPLICITY PERL_DONT_CREATE_GVSV
PERL_IMPLICIT_CONTEXT PERL_MALLOC_WRAP USE_ITHREADS
USE_LARGE_FILES USE_PERLIO USE_REENTRANT_API
Built under linux
Compiled at Jan 16 2013 08:18:17
%ENV:
PERL5LIB="/home/njh/.cpan/build/Set-Tiny-0.03-gCygYN/blib/arch:/home/njh/.cpan/build/Set-Tiny-0.03-gCygYN/blib/lib:/home/njh/.cpan/build/Array-Set-0.02-y_fTze/blib/arch:/home/njh/.cpan/build/Array-Set-0.02-y_fTze/blib/lib:/home/njh/.cpan/build/Array-Utils-0.5-uOcLES/blib/arch:/home/njh/.cpan/build/Array-Utils-0.5-uOcLES/blib/lib:/home/njh/.cpan/build/Set-Array-0.30-bMxUUe/blib/arch:/home/njh/.cpan/build/Set-Array-0.30-bMxUUe/blib/lib:/home/njh/.cpan/build/Want-0.26-Iq7qUI/blib/arch:/home/njh/.cpan/build/Want-0.26-Iq7qUI/blib/lib"
PERL5OPT=""
PERL5_CPANPLUS_IS_RUNNING="15753"
PERL5_CPAN_IS_RUNNING="15753"
PERL5_MINISMOKEBOX="0.58"
PERLBREW_BASHRC_VERSION="0.73"
PERLBREW_HOME="/home/njh/.perlbrew"
PERLBREW_LIB=""
PERLBREW_MANPATH="/home/njh/perl5/perlbrew/perls/perl-5.10.1/man"
PERLBREW_PATH="/home/njh/perl5/perlbrew/bin:/home/njh/perl5/perlbrew/perls/perl-5.10.1/bin"
PERLBREW_PERL="perl-5.10.1"
PERLBREW_ROOT="/home/njh/perl5/perlbrew"
PERLBREW_VERSION="0.73"
PERL_EXTUTILS_AUTOINSTALL="--defaultdeps"
PERL_LOCAL_LIB_ROOT=""
PERL_MM_USE_DEFAULT="1"
@INC:
/home/njh/.cpan/build/Set-Tiny-0.03-gCygYN/blib/arch
/home/njh/.cpan/build/Set-Tiny-0.03-gCygYN/blib/lib
/home/njh/.cpan/build/Array-Set-0.02-y_fTze/blib/arch
/home/njh/.cpan/build/Array-Set-0.02-y_fTze/blib/lib
/home/njh/.cpan/build/Array-Utils-0.5-uOcLES/blib/arch
/home/njh/.cpan/build/Array-Utils-0.5-uOcLES/blib/lib
/home/njh/.cpan/build/Set-Array-0.30-bMxUUe/blib/arch
/home/njh/.cpan/build/Set-Array-0.30-bMxUUe/blib/lib
/home/njh/.cpan/build/Want-0.26-Iq7qUI/blib/arch
/home/njh/.cpan/build/Want-0.26-Iq7qUI/blib/lib
/home/njh/perl5/perlbrew/perls/perl-5.10.1/lib/5.10.1/armv6l-linux-thread-multi
/home/njh/perl5/perlbrew/perls/perl-5.10.1/lib/5.10.1
/home/njh/perl5/perlbrew/perls/perl-5.10.1/lib/site_perl/5.10.1/armv6l-linux-thread-multi
/home/njh/perl5/perlbrew/perls/perl-5.10.1/lib/site_perl/5.10.1
.